Workbook
Name EmployeeChoices: '_Engine'!$Y$11:$Y$60
Name LeaveTypeChoices: '_Engine'!$AQ$7:$AQ$11
Name MonthChoices: '_Engine'!$AS$11:$AS$22
Name TeamChoices: '_Engine'!$AF$10:$AF$60
Name AllClosureRows: '_Closures'!$B$11:$AY$60
Name rngBookings_B: '_Dates'!$J$11:$J$1010
Name rngBookings_C: '_Dates'!$T$11:$T$1010
Name rngBookings_F: 'Bookings'!$G$11:$G$1010
Name rngBookings_D: 'Bookings'!$C$11:$C$1010
Name rngEngine_B: '_Engine'!$B$11:$B$1010
Name rngEngine_F: '_Engine'!$F$11:$F$1010
Name rngEngine_L: '_Engine'!$L$11:$L$1010
Name rngEngine_P: '_Engine'!$P$11:$P$1010
Name rngEngine_Q: '_Engine'!$Q$11:$Q$1010
Name rngEngine_R: '_Engine'!$R$11:$R$1010
Name rngEngine_S: '_Engine'!$S$11:$S$1010
Name rngEngine_M: '_Engine'!$M$11:$M$1010
Name rngEngine_U: '_Engine'!$U$11:$U$1010
Name rngEngine_V: '_Engine'!$V$11:$V$1010
Name rngAMStart: '_Dates'!$W$11:$W$1010
Name rngAMEnd: '_Dates'!$X$11:$X$1010
Name rngPMStart: '_Dates'!$Y$11:$Y$1010
Name rngPMEnd: '_Dates'!$Z$11:$Z$1010
Name rngAMActive: '_Dates'!$AC$11:$AC$1010
Name rngPMActive: '_Dates'!$AD$11:$AD$1010

Sheet Calendar
A1: =IF('_Engine'!B5="OK","TimeOff.Management / "&TEXT('_Engine'!B4,"mmmm yyyy")&" leave calendar","TimeOff.Management / Leave calendar") -> TimeOff.Management / July 2027 leave calendar
A4: =HYPERLINK("#'Calendar'!A1","Calendar") -> Calendar | B4: =HYPERLINK("#'Bookings'!A1","Add booking") -> Add booking | C4: =HYPERLINK("#'Balances'!A1","Balances") -> Balances | D4: =HYPERLINK("#'Team'!A1","Team") -> Team | H4: =HYPERLINK("#'Settings'!A1","Settings") -> Settings | L4: =HYPERLINK("#'Start here'!A1","Start here") -> Start here
A6: MONTH | B6: YEAR | C6: TEAM | D6: Change the month or team here. All 50 employee rows are available by scrolling; names and balances stay fixed on the left. | S6: Bookable allowance is after fixed days have been reserved. Pending leave does not reduce the balance.
A7: July | B7: 2027 | C7: All teams
A8: =IFERROR("Reporting through "&TEXT(Settings!B9,"dd mmm yyyy"),"Check reporting date") -> Reporting through 14 Jul 2027 | D8: =IF('_Engine'!$B$5<>"OK",'_Engine'!$B$5,IF('_Engine'!$B$6>0,"CHECK SHARED SETTINGS — calendar and balances paused.",IF('_Engine'!$B$9>0,"UNASSIGNED BOOKINGS — company totals are incomplete. Individual figures use identified records only.",IF('_Engine'!$B$8>0,"REVIEW REQUIRED — "&'_Engine'!$B$8&" row(s). Affected people are marked REVIEW; company totals are incomplete.","Ready · "&SUM('_Engine'!$X$11:$X$60)&" employees · "&COUNTIF('_Engine'!$A$11:$A$1010,1)&" / 1,000 booking rows used.")))) -> Ready · 6 employees · 20 / 1,000 booking rows used.
A10: =Settings!G7&" = "&Settings!F7&" · "&Settings!G8&" = "&Settings!F8&" · "&Settings!G9&" = "&Settings!F9&" · "&Settings!G10&" = "&Settings!F10&" · "&Settings!G11&" = "&Settings!F11&" | ? = pending · AM / PM = half-day · BH = fixed day off · — = not a working day" -> H = Holiday · S = Sick leave · U = Unpaid leave · T = Training · O = Other leave | ? = pending · AM / PM = half-day · BH = fixed day off · — = not a working day
A11: Employee | B11: Remaining to book | C11: Team | D11: =IF(OR('_Engine'!$B$5<>"OK",'_Engine'!$B$4=0),"",IF(MONTH('_Engine'!$B$4+0)=MONTH('_Engine'!$B$4),'_Engine'!$B$4+0,"")) -> 46569 | E11: =IF(OR('_Engine'!$B$5<>"OK",'_Engine'!$B$4=0),"",IF(MONTH('_Engine'!$B$4+1)=MONTH('_Engine'!$B$4),'_Engine'!$B$4+1,"")) -> 46570 | F11: =IF(OR('_Engine'!$B$5<>"OK",'_Engine'!$B$4=0),"",IF(MONTH('_Engine'!$B$4+2)=MONTH('_Engine'!$B$4),'_Engine'!$B$4+2,"")) -> 46571 | G11: =IF(OR('_Engine'!$B$5<>"OK",'_Engine'!$B$4=0),"",IF(MONTH('_Engine'!$B$4+3)=MONTH('_Engine'!$B$4),'_Engine'!$B$4+3,"")) -> 46572 | H11: =IF(OR('_Engine'!$B$5<>"OK",'_Engine'!$B$4=0),"",IF(MONTH('_Engine'!$B$4+4)=MONTH('_Engine'!$B$4),'_Engine'!$B$4+4,"")) -> 46573 | I11: =IF(OR('_Engine'!$B$5<>"OK",'_Engine'!$B$4=0),"",IF(MONTH('_Engine'!$B$4+5)=MONTH('_Engine'!$B$4),'_Engine'!$B$4+5,"")) -> 46574 | J11: =IF(OR('_Engine'!$B$5<>"OK",'_Engine'!$B$4=0),"",IF(MONTH('_Engine'!$B$4+6)=MONTH('_Engine'!$B$4),'_Engine'!$B$4+6,"")) -> 46575 | K11: =IF(OR('_Engine'!$B$5<>"OK",'_Engine'!$B$4=0),"",IF(MONTH('_Engine'!$B$4+7)=MONTH('_Engine'!$B$4),'_Engine'!$B$4+7,"")) -> 46576 | L11: =IF(OR('_Engine'!$B$5<>"OK",'_Engine'!$B$4=0),"",IF(MONTH('_Engine'!$B$4+8)=MONTH('_Engine'!$B$4),'_Engine'!$B$4+8,"")) -> 46577 | M11: =IF(OR('_Engine'!$B$5<>"OK",'_Engine'!$B$4=0),"",IF(MONTH('_Engine'!$B$4+9)=MONTH('_Engine'!$B$4),'_Engine'!$B$4+9,"")) -> 46578 | N11: =IF(OR('_Engine'!$B$5<>"OK",'_Engine'!$B$4=0),"",IF(MONTH('_Engine'!$B$4+10)=MONTH('_Engine'!$B$4),'_Engine'!$B$4+10,"")) -> 46579 | O11: =IF(OR('_Engine'!$B$5<>"OK",'_Engine'!$B$4=0),"",IF(MONTH('_Engine'!$B$4+11)=MONTH('_Engine'!$B$4),'_Engine'!$B$4+11,"")) -> 46580 | P11: =IF(OR('_Engine'!$B$5<>"OK",'_Engine'!$B$4=0),"",IF(MONTH('_Engine'!$B$4+12)=MONTH('_Engine'!$B$4),'_Engine'!$B$4+12,"")) -> 46581 | Q11: =IF(OR('_Engine'!$B$5<>"OK",'_Engine'!$B$4=0),"",IF(MONTH('_Engine'!$B$4+13)=MONTH('_Engine'!$B$4),'_Engine'!$B$4+13,"")) -> 46582 | R11: =IF(OR('_Engine'!$B$5<>"OK",'_Engine'!$B$4=0),"",IF(MONTH('_Engine'!$B$4+14)=MONTH('_Engine'!$B$4),'_Engine'!$B$4+14,"")) -> 46583 | S11: =IF(OR('_Engine'!$B$5<>"OK",'_Engine'!$B$4=0),"",IF(MONTH('_Engine'!$B$4+15)=MONTH('_Engine'!$B$4),'_Engine'!$B$4+15,"")) -> 46584 | T11: =IF(OR('_Engine'!$B$5<>"OK",'_Engine'!$B$4=0),"",IF(MONTH('_Engine'!$B$4+16)=MONTH('_Engine'!$B$4),'_Engine'!$B$4+16,"")) -> 46585 | U11: =IF(OR('_Engine'!$B$5<>"OK",'_Engine'!$B$4=0),"",IF(MONTH('_Engine'!$B$4+17)=MONTH('_Engine'!$B$4),'_Engine'!$B$4+17,"")) -> 46586 | V11: =IF(OR('_Engine'!$B$5<>"OK",'_Engine'!$B$4=0),"",IF(MONTH('_Engine'!$B$4+18)=MONTH('_Engine'!$B$4),'_Engine'!$B$4+18,"")) -> 46587 | W11: =IF(OR('_Engine'!$B$5<>"OK",'_Engine'!$B$4=0),"",IF(MONTH('_Engine'!$B$4+19)=MONTH('_Engine'!$B$4),'_Engine'!$B$4+19,"")) -> 46588 | X11: =IF(OR('_Engine'!$B$5<>"OK",'_Engine'!$B$4=0),"",IF(MONTH('_Engine'!$B$4+20)=MONTH('_Engine'!$B$4),'_Engine'!$B$4+20,"")) -> 46589 | Y11: =IF(OR('_Engine'!$B$5<>"OK",'_Engine'!$B$4=0),"",IF(MONTH('_Engine'!$B$4+21)=MONTH('_Engine'!$B$4),'_Engine'!$B$4+21,"")) -> 46590 | Z11: =IF(OR('_Engine'!$B$5<>"OK",'_Engine'!$B$4=0),"",IF(MONTH('_Engine'!$B$4+22)=MONTH('_Engine'!$B$4),'_Engine'!$B$4+22,"")) -> 46591 | AA11: =IF(OR('_Engine'!$B$5<>"OK",'_Engine'!$B$4=0),"",IF(MONTH('_Engine'!$B$4+23)=MONTH('_Engine'!$B$4),'_Engine'!$B$4+23,"")) -> 46592 | AB11: =IF(OR('_Engine'!$B$5<>"OK",'_Engine'!$B$4=0),"",IF(MONTH('_Engine'!$B$4+24)=MONTH('_Engine'!$B$4),'_Engine'!$B$4+24,"")) -> 46593 | AC11: =IF(OR('_Engine'!$B$5<>"OK",'_Engine'!$B$4=0),"",IF(MONTH('_Engine'!$B$4+25)=MONTH('_Engine'!$B$4),'_Engine'!$B$4+25,"")) -> 46594 | AD11: =IF(OR('_Engine'!$B$5<>"OK",'_Engine'!$B$4=0),"",IF(MONTH('_Engine'!$B$4+26)=MONTH('_Engine'!$B$4),'_Engine'!$B$4+26,"")) -> 46595 | AE11: =IF(OR('_Engine'!$B$5<>"OK",'_Engine'!$B$4=0),"",IF(MONTH('_Engine'!$B$4+27)=MONTH('_Engine'!$B$4),'_Engine'!$B$4+27,"")) -> 46596 | AF11: =IF(OR('_Engine'!$B$5<>"OK",'_Engine'!$B$4=0),"",IF(MONTH('_Engine'!$B$4+28)=MONTH('_Engine'!$B$4),'_Engine'!$B$4+28,"")) -> 46597 | AG11: =IF(OR('_Engine'!$B$5<>"OK",'_Engine'!$B$4=0),"",IF(MONTH('_Engine'!$B$4+29)=MONTH('_Engine'!$B$4),'_Engine'!$B$4+29,"")) -> 46598 | AH11: =IF(OR('_Engine'!$B$5<>"OK",'_Engine'!$B$4=0),"",IF(MONTH('_Engine'!$B$4+30)=MONTH('_Engine'!$B$4),'_Engine'!$B$4+30,"")) -> 46599
A12: =IF('_Engine'!AO12=0,"",IF(INDEX(Team!$B$11:$B$60,'_Engine'!AO12)="","[Unnamed]",INDEX(Team!$B$11:$B$60,'_Engine'!AO12))) -> Alex Morgan | B12: =IF('_Engine'!AO12=0,"",INDEX('_Engine'!$AN$11:$AN$60,'_Engine'!AO12)) -> 15 | C12: =IF('_Engine'!AO12=0,"",INDEX(Team!$C$11:$C$60,'_Engine'!AO12)) -> Product | D12: =IF(OR($A12="",D$11=""),"",IF(OR('_Engine'!$B$6>0,INDEX('_Engine'!$AM$11:$AM$60,'_Engine'!$AO12)<>"OK"),"!",IF(INDEX(Team!$H$11:$N$60,'_Engine'!$AO12,WEEKDAY(D$11,2))<>"Work","—",IF(COUNTIF(Settings!$F$18:$F$67,D$11)>0,"BH",IF('_Engine'!BC12+'_Engine'!BD12=0,"·",IF('_Engine'!BC12='_Engine'!BD12,INDEX(Settings!$G$7:$G$11,MOD('_Engine'!BC12,10))&IF('_Engine'!BC12>10,"?",""),IF('_Engine'!BC12=0,INDEX(Settings!$G$7:$G$11,MOD('_Engine'!BD12,10))&IF('_Engine'!BD12>10,"?","")&" PM",IF('_Engine'!BD12=0,INDEX(Settings!$G$7:$G$11,MOD('_Engine'!BC12,10))&IF('_Engine'!BC12>10,"?","")&" AM",INDEX(Settings!$G$7:$G$11,MOD('_Engine'!BC12,10))&IF('_Engine'!BC12>10,"?","")&" AM"&CHAR(10)&INDEX(Settings!$G$7:$G$11,MOD('_Engine'!BD12,10))&IF('_Engine'!BD12>10,"?","")&" PM")))))))) -> · | E12: =IF(OR($A12="",E$11=""),"",IF(OR('_Engine'!$B$6>0,INDEX('_Engine'!$AM$11:$AM$60,'_Engine'!$AO12)<>"OK"),"!",IF(INDEX(Team!$H$11:$N$60,'_Engine'!$AO12,WEEKDAY(E$11,2))<>"Work","—",IF(COUNTIF(Settings!$F$18:$F$67,E$11)>0,"BH",IF('_Engine'!BE12+'_Engine'!BF12=0,"·",IF('_Engine'!BE12='_Engine'!BF12,INDEX(Settings!$G$7:$G$11,MOD('_Engine'!BE12,10))&IF('_Engine'!BE12>10,"?",""),IF('_Engine'!BE12=0,INDEX(Settings!$G$7:$G$11,MOD('_Engine'!BF12,10))&IF('_Engine'!BF12>10,"?","")&" PM",IF('_Engine'!BF12=0,INDEX(Settings!$G$7:$G$11,MOD('_Engine'!BE12,10))&IF('_Engine'!BE12>10,"?","")&" AM",INDEX(Settings!$G$7:$G$11,MOD('_Engine'!BE12,10))&IF('_Engine'!BE12>10,"?","")&" AM"&CHAR(10)&INDEX(Settings!$G$7:$G$11,MOD('_Engine'!BF12,10))&IF('_Engine'!BF12>10,"?","")&" PM")))))))) -> · | F12: =IF(OR($A12="",F$11=""),"",IF(OR('_Engine'!$B$6>0,INDEX('_Engine'!$AM$11:$AM$60,'_Engine'!$AO12)<>"OK"),"!",IF(INDEX(Team!$H$11:$N$60,'_Engine'!$AO12,WEEKDAY(F$11,2))<>"Work","—",IF(COUNTIF(Settings!$F$18:$F$67,F$11)>0,"BH",IF('_Engine'!BG12+'_Engine'!BH12=0,"·",IF('_Engine'!BG12='_Engine'!BH12,INDEX(Settings!$G$7:$G$11,MOD('_Engine'!BG12,10))&IF('_Engine'!BG12>10,"?",""),IF('_Engine'!BG12=0,INDEX(Settings!$G$7:$G$11,MOD('_Engine'!BH12,10))&IF('_Engine'!BH12>10,"?","")&" PM",IF('_Engine'!BH12=0,INDEX(Settings!$G$7:$G$11,MOD('_Engine'!BG12,10))&IF('_Engine'!BG12>10,"?","")&" AM",INDEX(Settings!$G$7:$G$11,MOD('_Engine'!BG12,10))&IF('_Engine'!BG12>10,"?","")&" AM"&CHAR(10)&INDEX(Settings!$G$7:$G$11,MOD('_Engine'!BH12,10))&IF('_Engine'!BH12>10,"?","")&" PM")))))))) -> — | G12: =IF(OR($A12="",G$11=""),"",IF(OR('_Engine'!$B$6>0,INDEX('_Engine'!$AM$11:$AM$60,'_Engine'!$AO12)<>"OK"),"!",IF(INDEX(Team!$H$11:$N$60,'_Engine'!$AO12,WEEKDAY(G$11,2))<>"Work","—",IF(COUNTIF(Settings!$F$18:$F$67,G$11)>0,"BH",IF('_Engine'!BI12+'_Engine'!BJ12=0,"·",IF('_Engine'!BI12='_Engine'!BJ12,INDEX(Settings!$G$7:$G$11,MOD('_Engine'!BI12,10))&IF('_Engine'!BI12>10,"?",""),IF('_Engine'!BI12=0,INDEX(Settings!$G$7:$G$11,MOD('_Engine'!BJ12,10))&IF('_Engine'!BJ12>10,"?","")&" PM",IF('_Engine'!BJ12=0,INDEX(Settings!$G$7:$G$11,MOD('_Engine'!BI12,10))&IF('_Engine'!BI12>10,"?","")&" AM",INDEX(Settings!$G$7:$G$11,MOD('_Engine'!BI12,10))&IF('_Engine'!BI12>10,"?","")&" AM"&CHAR(10)&INDEX(Settings!$G$7:$G$11,MOD('_Engine'!BJ12,10))&IF('_Engine'!BJ12>10,"?","")&" PM")))))))) -> — | H12: =IF(OR($A12="",H$11=""),"",IF(OR('_Engine'!$B$6>0,INDEX('_Engine'!$AM$11:$AM$60,'_Engine'!$AO12)<>"OK"),"!",IF(INDEX(Team!$H$11:$N$60,'_Engine'!$AO12,WEEKDAY(H$11,2))<>"Work","—",IF(COUNTIF(Settings!$F$18:$F$67,H$11)>0,"BH",IF('_Engine'!BK12+'_Engine'!BL12=0,"·",IF('_Engine'!BK12='_Engine'!BL12,INDEX(Settings!$G$7:$G$11,MOD('_Engine'!BK12,10))&IF('_Engine'!BK12>10,"?",""),IF('_Engine'!BK12=0,INDEX(Settings!$G$7:$G$11,MOD('_Engine'!BL12,10))&IF('_Engine'!BL12>10,"?","")&" PM",IF('_Engine'!BL12=0,INDEX(Settings!$G$7:$G$11,MOD('_Engine'!BK12,10))&IF('_Engine'!BK12>10,"?","")&" AM",INDEX(Settings!$G$7:$G$11,MOD('_Engine'!BK12,10))&IF('_Engine'!BK12>10,"?","")&" AM"&CHAR(10)&INDEX(Settings!$G$7:$G$11,MOD('_Engine'!BL12,10))&IF('_Engine'!BL12>10,"?","")&" PM")))))))) -> · | I12: =IF(OR($A12="",I$11=""),"",IF(OR('_Engine'!$B$6>0,INDEX('_Engine'!$AM$11:$AM$60,'_Engine'!$AO12)<>"OK"),"!",IF(INDEX(Team!$H$11:$N$60,'_Engine'!$AO12,WEEKDAY(I$11,2))<>"Work","—",IF(COUNTIF(Settings!$F$18:$F$67,I$11)>0,"BH",IF('_Engine'!BM12+'_Engine'!BN12=0,"·",IF('_Engine'!BM12='_Engine'!BN12,INDEX(Settings!$G$7:$G$11,MOD('_Engine'!BM12,10))&IF('_Engine'!BM12>10,"?",""),IF('_Engine'!BM12=0,INDEX(Settings!$G$7:$G$11,MOD('_Engine'!BN12,10))&IF('_Engine'!BN12>10,"?","")&" PM",IF('_Engine'!BN12=0,INDEX(Settings!$G$7:$G$11,MOD('_Engine'!BM12,10))&IF('_Engine'!BM12>10,"?","")&" AM",INDEX(Settings!$G$7:$G$11,MOD('_Engine'!BM12,10))&IF('_Engine'!BM12>10,"?","")&" AM"&CHAR(10)&INDEX(Settings!$G$7:$G$11,MOD('_Engine'!BN12,10))&IF('_Engine'!BN12>10,"?","")&" PM")))))))) -> · | J12: =IF(OR($A12="",J$11=""),"",IF(OR('_Engine'!$B$6>0,INDEX('_Engine'!$AM$11:$AM$60,'_Engine'!$AO12)<>"OK"),"!",IF(INDEX(Team!$H$11:$N$60,'_Engine'!$AO12,WEEKDAY(J$11,2))<>"Work","—",IF(COUNTIF(Settings!$F$18:$F$67,J$11)>0,"BH",IF('_Engine'!BO12+'_Engine'!BP12=0,"·",IF('_Engine'!BO12='_Engine'!BP12,INDEX(Settings!$G$7:$G$11,MOD('_Engine'!BO12,10))&IF('_Engine'!BO12>10,"?",""),IF('_Engine'!BO12=0,INDEX(Settings!$G$7:$G$11,MOD('_Engine'!BP12,10))&IF('_Engine'!BP12>10,"?","")&" PM",IF('_Engine'!BP12=0,INDEX(Settings!$G$7:$G$11,MOD('_Engine'!BO12,10))&IF('_Engine'!BO12>10,"?","")&" AM",INDEX(Settings!$G$7:$G$11,MOD('_Engine'!BO12,10))&IF('_Engine'!BO12>10,"?","")&" AM"&CHAR(10)&INDEX(Settings!$G$7:$G$11,MOD('_Engine'!BP12,10))&IF('_Engine'!BP12>10,"?","")&" PM")))))))) -> · | K12: =IF(OR($A12="",K$11=""),"",IF(OR('_Engine'!$B$6>0,INDEX('_Engine'!$AM$11:$AM$60,'_Engine'!$AO12)<>"OK"),"!",IF(INDEX(Team!$H$11:$N$60,'_Engine'!$AO12,WEEKDAY(K$11,2))<>"Work","—",IF(COUNTIF(Settings!$F$18:$F$67,K$11)>0,"BH",IF('_Engine'!BQ12+'_Engine'!BR12=0,"·",IF('_Engine'!BQ12='_Engine'!BR12,INDEX(Settings!$G$7:$G$11,MOD('_Engine'!BQ12,10))&IF('_Engine'!BQ12>10,"?",""),IF('_Engine'!BQ12=0,INDEX(Settings!$G$7:$G$11,MOD('_Engine'!BR12,10))&IF('_Engine'!BR12>10,"?","")&" PM",IF('_Engine'!BR12=0,INDEX(Settings!$G$7:$G$11,MOD('_Engine'!BQ12,10))&IF('_Engine'!BQ12>10,"?","")&" AM",INDEX(Settings!$G$7:$G$11,MOD('_Engine'!BQ12,10))&IF('_Engine'!BQ12>10,"?","")&" AM"&CHAR(10)&INDEX(Settings!$G$7:$G$11,MOD('_Engine'!BR12,10))&IF('_Engine'!BR12>10,"?","")&" PM")))))))) -> · | L12: =IF(OR($A12="",L$11=""),"",IF(OR('_Engine'!$B$6>0,INDEX('_Engine'!$AM$11:$AM$60,'_Engine'!$AO12)<>"OK"),"!",IF(INDEX(Team!$H$11:$N$60,'_Engine'!$AO12,WEEKDAY(L$11,2))<>"Work","—",IF(COUNTIF(Settings!$F$18:$F$67,L$11)>0,"BH",IF('_Engine'!BS12+'_Engine'!BT12=0,"·",IF('_Engine'!BS12='_Engine'!BT12,INDEX(Settings!$G$7:$G$11,MOD('_Engine'!BS12,10))&IF('_Engine'!BS12>10,"?",""),IF('_Engine'!BS12=0,INDEX(Settings!$G$7:$G$11,MOD('_Engine'!BT12,10))&IF('_Engine'!BT12>10,"?","")&" PM",IF('_Engine'!BT12=0,INDEX(Settings!$G$7:$G$11,MOD('_Engine'!BS12,10))&IF('_Engine'!BS12>10,"?","")&" AM",INDEX(Settings!$G$7:$G$11,MOD('_Engine'!BS12,10))&IF('_Engine'!BS12>10,"?","")&" AM"&CHAR(10)&INDEX(Settings!$G$7:$G$11,MOD('_Engine'!BT12,10))&IF('_Engine'!BT12>10,"?","")&" PM")))))))) -> · | M12: =IF(OR($A12="",M$11=""),"",IF(OR('_Engine'!$B$6>0,INDEX('_Engine'!$AM$11:$AM$60,'_Engine'!$AO12)<>"OK"),"!",IF(INDEX(Team!$H$11:$N$60,'_Engine'!$AO12,WEEKDAY(M$11,2))<>"Work","—",IF(COUNTIF(Settings!$F$18:$F$67,M$11)>0,"BH",IF('_Engine'!BU12+'_Engine'!BV12=0,"·",IF('_Engine'!BU12='_Engine'!BV12,INDEX(Settings!$G$7:$G$11,MOD('_Engine'!BU12,10))&IF('_Engine'!BU12>10,"?",""),IF('_Engine'!BU12=0,INDEX(Settings!$G$7:$G$11,MOD('_Engine'!BV12,10))&IF('_Engine'!BV12>10,"?","")&" PM",IF('_Engine'!BV12=0,INDEX(Settings!$G$7:$G$11,MOD('_Engine'!BU12,10))&IF('_Engine'!BU12>10,"?","")&" AM",INDEX(Settings!$G$7:$G$11,MOD('_Engine'!BU12,10))&IF('_Engine'!BU12>10,"?","")&" AM"&CHAR(10)&INDEX(Settings!$G$7:$G$11,MOD('_Engine'!BV12,10))&IF('_Engine'!BV12>10,"?","")&" PM")))))))) -> — | N12: =IF(OR($A12="",N$11=""),"",IF(OR('_Engine'!$B$6>0,INDEX('_Engine'!$AM$11:$AM$60,'_Engine'!$AO12)<>"OK"),"!",IF(INDEX(Team!$H$11:$N$60,'_Engine'!$AO12,WEEKDAY(N$11,2))<>"Work","—",IF(COUNTIF(Settings!$F$18:$F$67,N$11)>0,"BH",IF('_Engine'!BW12+'_Engine'!BX12=0,"·",IF('_Engine'!BW12='_Engine'!BX12,INDEX(Settings!$G$7:$G$11,MOD('_Engine'!BW12,10))&IF('_Engine'!BW12>10,"?",""),IF('_Engine'!BW12=0,INDEX(Settings!$G$7:$G$11,MOD('_Engine'!BX12,10))&IF('_Engine'!BX12>10,"?","")&" PM",IF('_Engine'!BX12=0,INDEX(Settings!$G$7:$G$11,MOD('_Engine'!BW12,10))&IF('_Engine'!BW12>10,"?","")&" AM",INDEX(Settings!$G$7:$G$11,MOD('_Engine'!BW12,10))&IF('_Engine'!BW12>10,"?","")&" AM"&CHAR(10)&INDEX(Settings!$G$7:$G$11,MOD('_Engine'!BX12,10))&IF('_Engine'!BX12>10,"?","")&" PM")))))))) -> — | O12: =IF(OR($A12="",O$11=""),"",IF(OR('_Engine'!$B$6>0,INDEX('_Engine'!$AM$11:$AM$60,'_Engine'!$AO12)<>"OK"),"!",IF(INDEX(Team!$H$11:$N$60,'_Engine'!$AO12,WEEKDAY(O$11,2))<>"Work","—",IF(COUNTIF(Settings!$F$18:$F$67,O$11)>0,"BH",IF('_Engine'!BY12+'_Engine'!BZ12=0,"·",IF('_Engine'!BY12='_Engine'!BZ12,INDEX(Settings!$G$7:$G$11,MOD('_Engine'!BY12,10))&IF('_Engine'!BY12>10,"?",""),IF('_Engine'!BY12=0,INDEX(Settings!$G$7:$G$11,MOD('_Engine'!BZ12,10))&IF('_Engine'!BZ12>10,"?","")&" PM",IF('_Engine'!BZ12=0,INDEX(Settings!$G$7:$G$11,MOD('_Engine'!BY12,10))&IF('_Engine'!BY12>10,"?","")&" AM",INDEX(Settings!$G$7:$G$11,MOD('_Engine'!BY12,10))&IF('_Engine'!BY12>10,"?","")&" AM"&CHAR(10)&INDEX(Settings!$G$7:$G$11,MOD('_Engine'!BZ12,10))&IF('_Engine'!BZ12>10,"?","")&" PM")))))))) -> H | P12: =IF(OR($A12="",P$11=""),"",IF(OR('_Engine'!$B$6>0,INDEX('_Engine'!$AM$11:$AM$60,'_Engine'!$AO12)<>"OK"),"!",IF(INDEX(Team!$H$11:$N$60,'_Engine'!$AO12,WEEKDAY(P$11,2))<>"Work","—",IF(COUNTIF(Settings!$F$18:$F$67,P$11)>0,"BH",IF('_Engine'!CA12+'_Engine'!CB12=0,"·",IF('_Engine'!CA12='_Engine'!CB12,INDEX(Settings!$G$7:$G$11,MOD('_Engine'!CA12,10))&IF('_Engine'!CA12>10,"?",""),IF('_Engine'!CA12=0,INDEX(Settings!$G$7:$G$11,MOD('_Engine'!CB12,10))&IF('_Engine'!CB12>10,"?","")&" PM",IF('_Engine'!CB12=0,INDEX(Settings!$G$7:$G$11,MOD('_Engine'!CA12,10))&IF('_Engine'!CA12>10,"?","")&" AM",INDEX(Settings!$G$7:$G$11,MOD('_Engine'!CA12,10))&IF('_Engine'!CA12>10,"?","")&" AM"&CHAR(10)&INDEX(Settings!$G$7:$G$11,MOD('_Engine'!CB12,10))&IF('_Engine'!CB12>10,"?","")&" PM")))))))) -> H | Q12: =IF(OR($A12="",Q$11=""),"",IF(OR('_Engine'!$B$6>0,INDEX('_Engine'!$AM$11:$AM$60,'_Engine'!$AO12)<>"OK"),"!",IF(INDEX(Team!$H$11:$N$60,'_Engine'!$AO12,WEEKDAY(Q$11,2))<>"Work","—",IF(COUNTIF(Settings!$F$18:$F$67,Q$11)>0,"BH",IF('_Engine'!CC12+'_Engine'!CD12=0,"·",IF('_Engine'!CC12='_Engine'!CD12,INDEX(Settings!$G$7:$G$11,MOD('_Engine'!CC12,10))&IF('_Engine'!CC12>10,"?",""),IF('_Engine'!CC12=0,INDEX(Settings!$G$7:$G$11,MOD('_Engine'!CD12,10))&IF('_Engine'!CD12>10,"?","")&" PM",IF('_Engine'!CD12=0,INDEX(Settings!$G$7:$G$11,MOD('_Engine'!CC12,10))&IF('_Engine'!CC12>10,"?","")&" AM",INDEX(Settings!$G$7:$G$11,MOD('_Engine'!CC12,10))&IF('_Engine'!CC12>10,"?","")&" AM"&CHAR(10)&INDEX(Settings!$G$7:$G$11,MOD('_Engine'!CD12,10))&IF('_Engine'!CD12>10,"?","")&" PM")))))))) -> H | R12: =IF(OR($A12="",R$11=""),"",IF(OR('_Engine'!$B$6>0,INDEX('_Engine'!$AM$11:$AM$60,'_Engine'!$AO12)<>"OK"),"!",IF(INDEX(Team!$H$11:$N$60,'_Engine'!$AO12,WEEKDAY(R$11,2))<>"Work","—",IF(COUNTIF(Settings!$F$18:$F$67,R$11)>0,"BH",IF('_Engine'!CE12+'_Engine'!CF12=0,"·",IF('_Engine'!CE12='_Engine'!CF12,INDEX(Settings!$G$7:$G$11,MOD('_Engine'!CE12,10))&IF('_Engine'!CE12>10,"?",""),IF('_Engine'!CE12=0,INDEX(Settings!$G$7:$G$11,MOD('_Engine'!CF12,10))&IF('_Engine'!CF12>10,"?","")&" PM",IF('_Engine'!CF12=0,INDEX(Settings!$G$7:$G$11,MOD('_Engine'!CE12,10))&IF('_Engine'!CE12>10,"?","")&" AM",INDEX(Settings!$G$7:$G$11,MOD('_Engine'!CE12,10))&IF('_Engine'!CE12>10,"?","")&" AM"&CHAR(10)&INDEX(Settings!$G$7:$G$11,MOD('_Engine'!CF12,10))&IF('_Engine'!CF12>10,"?","")&" PM")))))))) -> H | S12: =IF(OR($A12="",S$11=""),"",IF(OR('_Engine'!$B$6>0,INDEX('_Engine'!$AM$11:$AM$60,'_Engine'!$AO12)<>"OK"),"!",IF(INDEX(Team!$H$11:$N$60,'_Engine'!$AO12,WEEKDAY(S$11,2))<>"Work","—",IF(COUNTIF(Settings!$F$18:$F$67,S$11)>0,"BH",IF('_Engine'!CG12+'_Engine'!CH12=0,"·",IF('_Engine'!CG12='_Engine'!CH12,INDEX(Settings!$G$7:$G$11,MOD('_Engine'!CG12,10))&IF('_Engine'!CG12>10,"?",""),IF('_Engine'!CG12=0,INDEX(Settings!$G$7:$G$11,MOD('_Engine'!CH12,10))&IF('_Engine'!CH12>10,"?","")&" PM",IF('_Engine'!CH12=0,INDEX(Settings!$G$7:$G$11,MOD('_Engine'!CG12,10))&IF('_Engine'!CG12>10,"?","")&" AM",INDEX(Settings!$G$7:$G$11,MOD('_Engine'!CG12,10))&IF('_Engine'!CG12>10,"?","")&" AM"&CHAR(10)&INDEX(Settings!$G$7:$G$11,MOD('_Engine'!CH12,10))&IF('_Engine'!CH12>10,"?","")&" PM")))))))) -> H | T12: =IF(OR($A12="",T$11=""),"",IF(OR('_Engine'!$B$6>0,INDEX('_Engine'!$AM$11:$AM$60,'_Engine'!$AO12)<>"OK"),"!",IF(INDEX(Team!$H$11:$N$60,'_Engine'!$AO12,WEEKDAY(T$11,2))<>"Work","—",IF(COUNTIF(Settings!$F$18:$F$67,T$11)>0,"BH",IF('_Engine'!CI12+'_Engine'!CJ12=0,"·",IF('_Engine'!CI12='_Engine'!CJ12,INDEX(Settings!$G$7:$G$11,MOD('_Engine'!CI12,10))&IF('_Engine'!CI12>10,"?",""),IF('_Engine'!CI12=0,INDEX(Settings!$G$7:$G$11,MOD('_Engine'!CJ12,10))&IF('_Engine'!CJ12>10,"?","")&" PM",IF('_Engine'!CJ12=0,INDEX(Settings!$G$7:$G$11,MOD('_Engine'!CI12,10))&IF('_Engine'!CI12>10,"?","")&" AM",INDEX(Settings!$G$7:$G$11,MOD('_Engine'!CI12,10))&IF('_Engine'!CI12>10,"?","")&" AM"&CHAR(10)&INDEX(Settings!$G$7:$G$11,MOD('_Engine'!CJ12,10))&IF('_Engine'!CJ12>10,"?","")&" PM")))))))) -> — | U12: =IF(OR($A12="",U$11=""),"",IF(OR('_Engine'!$B$6>0,INDEX('_Engine'!$AM$11:$AM$60,'_Engine'!$AO12)<>"OK"),"!",IF(INDEX(Team!$H$11:$N$60,'_Engine'!$AO12,WEEKDAY(U$11,2))<>"Work","—",IF(COUNTIF(Settings!$F$18:$F$67,U$11)>0,"BH",IF('_Engine'!CK12+'_Engine'!CL12=0,"·",IF('_Engine'!CK12='_Engine'!CL12,INDEX(Settings!$G$7:$G$11,MOD('_Engine'!CK12,10))&IF('_Engine'!CK12>10,"?",""),IF('_Engine'!CK12=0,INDEX(Settings!$G$7:$G$11,MOD('_Engine'!CL12,10))&IF('_Engine'!CL12>10,"?","")&" PM",IF('_Engine'!CL12=0,INDEX(Settings!$G$7:$G$11,MOD('_Engine'!CK12,10))&IF('_Engine'!CK12>10,"?","")&" AM",INDEX(Settings!$G$7:$G$11,MOD('_Engine'!CK12,10))&IF('_Engine'!CK12>10,"?","")&" AM"&CHAR(10)&INDEX(Settings!$G$7:$G$11,MOD('_Engine'!CL12,10))&IF('_Engine'!CL12>10,"?","")&" PM")))))))) -> — | V12: =IF(OR($A12="",V$11=""),"",IF(OR('_Engine'!$B$6>0,INDEX('_Engine'!$AM$11:$AM$60,'_Engine'!$AO12)<>"OK"),"!",IF(INDEX(Team!$H$11:$N$60,'_Engine'!$AO12,WEEKDAY(V$11,2))<>"Work","—",IF(COUNTIF(Settings!$F$18:$F$67,V$11)>0,"BH",IF('_Engine'!CM12+'_Engine'!CN12=0,"·",IF('_Engine'!CM12='_Engine'!CN12,INDEX(Settings!$G$7:$G$11,MOD('_Engine'!CM12,10))&IF('_Engine'!CM12>10,"?",""),IF('_Engine'!CM12=0,INDEX(Settings!$G$7:$G$11,MOD('_Engine'!CN12,10))&IF('_Engine'!CN12>10,"?","")&" PM",IF('_Engine'!CN12=0,INDEX(Settings!$G$7:$G$11,MOD('_Engine'!CM12,10))&IF('_Engine'!CM12>10,"?","")&" AM",INDEX(Settings!$G$7:$G$11,MOD('_Engine'!CM12,10))&IF('_Engine'!CM12>10,"?","")&" AM"&CHAR(10)&INDEX(Settings!$G$7:$G$11,MOD('_Engine'!CN12,10))&IF('_Engine'!CN12>10,"?","")&" PM")))))))) -> · | W12: =IF(OR($A12="",W$11=""),"",IF(OR('_Engine'!$B$6>0,INDEX('_Engine'!$AM$11:$AM$60,'_Engine'!$AO12)<>"OK"),"!",IF(INDEX(Team!$H$11:$N$60,'_Engine'!$AO12,WEEKDAY(W$11,2))<>"Work","—",IF(COUNTIF(Settings!$F$18:$F$67,W$11)>0,"BH",IF('_Engine'!CO12+'_Engine'!CP12=0,"·",IF('_Engine'!CO12='_Engine'!CP12,INDEX(Settings!$G$7:$G$11,MOD('_Engine'!CO12,10))&IF('_Engine'!CO12>10,"?",""),IF('_Engine'!CO12=0,INDEX(Settings!$G$7:$G$11,MOD('_Engine'!CP12,10))&IF('_Engine'!CP12>10,"?","")&" PM",IF('_Engine'!CP12=0,INDEX(Settings!$G$7:$G$11,MOD('_Engine'!CO12,10))&IF('_Engine'!CO12>10,"?","")&" AM",INDEX(Settings!$G$7:$G$11,MOD('_Engine'!CO12,10))&IF('_Engine'!CO12>10,"?","")&" AM"&CHAR(10)&INDEX(Settings!$G$7:$G$11,MOD('_Engine'!CP12,10))&IF('_Engine'!CP12>10,"?","")&" PM")))))))) -> · | X12: =IF(OR($A12="",X$11=""),"",IF(OR('_Engine'!$B$6>0,INDEX('_Engine'!$AM$11:$AM$60,'_Engine'!$AO12)<>"OK"),"!",IF(INDEX(Team!$H$11:$N$60,'_Engine'!$AO12,WEEKDAY(X$11,2))<>"Work","—",IF(COUNTIF(Settings!$F$18:$F$67,X$11)>0,"BH",IF('_Engine'!CQ12+'_Engine'!CR12=0,"·",IF('_Engine'!CQ12='_Engine'!CR12,INDEX(Settings!$G$7:$G$11,MOD('_Engine'!CQ12,10))&IF('_Engine'!CQ12>10,"?",""),IF('_Engine'!CQ12=0,INDEX(Settings!$G$7:$G$11,MOD('_Engine'!CR12,10))&IF('_Engine'!CR12>10,"?","")&" PM",IF('_Engine'!CR12=0,INDEX(Settings!$G$7:$G$11,MOD('_Engine'!CQ12,10))&IF('_Engine'!CQ12>10,"?","")&" AM",INDEX(Settings!$G$7:$G$11,MOD('_Engine'!CQ12,10))&IF('_Engine'!CQ12>10,"?","")&" AM"&CHAR(10)&INDEX(Settings!$G$7:$G$11,MOD('_Engine'!CR12,10))&IF('_Engine'!CR12>10,"?","")&" PM")))))))) -> · | Y12: =IF(OR($A12="",Y$11=""),"",IF(OR('_Engine'!$B$6>0,INDEX('_Engine'!$AM$11:$AM$60,'_Engine'!$AO12)<>"OK"),"!",IF(INDEX(Team!$H$11:$N$60,'_Engine'!$AO12,WEEKDAY(Y$11,2))<>"Work","—",IF(COUNTIF(Settings!$F$18:$F$67,Y$11)>0,"BH",IF('_Engine'!CS12+'_Engine'!CT12=0,"·",IF('_Engine'!CS12='_Engine'!CT12,INDEX(Settings!$G$7:$G$11,MOD('_Engine'!CS12,10))&IF('_Engine'!CS12>10,"?",""),IF('_Engine'!CS12=0,INDEX(Settings!$G$7:$G$11,MOD('_Engine'!CT12,10))&IF('_Engine'!CT12>10,"?","")&" PM",IF('_Engine'!CT12=0,INDEX(Settings!$G$7:$G$11,MOD('_Engine'!CS12,10))&IF('_Engine'!CS12>10,"?","")&" AM",INDEX(Settings!$G$7:$G$11,MOD('_Engine'!CS12,10))&IF('_Engine'!CS12>10,"?","")&" AM"&CHAR(10)&INDEX(Settings!$G$7:$G$11,MOD('_Engine'!CT12,10))&IF('_Engine'!CT12>10,"?","")&" PM")))))))) -> · | Z12: =IF(OR($A12="",Z$11=""),"",IF(OR('_Engine'!$B$6>0,INDEX('_Engine'!$AM$11:$AM$60,'_Engine'!$AO12)<>"OK"),"!",IF(INDEX(Team!$H$11:$N$60,'_Engine'!$AO12,WEEKDAY(Z$11,2))<>"Work","—",IF(COUNTIF(Settings!$F$18:$F$67,Z$11)>0,"BH",IF('_Engine'!CU12+'_Engine'!CV12=0,"·",IF('_Engine'!CU12='_Engine'!CV12,INDEX(Settings!$G$7:$G$11,MOD('_Engine'!CU12,10))&IF('_Engine'!CU12>10,"?",""),IF('_Engine'!CU12=0,INDEX(Settings!$G$7:$G$11,MOD('_Engine'!CV12,10))&IF('_Engine'!CV12>10,"?","")&" PM",IF('_Engine'!CV12=0,INDEX(Settings!$G$7:$G$11,MOD('_Engine'!CU12,10))&IF('_Engine'!CU12>10,"?","")&" AM",INDEX(Settings!$G$7:$G$11,MOD('_Engine'!CU12,10))&IF('_Engine'!CU12>10,"?","")&" AM"&CHAR(10)&INDEX(Settings!$G$7:$G$11,MOD('_Engine'!CV12,10))&IF('_Engine'!CV12>10,"?","")&" PM")))))))) -> BH | AA12: =IF(OR($A12="",AA$11=""),"",IF(OR('_Engine'!$B$6>0,INDEX('_Engine'!$AM$11:$AM$60,'_Engine'!$AO12)<>"OK"),"!",IF(INDEX(Team!$H$11:$N$60,'_Engine'!$AO12,WEEKDAY(AA$11,2))<>"Work","—",IF(COUNTIF(Settings!$F$18:$F$67,AA$11)>0,"BH",IF('_Engine'!CW12+'_Engine'!CX12=0,"·",IF('_Engine'!CW12='_Engine'!CX12,INDEX(Settings!$G$7:$G$11,MOD('_Engine'!CW12,10))&IF('_Engine'!CW12>10,"?",""),IF('_Engine'!CW12=0,INDEX(Settings!$G$7:$G$11,MOD('_Engine'!CX12,10))&IF('_Engine'!CX12>10,"?","")&" PM",IF('_Engine'!CX12=0,INDEX(Settings!$G$7:$G$11,MOD('_Engine'!CW12,10))&IF('_Engine'!CW12>10,"?","")&" AM",INDEX(Settings!$G$7:$G$11,MOD('_Engine'!CW12,10))&IF('_Engine'!CW12>10,"?","")&" AM"&CHAR(10)&INDEX(Settings!$G$7:$G$11,MOD('_Engine'!CX12,10))&IF('_Engine'!CX12>10,"?","")&" PM")))))))) -> — | AB12: =IF(OR($A12="",AB$11=""),"",IF(OR('_Engine'!$B$6>0,INDEX('_Engine'!$AM$11:$AM$60,'_Engine'!$AO12)<>"OK"),"!",IF(INDEX(Team!$H$11:$N$60,'_Engine'!$AO12,WEEKDAY(AB$11,2))<>"Work","—",IF(COUNTIF(Settings!$F$18:$F$67,AB$11)>0,"BH",IF('_Engine'!CY12+'_Engine'!CZ12=0,"·",IF('_Engine'!CY12='_Engine'!CZ12,INDEX(Settings!$G$7:$G$11,MOD('_Engine'!CY12,10))&IF('_Engine'!CY12>10,"?",""),IF('_Engine'!CY12=0,INDEX(Settings!$G$7:$G$11,MOD('_Engine'!CZ12,10))&IF('_Engine'!CZ12>10,"?","")&" PM",IF('_Engine'!CZ12=0,INDEX(Settings!$G$7:$G$11,MOD('_Engine'!CY12,10))&IF('_Engine'!CY12>10,"?","")&" AM",INDEX(Settings!$G$7:$G$11,MOD('_Engine'!CY12,10))&IF('_Engine'!CY12>10,"?","")&" AM"&CHAR(10)&INDEX(Settings!$G$7:$G$11,MOD('_Engine'!CZ12,10))&IF('_Engine'!CZ12>10,"?","")&" PM")))))))) -> — | AC12: =IF(OR($A12="",AC$11=""),"",IF(OR('_Engine'!$B$6>0,INDEX('_Engine'!$AM$11:$AM$60,'_Engine'!$AO12)<>"OK"),"!",IF(INDEX(Team!$H$11:$N$60,'_Engine'!$AO12,WEEKDAY(AC$11,2))<>"Work","—",IF(COUNTIF(Settings!$F$18:$F$67,AC$11)>0,"BH",IF('_Engine'!DA12+'_Engine'!DB12=0,"·",IF('_Engine'!DA12='_Engine'!DB12,INDEX(Settings!$G$7:$G$11,MOD('_Engine'!DA12,10))&IF('_Engine'!DA12>10,"?",""),IF('_Engine'!DA12=0,INDEX(Settings!$G$7:$G$11,MOD('_Engine'!DB12,10))&IF('_Engine'!DB12>10,"?","")&" PM",IF('_Engine'!DB12=0,INDEX(Settings!$G$7:$G$11,MOD('_Engine'!DA12,10))&IF('_Engine'!DA12>10,"?","")&" AM",INDEX(Settings!$G$7:$G$11,MOD('_Engine'!DA12,10))&IF('_Engine'!DA12>10,"?","")&" AM"&CHAR(10)&INDEX(Settings!$G$7:$G$11,MOD('_Engine'!DB12,10))&IF('_Engine'!DB12>10,"?","")&" PM")))))))) -> · | AD12: =IF(OR($A12="",AD$11=""),"",IF(OR('_Engine'!$B$6>0,INDEX('_Engine'!$AM$11:$AM$60,'_Engine'!$AO12)<>"OK"),"!",IF(INDEX(Team!$H$11:$N$60,'_Engine'!$AO12,WEEKDAY(AD$11,2))<>"Work","—",IF(COUNTIF(Settings!$F$18:$F$67,AD$11)>0,"BH",IF('_Engine'!DC12+'_Engine'!DD12=0,"·",IF('_Engine'!DC12='_Engine'!DD12,INDEX(Settings!$G$7:$G$11,MOD('_Engine'!DC12,10))&IF('_Engine'!DC12>10,"?",""),IF('_Engine'!DC12=0,INDEX(Settings!$G$7:$G$11,MOD('_Engine'!DD12,10))&IF('_Engine'!DD12>10,"?","")&" PM",IF('_Engine'!DD12=0,INDEX(Settings!$G$7:$G$11,MOD('_Engine'!DC12,10))&IF('_Engine'!DC12>10,"?","")&" AM",INDEX(Settings!$G$7:$G$11,MOD('_Engine'!DC12,10))&IF('_Engine'!DC12>10,"?","")&" AM"&CHAR(10)&INDEX(Settings!$G$7:$G$11,MOD('_Engine'!DD12,10))&IF('_Engine'!DD12>10,"?","")&" PM")))))))) -> · | AE12: =IF(OR($A12="",AE$11=""),"",IF(OR('_Engine'!$B$6>0,INDEX('_Engine'!$AM$11:$AM$60,'_Engine'!$AO12)<>"OK"),"!",IF(INDEX(Team!$H$11:$N$60,'_Engine'!$AO12,WEEKDAY(AE$11,2))<>"Work","—",IF(COUNTIF(Settings!$F$18:$F$67,AE$11)>0,"BH",IF('_Engine'!DE12+'_Engine'!DF12=0,"·",IF('_Engine'!DE12='_Engine'!DF12,INDEX(Settings!$G$7:$G$11,MOD('_Engine'!DE12,10))&IF('_Engine'!DE12>10,"?",""),IF('_Engine'!DE12=0,INDEX(Settings!$G$7:$G$11,MOD('_Engine'!DF12,10))&IF('_Engine'!DF12>10,"?","")&" PM",IF('_Engine'!DF12=0,INDEX(Settings!$G$7:$G$11,MOD('_Engine'!DE12,10))&IF('_Engine'!DE12>10,"?","")&" AM",INDEX(Settings!$G$7:$G$11,MOD('_Engine'!DE12,10))&IF('_Engine'!DE12>10,"?","")&" AM"&CHAR(10)&INDEX(Settings!$G$7:$G$11,MOD('_Engine'!DF12,10))&IF('_Engine'!DF12>10,"?","")&" PM")))))))) -> · | AF12: =IF(OR($A12="",AF$11=""),"",IF(OR('_Engine'!$B$6>0,INDEX('_Engine'!$AM$11:$AM$60,'_Engine'!$AO12)<>"OK"),"!",IF(INDEX(Team!$H$11:$N$60,'_Engine'!$AO12,WEEKDAY(AF$11,2))<>"Work","—",IF(COUNTIF(Settings!$F$18:$F$67,AF$11)>0,"BH",IF('_Engine'!DG12+'_Engine'!DH12=0,"·",IF('_Engine'!DG12='_Engine'!DH12,INDEX(Settings!$G$7:$G$11,MOD('_Engine'!DG12,10))&IF('_Engine'!DG12>10,"?",""),IF('_Engine'!DG12=0,INDEX(Settings!$G$7:$G$11,MOD('_Engine'!DH12,10))&IF('_Engine'!DH12>10,"?","")&" PM",IF('_Engine'!DH12=0,INDEX(Settings!$G$7:$G$11,MOD('_Engine'!DG12,10))&IF('_Engine'!DG12>10,"?","")&" AM",INDEX(Settings!$G$7:$G$11,MOD('_Engine'!DG12,10))&IF('_Engine'!DG12>10,"?","")&" AM"&CHAR(10)&INDEX(Settings!$G$7:$G$11,MOD('_Engine'!DH12,10))&IF('_Engine'!DH12>10,"?","")&" PM")))))))) -> · | AG12: =IF(OR($A12="",AG$11=""),"",IF(OR('_Engine'!$B$6>0,INDEX('_Engine'!$AM$11:$AM$60,'_Engine'!$AO12)<>"OK"),"!",IF(INDEX(Team!$H$11:$N$60,'_Engine'!$AO12,WEEKDAY(AG$11,2))<>"Work","—",IF(COUNTIF(Settings!$F$18:$F$67,AG$11)>0,"BH",IF('_Engine'!DI12+'_Engine'!DJ12=0,"·",IF('_Engine'!DI12='_Engine'!DJ12,INDEX(Settings!$G$7:$G$11,MOD('_Engine'!DI12,10))&IF('_Engine'!DI12>10,"?",""),IF('_Engine'!DI12=0,INDEX(Settings!$G$7:$G$11,MOD('_Engine'!DJ12,10))&IF('_Engine'!DJ12>10,"?","")&" PM",IF('_Engine'!DJ12=0,INDEX(Settings!$G$7:$G$11,MOD('_Engine'!DI12,10))&IF('_Engine'!DI12>10,"?","")&" AM",INDEX(Settings!$G$7:$G$11,MOD('_Engine'!DI12,10))&IF('_Engine'!DI12>10,"?","")&" AM"&CHAR(10)&INDEX(Settings!$G$7:$G$11,MOD('_Engine'!DJ12,10))&IF('_Engine'!DJ12>10,"?","")&" PM")))))))) -> · | AH12: =IF(OR($A12="",AH$11=""),"",IF(OR('_Engine'!$B$6>0,INDEX('_Engine'!$AM$11:$AM$60,'_Engine'!$AO12)<>"OK"),"!",IF(INDEX(Team!$H$11:$N$60,'_Engine'!$AO12,WEEKDAY(AH$11,2))<>"Work","—",IF(COUNTIF(Settings!$F$18:$F$67,AH$11)>0,"BH",IF('_Engine'!DK12+'_Engine'!DL12=0,"·",IF('_Engine'!DK12='_Engine'!DL12,INDEX(Settings!$G$7:$G$11,MOD('_Engine'!DK12,10))&IF('_Engine'!DK12>10,"?",""),IF('_Engine'!DK12=0,INDEX(Settings!$G$7:$G$11,MOD('_Engine'!DL12,10))&IF('_Engine'!DL12>10,"?","")&" PM",IF('_Engine'!DL12=0,INDEX(Settings!$G$7:$G$11,MOD('_Engine'!DK12,10))&IF('_Engine'!DK12>10,"?","")&" AM",INDEX(Settings!$G$7:$G$11,MOD('_Engine'!DK12,10))&IF('_Engine'!DK12>10,"?","")&" AM"&CHAR(10)&INDEX(Settings!$G$7:$G$11,MOD('_Engine'!DL12,10))&IF('_Engine'!DL12>10,"?","")&" PM")))))))) -> —
A13: =IF('_Engine'!AO13=0,"",IF(INDEX(Team!$B$11:$B$60,'_Engine'!AO13)="","[Unnamed]",INDEX(Team!$B$11:$B$60,'_Engine'!AO13))) -> Helen Stone | B13: =IF('_Engine'!AO13=0,"",INDEX('_Engine'!$AN$11:$AN$60,'_Engine'!AO13)) -> 24.5 | C13: =IF('_Engine'!AO13=0,"",INDEX(Team!$C$11:$C$60,'_Engine'!AO13)) -> Operations | D13: =IF(OR($A13="",D$11=""),"",IF(OR('_Engine'!$B$6>0,INDEX('_Engine'!$AM$11:$AM$60,'_Engine'!$AO13)<>"OK"),"!",IF(INDEX(Team!$H$11:$N$60,'_Engine'!$AO13,WEEKDAY(D$11,2))<>"Work","—",IF(COUNTIF(Settings!$F$18:$F$67,D$11)>0,"BH",IF('_Engine'!BC13+'_Engine'!BD13=0,"·",IF('_Engine'!BC13='_Engine'!BD13,INDEX(Settings!$G$7:$G$11,MOD('_Engine'!BC13,10))&IF('_Engine'!BC13>10,"?",""),IF('_Engine'!BC13=0,INDEX(Settings!$G$7:$G$11,MOD('_Engine'!BD13,10))&IF('_Engine'!BD13>10,"?","")&" PM",IF('_Engine'!BD13=0,INDEX(Settings!$G$7:$G$11,MOD('_Engine'!BC13,10))&IF('_Engine'!BC13>10,"?","")&" AM",INDEX(Settings!$G$7:$G$11,MOD('_Engine'!BC13,10))&IF('_Engine'!BC13>10,"?","")&" AM"&CHAR(10)&INDEX(Settings!$G$7:$G$11,MOD('_Engine'!BD13,10))&IF('_Engine'!BD13>10,"?","")&" PM")))))))) -> · | E13: =IF(OR($A13="",E$11=""),"",IF(OR('_Engine'!$B$6>0,INDEX('_Engine'!$AM$11:$AM$60,'_Engine'!$AO13)<>"OK"),"!",IF(INDEX(Team!$H$11:$N$60,'_Engine'!$AO13,WEEKDAY(E$11,2))<>"Work","—",IF(COUNTIF(Settings!$F$18:$F$67,E$11)>0,"BH",IF('_Engine'!BE13+'_Engine'!BF13=0,"·",IF('_Engine'!BE13='_Engine'!BF13,INDEX(Settings!$G$7:$G$11,MOD('_Engine'!BE13,10))&IF('_Engine'!BE13>10,"?",""),IF('_Engine'!BE13=0,INDEX(Settings!$G$7:$G$11,MOD('_Engine'!BF13,10))&IF('_Engine'!BF13>10,"?","")&" PM",IF('_Engine'!BF13=0,INDEX(Settings!$G$7:$G$11,MOD('_Engine'!BE13,10))&IF('_Engine'!BE13>10,"?","")&" AM",INDEX(Settings!$G$7:$G$11,MOD('_Engine'!BE13,10))&IF('_Engine'!BE13>10,"?","")&" AM"&CHAR(10)&INDEX(Settings!$G$7:$G$11,MOD('_Engine'!BF13,10))&IF('_Engine'!BF13>10,"?","")&" PM")))))))) -> · | F13: =IF(OR($A13="",F$11=""),"",IF(OR('_Engine'!$B$6>0,INDEX('_Engine'!$AM$11:$AM$60,'_Engine'!$AO13)<>"OK"),"!",IF(INDEX(Team!$H$11:$N$60,'_Engine'!$AO13,WEEKDAY(F$11,2))<>"Work","—",IF(COUNTIF(Settings!$F$18:$F$67,F$11)>0,"BH",IF('_Engine'!BG13+'_Engine'!BH13=0,"·",IF('_Engine'!BG13='_Engine'!BH13,INDEX(Settings!$G$7:$G$11,MOD('_Engine'!BG13,10))&IF('_Engine'!BG13>10,"?",""),IF('_Engine'!BG13=0,INDEX(Settings!$G$7:$G$11,MOD('_Engine'!BH13,10))&IF('_Engine'!BH13>10,"?","")&" PM",IF('_Engine'!BH13=0,INDEX(Settings!$G$7:$G$11,MOD('_Engine'!BG13,10))&IF('_Engine'!BG13>10,"?","")&" AM",INDEX(Settings!$G$7:$G$11,MOD('_Engine'!BG13,10))&IF('_Engine'!BG13>10,"?","")&" AM"&CHAR(10)&INDEX(Settings!$G$7:$G$11,MOD('_Engine'!BH13,10))&IF('_Engine'!BH13>10,"?","")&" PM")))))))) -> — | G13: =IF(OR($A13="",G$11=""),"",IF(OR('_Engine'!$B$6>0,INDEX('_Engine'!$AM$11:$AM$60,'_Engine'!$AO13)<>"OK"),"!",IF(INDEX(Team!$H$11:$N$60,'_Engine'!$AO13,WEEKDAY(G$11,2))<>"Work","—",IF(COUNTIF(Settings!$F$18:$F$67,G$11)>0,"BH",IF('_Engine'!BI13+'_Engine'!BJ13=0,"·",IF('_Engine'!BI13='_Engine'!BJ13,INDEX(Settings!$G$7:$G$11,MOD('_Engine'!BI13,10))&IF('_Engine'!BI13>10,"?",""),IF('_Engine'!BI13=0,INDEX(Settings!$G$7:$G$11,MOD('_Engine'!BJ13,10))&IF('_Engine'!BJ13>10,"?","")&" PM",IF('_Engine'!BJ13=0,INDEX(Settings!$G$7:$G$11,MOD('_Engine'!BI13,10))&IF('_Engine'!BI13>10,"?","")&" AM",INDEX(Settings!$G$7:$G$11,MOD('_Engine'!BI13,10))&IF('_Engine'!BI13>10,"?","")&" AM"&CHAR(10)&INDEX(Settings!$G$7:$G$11,MOD('_Engine'!BJ13,10))&IF('_Engine'!BJ13>10,"?","")&" PM")))))))) -> — | H13: =IF(OR($A13="",H$11=""),"",IF(OR('_Engine'!$B$6>0,INDEX('_Engine'!$AM$11:$AM$60,'_Engine'!$AO13)<>"OK"),"!",IF(INDEX(Team!$H$11:$N$60,'_Engine'!$AO13,WEEKDAY(H$11,2))<>"Work","—",IF(COUNTIF(Settings!$F$18:$F$67,H$11)>0,"BH",IF('_Engine'!BK13+'_Engine'!BL13=0,"·",IF('_Engine'!BK13='_Engine'!BL13,INDEX(Settings!$G$7:$G$11,MOD('_Engine'!BK13,10))&IF('_Engine'!BK13>10,"?",""),IF('_Engine'!BK13=0,INDEX(Settings!$G$7:$G$11,MOD('_Engine'!BL13,10))&IF('_Engine'!BL13>10,"?","")&" PM",IF('_Engine'!BL13=0,INDEX(Settings!$G$7:$G$11,MOD('_Engine'!BK13,10))&IF('_Engine'!BK13>10,"?","")&" AM",INDEX(Settings!$G$7:$G$11,MOD('_Engine'!BK13,10))&IF('_Engine'!BK13>10,"?","")&" AM"&CHAR(10)&INDEX(Settings!$G$7:$G$11,MOD('_Engine'!BL13,10))&IF('_Engine'!BL13>10,"?","")&" PM")))))))) -> · | I13: =IF(OR($A13="",I$11=""),"",IF(OR('_Engine'!$B$6>0,INDEX('_Engine'!$AM$11:$AM$60,'_Engine'!$AO13)<>"OK"),"!",IF(INDEX(Team!$H$11:$N$60,'_Engine'!$AO13,WEEKDAY(I$11,2))<>"Work","—",IF(COUNTIF(Settings!$F$18:$F$67,I$11)>0,"BH",IF('_Engine'!BM13+'_Engine'!BN13=0,"·",IF('_Engine'!BM13='_Engine'!BN13,INDEX(Settings!$G$7:$G$11,MOD('_Engine'!BM13,10))&IF('_Engine'!BM13>10,"?",""),IF('_Engine'!BM13=0,INDEX(Settings!$G$7:$G$11,MOD('_Engine'!BN13,10))&IF('_Engine'!BN13>10,"?","")&" PM",IF('_Engine'!BN13=0,INDEX(Settings!$G$7:$G$11,MOD('_Engine'!BM13,10))&IF('_Engine'!BM13>10,"?","")&" AM",INDEX(Settings!$G$7:$G$11,MOD('_Engine'!BM13,10))&IF('_Engine'!BM13>10,"?","")&" AM"&CHAR(10)&INDEX(Settings!$G$7:$G$11,MOD('_Engine'!BN13,10))&IF('_Engine'!BN13>10,"?","")&" PM")))))))) -> · | J13: =IF(OR($A13="",J$11=""),"",IF(OR('_Engine'!$B$6>0,INDEX('_Engine'!$AM$11:$AM$60,'_Engine'!$AO13)<>"OK"),"!",IF(INDEX(Team!$H$11:$N$60,'_Engine'!$AO13,WEEKDAY(J$11,2))<>"Work","—",IF(COUNTIF(Settings!$F$18:$F$67,J$11)>0,"BH",IF('_Engine'!BO13+'_Engine'!BP13=0,"·",IF('_Engine'!BO13='_Engine'!BP13,INDEX(Settings!$G$7:$G$11,MOD('_Engine'!BO13,10))&IF('_Engine'!BO13>10,"?",""),IF('_Engine'!BO13=0,INDEX(Settings!$G$7:$G$11,MOD('_Engine'!BP13,10))&IF('_Engine'!BP13>10,"?","")&" PM",IF('_Engine'!BP13=0,INDEX(Settings!$G$7:$G$11,MOD('_Engine'!BO13,10))&IF('_Engine'!BO13>10,"?","")&" AM",INDEX(Settings!$G$7:$G$11,MOD('_Engine'!BO13,10))&IF('_Engine'!BO13>10,"?","")&" AM"&CHAR(10)&INDEX(Settings!$G$7:$G$11,MOD('_Engine'!BP13,10))&IF('_Engine'!BP13>10,"?","")&" PM")))))))) -> · | K13: =IF(OR($A13="",K$11=""),"",IF(OR('_Engine'!$B$6>0,INDEX('_Engine'!$AM$11:$AM$60,'_Engine'!$AO13)<>"OK"),"!",IF(INDEX(Team!$H$11:$N$60,'_Engine'!$AO13,WEEKDAY(K$11,2))<>"Work","—",IF(COUNTIF(Settings!$F$18:$F$67,K$11)>0,"BH",IF('_Engine'!BQ13+'_Engine'!BR13=0,"·",IF('_Engine'!BQ13='_Engine'!BR13,INDEX(Settings!$G$7:$G$11,MOD('_Engine'!BQ13,10))&IF('_Engine'!BQ13>10,"?",""),IF('_Engine'!BQ13=0,INDEX(Settings!$G$7:$G$11,MOD('_Engine'!BR13,10))&IF('_Engine'!BR13>10,"?","")&" PM",IF('_Engine'!BR13=0,INDEX(Settings!$G$7:$G$11,MOD('_Engine'!BQ13,10))&IF('_Engine'!BQ13>10,"?","")&" AM",INDEX(Settings!$G$7:$G$11,MOD('_Engine'!BQ13,10))&IF('_Engine'!BQ13>10,"?","")&" AM"&CHAR(10)&INDEX(Settings!$G$7:$G$11,MOD('_Engine'!BR13,10))&IF('_Engine'!BR13>10,"?","")&" PM")))))))) -> · | L13: =IF(OR($A13="",L$11=""),"",IF(OR('_Engine'!$B$6>0,INDEX('_Engine'!$AM$11:$AM$60,'_Engine'!$AO13)<>"OK"),"!",IF(INDEX(Team!$H$11:$N$60,'_Engine'!$AO13,WEEKDAY(L$11,2))<>"Work","—",IF(COUNTIF(Settings!$F$18:$F$67,L$11)>0,"BH",IF('_Engine'!BS13+'_Engine'!BT13=0,"·",IF('_Engine'!BS13='_Engine'!BT13,INDEX(Settings!$G$7:$G$11,MOD('_Engine'!BS13,10))&IF('_Engine'!BS13>10,"?",""),IF('_Engine'!BS13=0,INDEX(Settings!$G$7:$G$11,MOD('_Engine'!BT13,10))&IF('_Engine'!BT13>10,"?","")&" PM",IF('_Engine'!BT13=0,INDEX(Settings!$G$7:$G$11,MOD('_Engine'!BS13,10))&IF('_Engine'!BS13>10,"?","")&" AM",INDEX(Settings!$G$7:$G$11,MOD('_Engine'!BS13,10))&IF('_Engine'!BS13>10,"?","")&" AM"&CHAR(10)&INDEX(Settings!$G$7:$G$11,MOD('_Engine'!BT13,10))&IF('_Engine'!BT13>10,"?","")&" PM")))))))) -> · | M13: =IF(OR($A13="",M$11=""),"",IF(OR('_Engine'!$B$6>0,INDEX('_Engine'!$AM$11:$AM$60,'_Engine'!$AO13)<>"OK"),"!",IF(INDEX(Team!$H$11:$N$60,'_Engine'!$AO13,WEEKDAY(M$11,2))<>"Work","—",IF(COUNTIF(Settings!$F$18:$F$67,M$11)>0,"BH",IF('_Engine'!BU13+'_Engine'!BV13=0,"·",IF('_Engine'!BU13='_Engine'!BV13,INDEX(Settings!$G$7:$G$11,MOD('_Engine'!BU13,10))&IF('_Engine'!BU13>10,"?",""),IF('_Engine'!BU13=0,INDEX(Settings!$G$7:$G$11,MOD('_Engine'!BV13,10))&IF('_Engine'!BV13>10,"?","")&" PM",IF('_Engine'!BV13=0,INDEX(Settings!$G$7:$G$11,MOD('_Engine'!BU13,10))&IF('_Engine'!BU13>10,"?","")&" AM",INDEX(Settings!$G$7:$G$11,MOD('_Engine'!BU13,10))&IF('_Engine'!BU13>10,"?","")&" AM"&CHAR(10)&INDEX(Settings!$G$7:$G$11,MOD('_Engine'!BV13,10))&IF('_Engine'!BV13>10,"?","")&" PM")))))))) -> — | N13: =IF(OR($A13="",N$11=""),"",IF(OR('_Engine'!$B$6>0,INDEX('_Engine'!$AM$11:$AM$60,'_Engine'!$AO13)<>"OK"),"!",IF(INDEX(Team!$H$11:$N$60,'_Engine'!$AO13,WEEKDAY(N$11,2))<>"Work","—",IF(COUNTIF(Settings!$F$18:$F$67,N$11)>0,"BH",IF('_Engine'!BW13+'_Engine'!BX13=0,"·",IF('_Engine'!BW13='_Engine'!BX13,INDEX(Settings!$G$7:$G$11,MOD('_Engine'!BW13,10))&IF('_Engine'!BW13>10,"?",""),IF('_Engine'!BW13=0,INDEX(Settings!$G$7:$G$11,MOD('_Engine'!BX13,10))&IF('_Engine'!BX13>10,"?","")&" PM",IF('_Engine'!BX13=0,INDEX(Settings!$G$7:$G$11,MOD('_Engine'!BW13,10))&IF('_Engine'!BW13>10,"?","")&" AM",INDEX(Settings!$G$7:$G$11,MOD('_Engine'!BW13,10))&IF('_Engine'!BW13>10,"?","")&" AM"&CHAR(10)&INDEX(Settings!$G$7:$G$11,MOD('_Engine'!BX13,10))&IF('_Engine'!BX13>10,"?","")&" PM")))))))) -> — | O13: =IF(OR($A13="",O$11=""),"",IF(OR('_Engine'!$B$6>0,INDEX('_Engine'!$AM$11:$AM$60,'_Engine'!$AO13)<>"OK"),"!",IF(INDEX(Team!$H$11:$N$60,'_Engine'!$AO13,WEEKDAY(O$11,2))<>"Work","—",IF(COUNTIF(Settings!$F$18:$F$67,O$11)>0,"BH",IF('_Engine'!BY13+'_Engine'!BZ13=0,"·",IF('_Engine'!BY13='_Engine'!BZ13,INDEX(Settings!$G$7:$G$11,MOD('_Engine'!BY13,10))&IF('_Engine'!BY13>10,"?",""),IF('_Engine'!BY13=0,INDEX(Settings!$G$7:$G$11,MOD('_Engine'!BZ13,10))&IF('_Engine'!BZ13>10,"?","")&" PM",IF('_Engine'!BZ13=0,INDEX(Settings!$G$7:$G$11,MOD('_Engine'!BY13,10))&IF('_Engine'!BY13>10,"?","")&" AM",INDEX(Settings!$G$7:$G$11,MOD('_Engine'!BY13,10))&IF('_Engine'!BY13>10,"?","")&" AM"&CHAR(10)&INDEX(Settings!$G$7:$G$11,MOD('_Engine'!BZ13,10))&IF('_Engine'!BZ13>10,"?","")&" PM")))))))) -> T | P13: =IF(OR($A13="",P$11=""),"",IF(OR('_Engine'!$B$6>0,INDEX('_Engine'!$AM$11:$AM$60,'_Engine'!$AO13)<>"OK"),"!",IF(INDEX(Team!$H$11:$N$60,'_Engine'!$AO13,WEEKDAY(P$11,2))<>"Work","—",IF(COUNTIF(Settings!$F$18:$F$67,P$11)>0,"BH",IF('_Engine'!CA13+'_Engine'!CB13=0,"·",IF('_Engine'!CA13='_Engine'!CB13,INDEX(Settings!$G$7:$G$11,MOD('_Engine'!CA13,10))&IF('_Engine'!CA13>10,"?",""),IF('_Engine'!CA13=0,INDEX(Settings!$G$7:$G$11,MOD('_Engine'!CB13,10))&IF('_Engine'!CB13>10,"?","")&" PM",IF('_Engine'!CB13=0,INDEX(Settings!$G$7:$G$11,MOD('_Engine'!CA13,10))&IF('_Engine'!CA13>10,"?","")&" AM",INDEX(Settings!$G$7:$G$11,MOD('_Engine'!CA13,10))&IF('_Engine'!CA13>10,"?","")&" AM"&CHAR(10)&INDEX(Settings!$G$7:$G$11,MOD('_Engine'!CB13,10))&IF('_Engine'!CB13>10,"?","")&" PM")))))))) -> · | Q13: =IF(OR($A13="",Q$11=""),"",IF(OR('_Engine'!$B$6>0,INDEX('_Engine'!$AM$11:$AM$60,'_Engine'!$AO13)<>"OK"),"!",IF(INDEX(Team!$H$11:$N$60,'_Engine'!$AO13,WEEKDAY(Q$11,2))<>"Work","—",IF(COUNTIF(Settings!$F$18:$F$67,Q$11)>0,"BH",IF('_Engine'!CC13+'_Engine'!CD13=0,"·",IF('_Engine'!CC13='_Engine'!CD13,INDEX(Settings!$G$7:$G$11,MOD('_Engine'!CC13,10))&IF('_Engine'!CC13>10,"?",""),IF('_Engine'!CC13=0,INDEX(Settings!$G$7:$G$11,MOD('_Engine'!CD13,10))&IF('_Engine'!CD13>10,"?","")&" PM",IF('_Engine'!CD13=0,INDEX(Settings!$G$7:$G$11,MOD('_Engine'!CC13,10))&IF('_Engine'!CC13>10,"?","")&" AM",INDEX(Settings!$G$7:$G$11,MOD('_Engine'!CC13,10))&IF('_Engine'!CC13>10,"?","")&" AM"&CHAR(10)&INDEX(Settings!$G$7:$G$11,MOD('_Engine'!CD13,10))&IF('_Engine'!CD13>10,"?","")&" PM")))))))) -> H PM | R13: =IF(OR($A13="",R$11=""),"",IF(OR('_Engine'!$B$6>0,INDEX('_Engine'!$AM$11:$AM$60,'_Engine'!$AO13)<>"OK"),"!",IF(INDEX(Team!$H$11:$N$60,'_Engine'!$AO13,WEEKDAY(R$11,2))<>"Work","—",IF(COUNTIF(Settings!$F$18:$F$67,R$11)>0,"BH",IF('_Engine'!CE13+'_Engine'!CF13=0,"·",IF('_Engine'!CE13='_Engine'!CF13,INDEX(Settings!$G$7:$G$11,MOD('_Engine'!CE13,10))&IF('_Engine'!CE13>10,"?",""),IF('_Engine'!CE13=0,INDEX(Settings!$G$7:$G$11,MOD('_Engine'!CF13,10))&IF('_Engine'!CF13>10,"?","")&" PM",IF('_Engine'!CF13=0,INDEX(Settings!$G$7:$G$11,MOD('_Engine'!CE13,10))&IF('_Engine'!CE13>10,"?","")&" AM",INDEX(Settings!$G$7:$G$11,MOD('_Engine'!CE13,10))&IF('_Engine'!CE13>10,"?","")&" AM"&CHAR(10)&INDEX(Settings!$G$7:$G$11,MOD('_Engine'!CF13,10))&IF('_Engine'!CF13>10,"?","")&" PM")))))))) -> H | S13: =IF(OR($A13="",S$11=""),"",IF(OR('_Engine'!$B$6>0,INDEX('_Engine'!$AM$11:$AM$60,'_Engine'!$AO13)<>"OK"),"!",IF(INDEX(Team!$H$11:$N$60,'_Engine'!$AO13,WEEKDAY(S$11,2))<>"Work","—",IF(COUNTIF(Settings!$F$18:$F$67,S$11)>0,"BH",IF('_Engine'!CG13+'_Engine'!CH13=0,"·",IF('_Engine'!CG13='_Engine'!CH13,INDEX(Settings!$G$7:$G$11,MOD('_Engine'!CG13,10))&IF('_Engine'!CG13>10,"?",""),IF('_Engine'!CG13=0,INDEX(Settings!$G$7:$G$11,MOD('_Engine'!CH13,10))&IF('_Engine'!CH13>10,"?","")&" PM",IF('_Engine'!CH13=0,INDEX(Settings!$G$7:$G$11,MOD('_Engine'!CG13,10))&IF('_Engine'!CG13>10,"?","")&" AM",INDEX(Settings!$G$7:$G$11,MOD('_Engine'!CG13,10))&IF('_Engine'!CG13>10,"?","")&" AM"&CHAR(10)&INDEX(Settings!$G$7:$G$11,MOD('_Engine'!CH13,10))&IF('_Engine'!CH13>10,"?","")&" PM")))))))) -> · | T13: =IF(OR($A13="",T$11=""),"",IF(OR('_Engine'!$B$6>0,INDEX('_Engine'!$AM$11:$AM$60,'_Engine'!$AO13)<>"OK"),"!",IF(INDEX(Team!$H$11:$N$60,'_Engine'!$AO13,WEEKDAY(T$11,2))<>"Work","—",IF(COUNTIF(Settings!$F$18:$F$67,T$11)>0,"BH",IF('_Engine'!CI13+'_Engine'!CJ13=0,"·",IF('_Engine'!CI13='_Engine'!CJ13,INDEX(Settings!$G$7:$G$11,MOD('_Engine'!CI13,10))&IF('_Engine'!CI13>10,"?",""),IF('_Engine'!CI13=0,INDEX(Settings!$G$7:$G$11,MOD('_Engine'!CJ13,10))&IF('_Engine'!CJ13>10,"?","")&" PM",IF('_Engine'!CJ13=0,INDEX(Settings!$G$7:$G$11,MOD('_Engine'!CI13,10))&IF('_Engine'!CI13>10,"?","")&" AM",INDEX(Settings!$G$7:$G$11,MOD('_Engine'!CI13,10))&IF('_Engine'!CI13>10,"?","")&" AM"&CHAR(10)&INDEX(Settings!$G$7:$G$11,MOD('_Engine'!CJ13,10))&IF('_Engine'!CJ13>10,"?","")&" PM")))))))) -> — | U13: =IF(OR($A13="",U$11=""),"",IF(OR('_Engine'!$B$6>0,INDEX('_Engine'!$AM$11:$AM$60,'_Engine'!$AO13)<>"OK"),"!",IF(INDEX(Team!$H$11:$N$60,'_Engine'!$AO13,WEEKDAY(U$11,2))<>"Work","—",IF(COUNTIF(Settings!$F$18:$F$67,U$11)>0,"BH",IF('_Engine'!CK13+'_Engine'!CL13=0,"·",IF('_Engine'!CK13='_Engine'!CL13,INDEX(Settings!$G$7:$G$11,MOD('_Engine'!CK13,10))&IF('_Engine'!CK13>10,"?",""),IF('_Engine'!CK13=0,INDEX(Settings!$G$7:$G$11,MOD('_Engine'!CL13,10))&IF('_Engine'!CL13>10,"?","")&" PM",IF('_Engine'!CL13=0,INDEX(Settings!$G$7:$G$11,MOD('_Engine'!CK13,10))&IF('_Engine'!CK13>10,"?","")&" AM",INDEX(Settings!$G$7:$G$11,MOD('_Engine'!CK13,10))&IF('_Engine'!CK13>10,"?","")&" AM"&CHAR(10)&INDEX(Settings!$G$7:$G$11,MOD('_Engine'!CL13,10))&IF('_Engine'!CL13>10,"?","")&" PM")))))))) -> — | V13: =IF(OR($A13="",V$11=""),"",IF(OR('_Engine'!$B$6>0,INDEX('_Engine'!$AM$11:$AM$60,'_Engine'!$AO13)<>"OK"),"!",IF(INDEX(Team!$H$11:$N$60,'_Engine'!$AO13,WEEKDAY(V$11,2))<>"Work","—",IF(COUNTIF(Settings!$F$18:$F$67,V$11)>0,"BH",IF('_Engine'!CM13+'_Engine'!CN13=0,"·",IF('_Engine'!CM13='_Engine'!CN13,INDEX(Settings!$G$7:$G$11,MOD('_Engine'!CM13,10))&IF('_Engine'!CM13>10,"?",""),IF('_Engine'!CM13=0,INDEX(Settings!$G$7:$G$11,MOD('_Engine'!CN13,10))&IF('_Engine'!CN13>10,"?","")&" PM",IF('_Engine'!CN13=0,INDEX(Settings!$G$7:$G$11,MOD('_Engine'!CM13,10))&IF('_Engine'!CM13>10,"?","")&" AM",INDEX(Settings!$G$7:$G$11,MOD('_Engine'!CM13,10))&IF('_Engine'!CM13>10,"?","")&" AM"&CHAR(10)&INDEX(Settings!$G$7:$G$11,MOD('_Engine'!CN13,10))&IF('_Engine'!CN13>10,"?","")&" PM")))))))) -> · | W13: =IF(OR($A13="",W$11=""),"",IF(OR('_Engine'!$B$6>0,INDEX('_Engine'!$AM$11:$AM$60,'_Engine'!$AO13)<>"OK"),"!",IF(INDEX(Team!$H$11:$N$60,'_Engine'!$AO13,WEEKDAY(W$11,2))<>"Work","—",IF(COUNTIF(Settings!$F$18:$F$67,W$11)>0,"BH",IF('_Engine'!CO13+'_Engine'!CP13=0,"·",IF('_Engine'!CO13='_Engine'!CP13,INDEX(Settings!$G$7:$G$11,MOD('_Engine'!CO13,10))&IF('_Engine'!CO13>10,"?",""),IF('_Engine'!CO13=0,INDEX(Settings!$G$7:$G$11,MOD('_Engine'!CP13,10))&IF('_Engine'!CP13>10,"?","")&" PM",IF('_Engine'!CP13=0,INDEX(Settings!$G$7:$G$11,MOD('_Engine'!CO13,10))&IF('_Engine'!CO13>10,"?","")&" AM",INDEX(Settings!$G$7:$G$11,MOD('_Engine'!CO13,10))&IF('_Engine'!CO13>10,"?","")&" AM"&CHAR(10)&INDEX(Settings!$G$7:$G$11,MOD('_Engine'!CP13,10))&IF('_Engine'!CP13>10,"?","")&" PM")))))))) -> · | X13: =IF(OR($A13="",X$11=""),"",IF(OR('_Engine'!$B$6>0,INDEX('_Engine'!$AM$11:$AM$60,'_Engine'!$AO13)<>"OK"),"!",IF(INDEX(Team!$H$11:$N$60,'_Engine'!$AO13,WEEKDAY(X$11,2))<>"Work","—",IF(COUNTIF(Settings!$F$18:$F$67,X$11)>0,"BH",IF('_Engine'!CQ13+'_Engine'!CR13=0,"·",IF('_Engine'!CQ13='_Engine'!CR13,INDEX(Settings!$G$7:$G$11,MOD('_Engine'!CQ13,10))&IF('_Engine'!CQ13>10,"?",""),IF('_Engine'!CQ13=0,INDEX(Settings!$G$7:$G$11,MOD('_Engine'!CR13,10))&IF('_Engine'!CR13>10,"?","")&" PM",IF('_Engine'!CR13=0,INDEX(Settings!$G$7:$G$11,MOD('_Engine'!CQ13,10))&IF('_Engine'!CQ13>10,"?","")&" AM",INDEX(Settings!$G$7:$G$11,MOD('_Engine'!CQ13,10))&IF('_Engine'!CQ13>10,"?","")&" AM"&CHAR(10)&INDEX(Settings!$G$7:$G$11,MOD('_Engine'!CR13,10))&IF('_Engine'!CR13>10,"?","")&" PM")))))))) -> · | Y13: =IF(OR($A13="",Y$11=""),"",IF(OR('_Engine'!$B$6>0,INDEX('_Engine'!$AM$11:$AM$60,'_Engine'!$AO13)<>"OK"),"!",IF(INDEX(Team!$H$11:$N$60,'_Engine'!$AO13,WEEKDAY(Y$11,2))<>"Work","—",IF(COUNTIF(Settings!$F$18:$F$67,Y$11)>0,"BH",IF('_Engine'!CS13+'_Engine'!CT13=0,"·",IF('_Engine'!CS13='_Engine'!CT13,INDEX(Settings!$G$7:$G$11,MOD('_Engine'!CS13,10))&IF('_Engine'!CS13>10,"?",""),IF('_Engine'!CS13=0,INDEX(Settings!$G$7:$G$11,MOD('_Engine'!CT13,10))&IF('_Engine'!CT13>10,"?","")&" PM",IF('_Engine'!CT13=0,INDEX(Settings!$G$7:$G$11,MOD('_Engine'!CS13,10))&IF('_Engine'!CS13>10,"?","")&" AM",INDEX(Settings!$G$7:$G$11,MOD('_Engine'!CS13,10))&IF('_Engine'!CS13>10,"?","")&" AM"&CHAR(10)&INDEX(Settings!$G$7:$G$11,MOD('_Engine'!CT13,10))&IF('_Engine'!CT13>10,"?","")&" PM")))))))) -> H | Z13: =IF(OR($A13="",Z$11=""),"",IF(OR('_Engine'!$B$6>0,INDEX('_Engine'!$AM$11:$AM$60,'_Engine'!$AO13)<>"OK"),"!",IF(INDEX(Team!$H$11:$N$60,'_Engine'!$AO13,WEEKDAY(Z$11,2))<>"Work","—",IF(COUNTIF(Settings!$F$18:$F$67,Z$11)>0,"BH",IF('_Engine'!CU13+'_Engine'!CV13=0,"·",IF('_Engine'!CU13='_Engine'!CV13,INDEX(Settings!$G$7:$G$11,MOD('_Engine'!CU13,10))&IF('_Engine'!CU13>10,"?",""),IF('_Engine'!CU13=0,INDEX(Settings!$G$7:$G$11,MOD('_Engine'!CV13,10))&IF('_Engine'!CV13>10,"?","")&" PM",IF('_Engine'!CV13=0,INDEX(Settings!$G$7:$G$11,MOD('_Engine'!CU13,10))&IF('_Engine'!CU13>10,"?","")&" AM",INDEX(Settings!$G$7:$G$11,MOD('_Engine'!CU13,10))&IF('_Engine'!CU13>10,"?","")&" AM"&CHAR(10)&INDEX(Settings!$G$7:$G$11,MOD('_Engine'!CV13,10))&IF('_Engine'!CV13>10,"?","")&" PM")))))))) -> BH | AA13: =IF(OR($A13="",AA$11=""),"",IF(OR('_Engine'!$B$6>0,INDEX('_Engine'!$AM$11:$AM$60,'_Engine'!$AO13)<>"OK"),"!",IF(INDEX(Team!$H$11:$N$60,'_Engine'!$AO13,WEEKDAY(AA$11,2))<>"Work","—",IF(COUNTIF(Settings!$F$18:$F$67,AA$11)>0,"BH",IF('_Engine'!CW13+'_Engine'!CX13=0,"·",IF('_Engine'!CW13='_Engine'!CX13,INDEX(Settings!$G$7:$G$11,MOD('_Engine'!CW13,10))&IF('_Engine'!CW13>10,"?",""),IF('_Engine'!CW13=0,INDEX(Settings!$G$7:$G$11,MOD('_Engine'!CX13,10))&IF('_Engine'!CX13>10,"?","")&" PM",IF('_Engine'!CX13=0,INDEX(Settings!$G$7:$G$11,MOD('_Engine'!CW13,10))&IF('_Engine'!CW13>10,"?","")&" AM",INDEX(Settings!$G$7:$G$11,MOD('_Engine'!CW13,10))&IF('_Engine'!CW13>10,"?","")&" AM"&CHAR(10)&INDEX(Settings!$G$7:$G$11,MOD('_Engine'!CX13,10))&IF('_Engine'!CX13>10,"?","")&" PM")))))))) -> — | AB13: =IF(OR($A13="",AB$11=""),"",IF(OR('_Engine'!$B$6>0,INDEX('_Engine'!$AM$11:$AM$60,'_Engine'!$AO13)<>"OK"),"!",IF(INDEX(Team!$H$11:$N$60,'_Engine'!$AO13,WEEKDAY(AB$11,2))<>"Work","—",IF(COUNTIF(Settings!$F$18:$F$67,AB$11)>0,"BH",IF('_Engine'!CY13+'_Engine'!CZ13=0,"·",IF('_Engine'!CY13='_Engine'!CZ13,INDEX(Settings!$G$7:$G$11,MOD('_Engine'!CY13,10))&IF('_Engine'!CY13>10,"?",""),IF('_Engine'!CY13=0,INDEX(Settings!$G$7:$G$11,MOD('_Engine'!CZ13,10))&IF('_Engine'!CZ13>10,"?","")&" PM",IF('_Engine'!CZ13=0,INDEX(Settings!$G$7:$G$11,MOD('_Engine'!CY13,10))&IF('_Engine'!CY13>10,"?","")&" AM",INDEX(Settings!$G$7:$G$11,MOD('_Engine'!CY13,10))&IF('_Engine'!CY13>10,"?","")&" AM"&CHAR(10)&INDEX(Settings!$G$7:$G$11,MOD('_Engine'!CZ13,10))&IF('_Engine'!CZ13>10,"?","")&" PM")))))))) -> — | AC13: =IF(OR($A13="",AC$11=""),"",IF(OR('_Engine'!$B$6>0,INDEX('_Engine'!$AM$11:$AM$60,'_Engine'!$AO13)<>"OK"),"!",IF(INDEX(Team!$H$11:$N$60,'_Engine'!$AO13,WEEKDAY(AC$11,2))<>"Work","—",IF(COUNTIF(Settings!$F$18:$F$67,AC$11)>0,"BH",IF('_Engine'!DA13+'_Engine'!DB13=0,"·",IF('_Engine'!DA13='_Engine'!DB13,INDEX(Settings!$G$7:$G$11,MOD('_Engine'!DA13,10))&IF('_Engine'!DA13>10,"?",""),IF('_Engine'!DA13=0,INDEX(Settings!$G$7:$G$11,MOD('_Engine'!DB13,10))&IF('_Engine'!DB13>10,"?","")&" PM",IF('_Engine'!DB13=0,INDEX(Settings!$G$7:$G$11,MOD('_Engine'!DA13,10))&IF('_Engine'!DA13>10,"?","")&" AM",INDEX(Settings!$G$7:$G$11,MOD('_Engine'!DA13,10))&IF('_Engine'!DA13>10,"?","")&" AM"&CHAR(10)&INDEX(Settings!$G$7:$G$11,MOD('_Engine'!DB13,10))&IF('_Engine'!DB13>10,"?","")&" PM")))))))) -> · | AD13: =IF(OR($A13="",AD$11=""),"",IF(OR('_Engine'!$B$6>0,INDEX('_Engine'!$AM$11:$AM$60,'_Engine'!$AO13)<>"OK"),"!",IF(INDEX(Team!$H$11:$N$60,'_Engine'!$AO13,WEEKDAY(AD$11,2))<>"Work","—",IF(COUNTIF(Settings!$F$18:$F$67,AD$11)>0,"BH",IF('_Engine'!DC13+'_Engine'!DD13=0,"·",IF('_Engine'!DC13='_Engine'!DD13,INDEX(Settings!$G$7:$G$11,MOD('_Engine'!DC13,10))&IF('_Engine'!DC13>10,"?",""),IF('_Engine'!DC13=0,INDEX(Settings!$G$7:$G$11,MOD('_Engine'!DD13,10))&IF('_Engine'!DD13>10,"?","")&" PM",IF('_Engine'!DD13=0,INDEX(Settings!$G$7:$G$11,MOD('_Engine'!DC13,10))&IF('_Engine'!DC13>10,"?","")&" AM",INDEX(Settings!$G$7:$G$11,MOD('_Engine'!DC13,10))&IF('_Engine'!DC13>10,"?","")&" AM"&CHAR(10)&INDEX(Settings!$G$7:$G$11,MOD('_Engine'!DD13,10))&IF('_Engine'!DD13>10,"?","")&" PM")))))))) -> · | AE13: =IF(OR($A13="",AE$11=""),"",IF(OR('_Engine'!$B$6>0,INDEX('_Engine'!$AM$11:$AM$60,'_Engine'!$AO13)<>"OK"),"!",IF(INDEX(Team!$H$11:$N$60,'_Engine'!$AO13,WEEKDAY(AE$11,2))<>"Work","—",IF(COUNTIF(Settings!$F$18:$F$67,AE$11)>0,"BH",IF('_Engine'!DE13+'_Engine'!DF13=0,"·",IF('_Engine'!DE13='_Engine'!DF13,INDEX(Settings!$G$7:$G$11,MOD('_Engine'!DE13,10))&IF('_Engine'!DE13>10,"?",""),IF('_Engine'!DE13=0,INDEX(Settings!$G$7:$G$11,MOD('_Engine'!DF13,10))&IF('_Engine'!DF13>10,"?","")&" PM",IF('_Engine'!DF13=0,INDEX(Settings!$G$7:$G$11,MOD('_Engine'!DE13,10))&IF('_Engine'!DE13>10,"?","")&" AM",INDEX(Settings!$G$7:$G$11,MOD('_Engine'!DE13,10))&IF('_Engine'!DE13>10,"?","")&" AM"&CHAR(10)&INDEX(Settings!$G$7:$G$11,MOD('_Engine'!DF13,10))&IF('_Engine'!DF13>10,"?","")&" PM")))))))) -> · | AF13: =IF(OR($A13="",AF$11=""),"",IF(OR('_Engine'!$B$6>0,INDEX('_Engine'!$AM$11:$AM$60,'_Engine'!$AO13)<>"OK"),"!",IF(INDEX(Team!$H$11:$N$60,'_Engine'!$AO13,WEEKDAY(AF$11,2))<>"Work","—",IF(COUNTIF(Settings!$F$18:$F$67,AF$11)>0,"BH",IF('_Engine'!DG13+'_Engine'!DH13=0,"·",IF('_Engine'!DG13='_Engine'!DH13,INDEX(Settings!$G$7:$G$11,MOD('_Engine'!DG13,10))&IF('_Engine'!DG13>10,"?",""),IF('_Engine'!DG13=0,INDEX(Settings!$G$7:$G$11,MOD('_Engine'!DH13,10))&IF('_Engine'!DH13>10,"?","")&" PM",IF('_Engine'!DH13=0,INDEX(Settings!$G$7:$G$11,MOD('_Engine'!DG13,10))&IF('_Engine'!DG13>10,"?","")&" AM",INDEX(Settings!$G$7:$G$11,MOD('_Engine'!DG13,10))&IF('_Engine'!DG13>10,"?","")&" AM"&CHAR(10)&INDEX(Settings!$G$7:$G$11,MOD('_Engine'!DH13,10))&IF('_Engine'!DH13>10,"?","")&" PM")))))))) -> · | AG13: =IF(OR($A13="",AG$11=""),"",IF(OR('_Engine'!$B$6>0,INDEX('_Engine'!$AM$11:$AM$60,'_Engine'!$AO13)<>"OK"),"!",IF(INDEX(Team!$H$11:$N$60,'_Engine'!$AO13,WEEKDAY(AG$11,2))<>"Work","—",IF(COUNTIF(Settings!$F$18:$F$67,AG$11)>0,"BH",IF('_Engine'!DI13+'_Engine'!DJ13=0,"·",IF('_Engine'!DI13='_Engine'!DJ13,INDEX(Settings!$G$7:$G$11,MOD('_Engine'!DI13,10))&IF('_Engine'!DI13>10,"?",""),IF('_Engine'!DI13=0,INDEX(Settings!$G$7:$G$11,MOD('_Engine'!DJ13,10))&IF('_Engine'!DJ13>10,"?","")&" PM",IF('_Engine'!DJ13=0,INDEX(Settings!$G$7:$G$11,MOD('_Engine'!DI13,10))&IF('_Engine'!DI13>10,"?","")&" AM",INDEX(Settings!$G$7:$G$11,MOD('_Engine'!DI13,10))&IF('_Engine'!DI13>10,"?","")&" AM"&CHAR(10)&INDEX(Settings!$G$7:$G$11,MOD('_Engine'!DJ13,10))&IF('_Engine'!DJ13>10,"?","")&" PM")))))))) -> · | AH13: =IF(OR($A13="",AH$11=""),"",IF(OR('_Engine'!$B$6>0,INDEX('_Engine'!$AM$11:$AM$60,'_Engine'!$AO13)<>"OK"),"!",IF(INDEX(Team!$H$11:$N$60,'_Engine'!$AO13,WEEKDAY(AH$11,2))<>"Work","—",IF(COUNTIF(Settings!$F$18:$F$67,AH$11)>0,"BH",IF('_Engine'!DK13+'_Engine'!DL13=0,"·",IF('_Engine'!DK13='_Engine'!DL13,INDEX(Settings!$G$7:$G$11,MOD('_Engine'!DK13,10))&IF('_Engine'!DK13>10,"?",""),IF('_Engine'!DK13=0,INDEX(Settings!$G$7:$G$11,MOD('_Engine'!DL13,10))&IF('_Engine'!DL13>10,"?","")&" PM",IF('_Engine'!DL13=0,INDEX(Settings!$G$7:$G$11,MOD('_Engine'!DK13,10))&IF('_Engine'!DK13>10,"?","")&" AM",INDEX(Settings!$G$7:$G$11,MOD('_Engine'!DK13,10))&IF('_Engine'!DK13>10,"?","")&" AM"&CHAR(10)&INDEX(Settings!$G$7:$G$11,MOD('_Engine'!DL13,10))&IF('_Engine'!DL13>10,"?","")&" PM")))))))) -> —
