Workbook
Name EmployeeChoices: '_Engine'!$Y$11:$Y$60
Name LeaveTypeChoices: '_Engine'!$AQ$7:$AQ$11
Name MonthChoices: '_Engine'!$AS$11:$AS$22
Name TeamChoices: '_Engine'!$AF$10:$AF$60
Name AllClosureRows: '_Closures'!$B$11:$AY$60
Name rngBookings_B: '_Dates'!$J$11:$J$1010
Name rngBookings_C: '_Dates'!$T$11:$T$1010
Name rngBookings_F: 'Bookings'!$G$11:$G$1010
Name rngBookings_D: 'Bookings'!$C$11:$C$1010
Name rngEngine_B: '_Engine'!$B$11:$B$1010
Name rngEngine_F: '_Engine'!$F$11:$F$1010
Name rngEngine_L: '_Engine'!$L$11:$L$1010
Name rngEngine_P: '_Engine'!$P$11:$P$1010
Name rngEngine_Q: '_Engine'!$Q$11:$Q$1010
Name rngEngine_R: '_Engine'!$R$11:$R$1010
Name rngEngine_S: '_Engine'!$S$11:$S$1010
Name rngEngine_M: '_Engine'!$M$11:$M$1010
Name rngEngine_U: '_Engine'!$U$11:$U$1010
Name rngEngine_V: '_Engine'!$V$11:$V$1010
Name rngAMStart: '_Dates'!$W$11:$W$1010
Name rngAMEnd: '_Dates'!$X$11:$X$1010
Name rngPMStart: '_Dates'!$Y$11:$Y$1010
Name rngPMEnd: '_Dates'!$Z$11:$Z$1010
Name rngAMActive: '_Dates'!$AC$11:$AC$1010
Name rngPMActive: '_Dates'!$AD$11:$AD$1010

Sheet Calendar
A1: =IF('_Engine'!B5="OK","TimeOff.Management / "&TEXT('_Engine'!B4,"mmmm yyyy")&" leave calendar","TimeOff.Management / Leave calendar") -> TimeOff.Management / July 2027 leave calendar
A4: =HYPERLINK("#'Calendar'!A1","Calendar") -> Calendar | B4: =HYPERLINK("#'Bookings'!A1","Add booking") -> Add booking | C4: =HYPERLINK("#'Balances'!A1","Balances") -> Balances | D4: =HYPERLINK("#'Team'!A1","Team") -> Team | H4: =HYPERLINK("#'Settings'!A1","Settings") -> Settings | L4: =HYPERLINK("#'Start here'!A1","Start here") -> Start here
A6: MONTH | B6: YEAR | C6: TEAM | D6: Change the month or team here. All 50 employee rows are available by scrolling; names and balances stay fixed on the left. | S6: Bookable allowance is after fixed days have been reserved. Pending leave does not reduce the balance.
A7: July | B7: 2027 | C7: All teams
A8: =IFERROR("Reporting through "&TEXT(Settings!B9,"dd mmm yyyy"),"Check reporting date") -> Reporting through 14 Jul 2027 | D8: =IF('_Engine'!$B$5<>"OK",'_Engine'!$B$5,IF('_Engine'!$B$6>0,"CHECK SHARED SETTINGS — calendar and balances paused.",IF('_Engine'!$B$9>0,"UNASSIGNED BOOKINGS — company totals are incomplete. Individual figures use identified records only.",IF('_Engine'!$B$8>0,"REVIEW REQUIRED — "&'_Engine'!$B$8&" row(s). Affected people are marked REVIEW; company totals are incomplete.","Ready · "&SUM('_Engine'!$X$11:$X$60)&" employees · "&COUNTIF('_Engine'!$A$11:$A$1010,1)&" / 1,000 booking rows used.")))) -> Ready · 6 employees · 20 / 1,000 booking rows used.
A10: =Settings!G7&" = "&Settings!F7&" · "&Settings!G8&" = "&Settings!F8&" · "&Settings!G9&" = "&Settings!F9&" · "&Settings!G10&" = "&Settings!F10&" · "&Settings!G11&" = "&Settings!F11&" | ? = pending · AM / PM = half-day · BH = fixed day off · — = not a working day" -> H = Holiday · S = Sick leave · U = Unpaid leave · T = Training · O = Other leave | ? = pending · AM / PM = half-day · BH = fixed day off · — = not a working day
A11: Employee | B11: Remaining to book | C11: Team | D11: =IF(OR('_Engine'!$B$5<>"OK",'_Engine'!$B$4=0),"",IF(MONTH('_Engine'!$B$4+0)=MONTH('_Engine'!$B$4),'_Engine'!$B$4+0,"")) -> 46569 | E11: =IF(OR('_Engine'!$B$5<>"OK",'_Engine'!$B$4=0),"",IF(MONTH('_Engine'!$B$4+1)=MONTH('_Engine'!$B$4),'_Engine'!$B$4+1,"")) -> 46570 | F11: =IF(OR('_Engine'!$B$5<>"OK",'_Engine'!$B$4=0),"",IF(MONTH('_Engine'!$B$4+2)=MONTH('_Engine'!$B$4),'_Engine'!$B$4+2,"")) -> 46571 | G11: =IF(OR('_Engine'!$B$5<>"OK",'_Engine'!$B$4=0),"",IF(MONTH('_Engine'!$B$4+3)=MONTH('_Engine'!$B$4),'_Engine'!$B$4+3,"")) -> 46572 | H11: =IF(OR('_Engine'!$B$5<>"OK",'_Engine'!$B$4=0),"",IF(MONTH('_Engine'!$B$4+4)=MONTH('_Engine'!$B$4),'_Engine'!$B$4+4,"")) -> 46573 | I11: =IF(OR('_Engine'!$B$5<>"OK",'_Engine'!$B$4=0),"",IF(MONTH('_Engine'!$B$4+5)=MONTH('_Engine'!$B$4),'_Engine'!$B$4+5,"")) -> 46574 | J11: =IF(OR('_Engine'!$B$5<>"OK",'_Engine'!$B$4=0),"",IF(MONTH('_Engine'!$B$4+6)=MONTH('_Engine'!$B$4),'_Engine'!$B$4+6,"")) -> 46575 | K11: =IF(OR('_Engine'!$B$5<>"OK",'_Engine'!$B$4=0),"",IF(MONTH('_Engine'!$B$4+7)=MONTH('_Engine'!$B$4),'_Engine'!$B$4+7,"")) -> 46576 | L11: =IF(OR('_Engine'!$B$5<>"OK",'_Engine'!$B$4=0),"",IF(MONTH('_Engine'!$B$4+8)=MONTH('_Engine'!$B$4),'_Engine'!$B$4+8,"")) -> 46577 | M11: =IF(OR('_Engine'!$B$5<>"OK",'_Engine'!$B$4=0),"",IF(MONTH('_Engine'!$B$4+9)=MONTH('_Engine'!$B$4),'_Engine'!$B$4+9,"")) -> 46578 | N11: =IF(OR('_Engine'!$B$5<>"OK",'_Engine'!$B$4=0),"",IF(MONTH('_Engine'!$B$4+10)=MONTH('_Engine'!$B$4),'_Engine'!$B$4+10,"")) -> 46579 | O11: =IF(OR('_Engine'!$B$5<>"OK",'_Engine'!$B$4=0),"",IF(MONTH('_Engine'!$B$4+11)=MONTH('_Engine'!$B$4),'_Engine'!$B$4+11,"")) -> 46580 | P11: =IF(OR('_Engine'!$B$5<>"OK",'_Engine'!$B$4=0),"",IF(MONTH('_Engine'!$B$4+12)=MONTH('_Engine'!$B$4),'_Engine'!$B$4+12,"")) -> 46581 | Q11: =IF(OR('_Engine'!$B$5<>"OK",'_Engine'!$B$4=0),"",IF(MONTH('_Engine'!$B$4+13)=MONTH('_Engine'!$B$4),'_Engine'!$B$4+13,"")) -> 46582 | R11: =IF(OR('_Engine'!$B$5<>"OK",'_Engine'!$B$4=0),"",IF(MONTH('_Engine'!$B$4+14)=MONTH('_Engine'!$B$4),'_Engine'!$B$4+14,"")) -> 46583 | S11: =IF(OR('_Engine'!$B$5<>"OK",'_Engine'!$B$4=0),"",IF(MONTH('_Engine'!$B$4+15)=MONTH('_Engine'!$B$4),'_Engine'!$B$4+15,"")) -> 46584 | T11: =IF(OR('_Engine'!$B$5<>"OK",'_Engine'!$B$4=0),"",IF(MONTH('_Engine'!$B$4+16)=MONTH('_Engine'!$B$4),'_Engine'!$B$4+16,"")) -> 46585 | U11: =IF(OR('_Engine'!$B$5<>"OK",'_Engine'!$B$4=0),"",IF(MONTH('_Engine'!$B$4+17)=MONTH('_Engine'!$B$4),'_Engine'!$B$4+17,"")) -> 46586 | V11: =IF(OR('_Engine'!$B$5<>"OK",'_Engine'!$B$4=0),"",IF(MONTH('_Engine'!$B$4+18)=MONTH('_Engine'!$B$4),'_Engine'!$B$4+18,"")) -> 46587 | W11: =IF(OR('_Engine'!$B$5<>"OK",'_Engine'!$B$4=0),"",IF(MONTH('_Engine'!$B$4+19)=MONTH('_Engine'!$B$4),'_Engine'!$B$4+19,"")) -> 46588 | X11: =IF(OR('_Engine'!$B$5<>"OK",'_Engine'!$B$4=0),"",IF(MONTH('_Engine'!$B$4+20)=MONTH('_Engine'!$B$4),'_Engine'!$B$4+20,"")) -> 46589 | Y11: =IF(OR('_Engine'!$B$5<>"OK",'_Engine'!$B$4=0),"",IF(MONTH('_Engine'!$B$4+21)=MONTH('_Engine'!$B$4),'_Engine'!$B$4+21,"")) -> 46590 | Z11: =IF(OR('_Engine'!$B$5<>"OK",'_Engine'!$B$4=0),"",IF(MONTH('_Engine'!$B$4+22)=MONTH('_Engine'!$B$4),'_Engine'!$B$4+22,"")) -> 46591 | AA11: =IF(OR('_Engine'!$B$5<>"OK",'_Engine'!$B$4=0),"",IF(MONTH('_Engine'!$B$4+23)=MONTH('_Engine'!$B$4),'_Engine'!$B$4+23,"")) -> 46592 | AB11: =IF(OR('_Engine'!$B$5<>"OK",'_Engine'!$B$4=0),"",IF(MONTH('_Engine'!$B$4+24)=MONTH('_Engine'!$B$4),'_Engine'!$B$4+24,"")) -> 46593 | AC11: =IF(OR('_Engine'!$B$5<>"OK",'_Engine'!$B$4=0),"",IF(MONTH('_Engine'!$B$4+25)=MONTH('_Engine'!$B$4),'_Engine'!$B$4+25,"")) -> 46594 | AD11: =IF(OR('_Engine'!$B$5<>"OK",'_Engine'!$B$4=0),"",IF(MONTH('_Engine'!$B$4+26)=MONTH('_Engine'!$B$4),'_Engine'!$B$4+26,"")) -> 46595 | AE11: =IF(OR('_Engine'!$B$5<>"OK",'_Engine'!$B$4=0),"",IF(MONTH('_Engine'!$B$4+27)=MONTH('_Engine'!$B$4),'_Engine'!$B$4+27,"")) -> 46596 | AF11: =IF(OR('_Engine'!$B$5<>"OK",'_Engine'!$B$4=0),"",IF(MONTH('_Engine'!$B$4+28)=MONTH('_Engine'!$B$4),'_Engine'!$B$4+28,"")) -> 46597 | AG11: =IF(OR('_Engine'!$B$5<>"OK",'_Engine'!$B$4=0),"",IF(MONTH('_Engine'!$B$4+29)=MONTH('_Engine'!$B$4),'_Engine'!$B$4+29,"")) -> 46598 | AH11: =IF(OR('_Engine'!$B$5<>"OK",'_Engine'!$B$4=0),"",IF(MONTH('_Engine'!$B$4+30)=MONTH('_Engine'!$B$4),'_Engine'!$B$4+30,"")) -> 46599
A12: =IF('_Engine'!AO12=0,"",IF(INDEX(Team!$B$11:$B$60,'_Engine'!AO12)="","[Unnamed]",INDEX(Team!$B$11:$B$60,'_Engine'!AO12))) -> Alex Morgan | B12: =IF('_Engine'!AO12=0,"",INDEX('_Engine'!$AN$11:$AN$60,'_Engine'!AO12)) -> 15 | C12: =IF('_Engine'!AO12=0,"",INDEX(Team!$C$11:$C$60,'_Engine'!AO12)) -> Product | D12: =IF(OR($A12="",D$11=""),"",IF(OR('_Engine'!$B$6>0,INDEX('_Engine'!$AM$11:$AM$60,'_Engine'!$AO12)<>"OK"),"!",IF(INDEX(Team!$H$11:$N$60,'_Engine'!$AO12,WEEKDAY(D$11,2))<>"Work","—",IF(COUNTIF(Settings!$F$18:$F$67,D$11)>0,"BH",IF('_Engine'!BC12+'_Engine'!BD12=0,"·",IF('_Engine'!BC12='_Engine'!BD12,INDEX(Settings!$G$7:$G$11,MOD('_Engine'!BC12,10))&IF('_Engine'!BC12>10,"?",""),IF('_Engine'!BC12=0,INDEX(Settings!$G$7:$G$11,MOD('_Engine'!BD12,10))&IF('_Engine'!BD12>10,"?","")&" PM",IF('_Engine'!BD12=0,INDEX(Settings!$G$7:$G$11,MOD('_Engine'!BC12,10))&IF('_Engine'!BC12>10,"?","")&" AM",INDEX(Settings!$G$7:$G$11,MOD('_Engine'!BC12,10))&IF('_Engine'!BC12>10,"?","")&" AM"&CHAR(10)&INDEX(Settings!$G$7:$G$11,MOD('_Engine'!BD12,10))&IF('_Engine'!BD12>10,"?","")&" PM")))))))) -> · | E12: =IF(OR($A12="",E$11=""),"",IF(OR('_Engine'!$B$6>0,INDEX('_Engine'!$AM$11:$AM$60,'_Engine'!$AO12)<>"OK"),"!",IF(INDEX(Team!$H$11:$N$60,'_Engine'!$AO12,WEEKDAY(E$11,2))<>"Work","—",IF(COUNTIF(Settings!$F$18:$F$67,E$11)>0,"BH",IF('_Engine'!BE12+'_Engine'!BF12=0,"·",IF('_Engine'!BE12='_Engine'!BF12,INDEX(Settings!$G$7:$G$11,MOD('_Engine'!BE12,10))&IF('_Engine'!BE12>10,"?",""),IF('_Engine'!BE12=0,INDEX(Settings!$G$7:$G$11,MOD('_Engine'!BF12,10))&IF('_Engine'!BF12>10,"?","")&" PM",IF('_Engine'!BF12=0,INDEX(Settings!$G$7:$G$11,MOD('_Engine'!BE12,10))&IF('_Engine'!BE12>10,"?","")&" AM",INDEX(Settings!$G$7:$G$11,MOD('_Engine'!BE12,10))&IF('_Engine'!BE12>10,"?","")&" AM"&CHAR(10)&INDEX(Settings!$G$7:$G$11,MOD('_Engine'!BF12,10))&IF('_Engine'!BF12>10,"?","")&" PM")))))))) -> · | F12: =IF(OR($A12="",F$11=""),"",IF(OR('_Engine'!$B$6>0,INDEX('_Engine'!$AM$11:$AM$60,'_Engine'!$AO12)<>"OK"),"!",IF(INDEX(Team!$H$11:$N$60,'_Engine'!$AO12,WEEKDAY(F$11,2))<>"Work","—",IF(COUNTIF(Settings!$F$18:$F$67,F$11)>0,"BH",IF('_Engine'!BG12+'_Engine'!BH12=0,"·",IF('_Engine'!BG12='_Engine'!BH12,INDEX(Settings!$G$7:$G$11,MOD('_Engine'!BG12,10))&IF('_Engine'!BG12>10,"?",""),IF('_Engine'!BG12=0,INDEX(Settings!$G$7:$G$11,MOD('_Engine'!BH12,10))&IF('_Engine'!BH12>10,"?","")&" PM",IF('_Engine'!BH12=0,INDEX(Settings!$G$7:$G$11,MOD('_Engine'!BG12,10))&IF('_Engine'!BG12>10,"?","")&" AM",INDEX(Settings!$G$7:$G$11,MOD('_Engine'!BG12,10))&IF('_Engine'!BG12>10,"?","")&" AM"&CHAR(10)&INDEX(Settings!$G$7:$G$11,MOD('_Engine'!BH12,10))&IF('_Engine'!BH12>10,"?","")&" PM")))))))) -> — | G12: =IF(OR($A12="",G$11=""),"",IF(OR('_Engine'!$B$6>0,INDEX('_Engine'!$AM$11:$AM$60,'_Engine'!$AO12)<>"OK"),"!",IF(INDEX(Team!$H$11:$N$60,'_Engine'!$AO12,WEEKDAY(G$11,2))<>"Work","—",IF(COUNTIF(Settings!$F$18:$F$67,G$11)>0,"BH",IF('_Engine'!BI12+'_Engine'!BJ12=0,"·",IF('_Engine'!BI12='_Engine'!BJ12,INDEX(Settings!$G$7:$G$11,MOD('_Engine'!BI12,10))&IF('_Engine'!BI12>10,"?",""),IF('_Engine'!BI12=0,INDEX(Settings!$G$7:$G$11,MOD('_Engine'!BJ12,10))&IF('_Engine'!BJ12>10,"?","")&" PM",IF('_Engine'!BJ12=0,INDEX(Settings!$G$7:$G$11,MOD('_Engine'!BI12,10))&IF('_Engine'!BI12>10,"?","")&" AM",INDEX(Settings!$G$7:$G$11,MOD('_Engine'!BI12,10))&IF('_Engine'!BI12>10,"?","")&" AM"&CHAR(10)&INDEX(Settings!$G$7:$G$11,MOD('_Engine'!BJ12,10))&IF('_Engine'!BJ12>10,"?","")&" PM")))))))) -> — | H12: =IF(OR($A12="",H$11=""),"",IF(OR('_Engine'!$B$6>0,INDEX('_Engine'!$AM$11:$AM$60,'_Engine'!$AO12)<>"OK"),"!",IF(INDEX(Team!$H$11:$N$60,'_Engine'!$AO12,WEEKDAY(H$11,2))<>"Work","—",IF(COUNTIF(Settings!$F$18:$F$67,H$11)>0,"BH",IF('_Engine'!BK12+'_Engine'!BL12=0,"·",IF('_Engine'!BK12='_Engine'!BL12,INDEX(Settings!$G$7:$G$11,MOD('_Engine'!BK12,10))&IF('_Engine'!BK12>10,"?",""),IF('_Engine'!BK12=0,INDEX(Settings!$G$7:$G$11,MOD('_Engine'!BL12,10))&IF('_Engine'!BL12>10,"?","")&" PM",IF('_Engine'!BL12=0,INDEX(Settings!$G$7:$G$11,MOD('_Engine'!BK12,10))&IF('_Engine'!BK12>10,"?","")&" AM",INDEX(Settings!$G$7:$G$11,MOD('_Engine'!BK12,10))&IF('_Engine'!BK12>10,"?","")&" AM"&CHAR(10)&INDEX(Settings!$G$7:$G$11,MOD('_Engine'!BL12,10))&IF('_Engine'!BL12>10,"?","")&" PM")))))))) -> · | I12: =IF(OR($A12="",I$11=""),"",IF(OR('_Engine'!$B$6>0,INDEX('_Engine'!$AM$11:$AM$60,'_Engine'!$AO12)<>"OK"),"!",IF(INDEX(Team!$H$11:$N$60,'_Engine'!$AO12,WEEKDAY(I$11,2))<>"Work","—",IF(COUNTIF(Settings!$F$18:$F$67,I$11)>0,"BH",IF('_Engine'!BM12+'_Engine'!BN12=0,"·",IF('_Engine'!BM12='_Engine'!BN12,INDEX(Settings!$G$7:$G$11,MOD('_Engine'!BM12,10))&IF('_Engine'!BM12>10,"?",""),IF('_Engine'!BM12=0,INDEX(Settings!$G$7:$G$11,MOD('_Engine'!BN12,10))&IF('_Engine'!BN12>10,"?","")&" PM",IF('_Engine'!BN12=0,INDEX(Settings!$G$7:$G$11,MOD('_Engine'!BM12,10))&IF('_Engine'!BM12>10,"?","")&" AM",INDEX(Settings!$G$7:$G$11,MOD('_Engine'!BM12,10))&IF('_Engine'!BM12>10,"?","")&" AM"&CHAR(10)&INDEX(Settings!$G$7:$G$11,MOD('_Engine'!BN12,10))&IF('_Engine'!BN12>10,"?","")&" PM")))))))) -> · | J12: =IF(OR($A12="",J$11=""),"",IF(OR('_Engine'!$B$6>0,INDEX('_Engine'!$AM$11:$AM$60,'_Engine'!$AO12)<>"OK"),"!",IF(INDEX(Team!$H$11:$N$60,'_Engine'!$AO12,WEEKDAY(J$11,2))<>"Work","—",IF(COUNTIF(Settings!$F$18:$F$67,J$11)>0,"BH",IF('_Engine'!BO12+'_Engine'!BP12=0,"·",IF('_Engine'!BO12='_Engine'!BP12,INDEX(Settings!$G$7:$G$11,MOD('_Engine'!BO12,10))&IF('_Engine'!BO12>10,"?",""),IF('_Engine'!BO12=0,INDEX(Settings!$G$7:$G$11,MOD('_Engine'!BP12,10))&IF('_Engine'!BP12>10,"?","")&" PM",IF('_Engine'!BP12=0,INDEX(Settings!$G$7:$G$11,MOD('_Engine'!BO12,10))&IF('_Engine'!BO12>10,"?","")&" AM",INDEX(Settings!$G$7:$G$11,MOD('_Engine'!BO12,10))&IF('_Engine'!BO12>10,"?","")&" AM"&CHAR(10)&INDEX(Settings!$G$7:$G$11,MOD('_Engine'!BP12,10))&IF('_Engine'!BP12>10,"?","")&" PM")))))))) -> · | K12: =IF(OR($A12="",K$11=""),"",IF(OR('_Engine'!$B$6>0,INDEX('_Engine'!$AM$11:$AM$60,'_Engine'!$AO12)<>"OK"),"!",IF(INDEX(Team!$H$11:$N$60,'_Engine'!$AO12,WEEKDAY(K$11,2))<>"Work","—",IF(COUNTIF(Settings!$F$18:$F$67,K$11)>0,"BH",IF('_Engine'!BQ12+'_Engine'!BR12=0,"·",IF('_Engine'!BQ12='_Engine'!BR12,INDEX(Settings!$G$7:$G$11,MOD('_Engine'!BQ12,10))&IF('_Engine'!BQ12>10,"?",""),IF('_Engine'!BQ12=0,INDEX(Settings!$G$7:$G$11,MOD('_Engine'!BR12,10))&IF('_Engine'!BR12>10,"?","")&" PM",IF('_Engine'!BR12=0,INDEX(Settings!$G$7:$G$11,MOD('_Engine'!BQ12,10))&IF('_Engine'!BQ12>10,"?","")&" AM",INDEX(Settings!$G$7:$G$11,MOD('_Engine'!BQ12,10))&IF('_Engine'!BQ12>10,"?","")&" AM"&CHAR(10)&INDEX(Settings!$G$7:$G$11,MOD('_Engine'!BR12,10))&IF('_Engine'!BR12>10,"?","")&" PM")))))))) -> · | L12: =IF(OR($A12="",L$11=""),"",IF(OR('_Engine'!$B$6>0,INDEX('_Engine'!$AM$11:$AM$60,'_Engine'!$AO12)<>"OK"),"!",IF(INDEX(Team!$H$11:$N$60,'_Engine'!$AO12,WEEKDAY(L$11,2))<>"Work","—",IF(COUNTIF(Settings!$F$18:$F$67,L$11)>0,"BH",IF('_Engine'!BS12+'_Engine'!BT12=0,"·",IF('_Engine'!BS12='_Engine'!BT12,INDEX(Settings!$G$7:$G$11,MOD('_Engine'!BS12,10))&IF('_Engine'!BS12>10,"?",""),IF('_Engine'!BS12=0,INDEX(Settings!$G$7:$G$11,MOD('_Engine'!BT12,10))&IF('_Engine'!BT12>10,"?","")&" PM",IF('_Engine'!BT12=0,INDEX(Settings!$G$7:$G$11,MOD('_Engine'!BS12,10))&IF('_Engine'!BS12>10,"?","")&" AM",INDEX(Settings!$G$7:$G$11,MOD('_Engine'!BS12,10))&IF('_Engine'!BS12>10,"?","")&" AM"&CHAR(10)&INDEX(Settings!$G$7:$G$11,MOD('_Engine'!BT12,10))&IF('_Engine'!BT12>10,"?","")&" PM")))))))) -> · | M12: =IF(OR($A12="",M$11=""),"",IF(OR('_Engine'!$B$6>0,INDEX('_Engine'!$AM$11:$AM$60,'_Engine'!$AO12)<>"OK"),"!",IF(INDEX(Team!$H$11:$N$60,'_Engine'!$AO12,WEEKDAY(M$11,2))<>"Work","—",IF(COUNTIF(Settings!$F$18:$F$67,M$11)>0,"BH",IF('_Engine'!BU12+'_Engine'!BV12=0,"·",IF('_Engine'!BU12='_Engine'!BV12,INDEX(Settings!$G$7:$G$11,MOD('_Engine'!BU12,10))&IF('_Engine'!BU12>10,"?",""),IF('_Engine'!BU12=0,INDEX(Settings!$G$7:$G$11,MOD('_Engine'!BV12,10))&IF('_Engine'!BV12>10,"?","")&" PM",IF('_Engine'!BV12=0,INDEX(Settings!$G$7:$G$11,MOD('_Engine'!BU12,10))&IF('_Engine'!BU12>10,"?","")&" AM",INDEX(Settings!$G$7:$G$11,MOD('_Engine'!BU12,10))&IF('_Engine'!BU12>10,"?","")&" AM"&CHAR(10)&INDEX(Settings!$G$7:$G$11,MOD('_Engine'!BV12,10))&IF('_Engine'!BV12>10,"?","")&" PM")))))))) -> — | N12: =IF(OR($A12="",N$11=""),"",IF(OR('_Engine'!$B$6>0,INDEX('_Engine'!$AM$11:$AM$60,'_Engine'!$AO12)<>"OK"),"!",IF(INDEX(Team!$H$11:$N$60,'_Engine'!$AO12,WEEKDAY(N$11,2))<>"Work","—",IF(COUNTIF(Settings!$F$18:$F$67,N$11)>0,"BH",IF('_Engine'!BW12+'_Engine'!BX12=0,"·",IF('_Engine'!BW12='_Engine'!BX12,INDEX(Settings!$G$7:$G$11,MOD('_Engine'!BW12,10))&IF('_Engine'!BW12>10,"?",""),IF('_Engine'!BW12=0,INDEX(Settings!$G$7:$G$11,MOD('_Engine'!BX12,10))&IF('_Engine'!BX12>10,"?","")&" PM",IF('_Engine'!BX12=0,INDEX(Settings!$G$7:$G$11,MOD('_Engine'!BW12,10))&IF('_Engine'!BW12>10,"?","")&" AM",INDEX(Settings!$G$7:$G$11,MOD('_Engine'!BW12,10))&IF('_Engine'!BW12>10,"?","")&" AM"&CHAR(10)&INDEX(Settings!$G$7:$G$11,MOD('_Engine'!BX12,10))&IF('_Engine'!BX12>10,"?","")&" PM")))))))) -> — | O12: =IF(OR($A12="",O$11=""),"",IF(OR('_Engine'!$B$6>0,INDEX('_Engine'!$AM$11:$AM$60,'_Engine'!$AO12)<>"OK"),"!",IF(INDEX(Team!$H$11:$N$60,'_Engine'!$AO12,WEEKDAY(O$11,2))<>"Work","—",IF(COUNTIF(Settings!$F$18:$F$67,O$11)>0,"BH",IF('_Engine'!BY12+'_Engine'!BZ12=0,"·",IF('_Engine'!BY12='_Engine'!BZ12,INDEX(Settings!$G$7:$G$11,MOD('_Engine'!BY12,10))&IF('_Engine'!BY12>10,"?",""),IF('_Engine'!BY12=0,INDEX(Settings!$G$7:$G$11,MOD('_Engine'!BZ12,10))&IF('_Engine'!BZ12>10,"?","")&" PM",IF('_Engine'!BZ12=0,INDEX(Settings!$G$7:$G$11,MOD('_Engine'!BY12,10))&IF('_Engine'!BY12>10,"?","")&" AM",INDEX(Settings!$G$7:$G$11,MOD('_Engine'!BY12,10))&IF('_Engine'!BY12>10,"?","")&" AM"&CHAR(10)&INDEX(Settings!$G$7:$G$11,MOD('_Engine'!BZ12,10))&IF('_Engine'!BZ12>10,"?","")&" PM")))))))) -> H | P12: =IF(OR($A12="",P$11=""),"",IF(OR('_Engine'!$B$6>0,INDEX('_Engine'!$AM$11:$AM$60,'_Engine'!$AO12)<>"OK"),"!",IF(INDEX(Team!$H$11:$N$60,'_Engine'!$AO12,WEEKDAY(P$11,2))<>"Work","—",IF(COUNTIF(Settings!$F$18:$F$67,P$11)>0,"BH",IF('_Engine'!CA12+'_Engine'!CB12=0,"·",IF('_Engine'!CA12='_Engine'!CB12,INDEX(Settings!$G$7:$G$11,MOD('_Engine'!CA12,10))&IF('_Engine'!CA12>10,"?",""),IF('_Engine'!CA12=0,INDEX(Settings!$G$7:$G$11,MOD('_Engine'!CB12,10))&IF('_Engine'!CB12>10,"?","")&" PM",IF('_Engine'!CB12=0,INDEX(Settings!$G$7:$G$11,MOD('_Engine'!CA12,10))&IF('_Engine'!CA12>10,"?","")&" AM",INDEX(Settings!$G$7:$G$11,MOD('_Engine'!CA12,10))&IF('_Engine'!CA12>10,"?","")&" AM"&CHAR(10)&INDEX(Settings!$G$7:$G$11,MOD('_Engine'!CB12,10))&IF('_Engine'!CB12>10,"?","")&" PM")))))))) -> H | Q12: =IF(OR($A12="",Q$11=""),"",IF(OR('_Engine'!$B$6>0,INDEX('_Engine'!$AM$11:$AM$60,'_Engine'!$AO12)<>"OK"),"!",IF(INDEX(Team!$H$11:$N$60,'_Engine'!$AO12,WEEKDAY(Q$11,2))<>"Work","—",IF(COUNTIF(Settings!$F$18:$F$67,Q$11)>0,"BH",IF('_Engine'!CC12+'_Engine'!CD12=0,"·",IF('_Engine'!CC12='_Engine'!CD12,INDEX(Settings!$G$7:$G$11,MOD('_Engine'!CC12,10))&IF('_Engine'!CC12>10,"?",""),IF('_Engine'!CC12=0,INDEX(Settings!$G$7:$G$11,MOD('_Engine'!CD12,10))&IF('_Engine'!CD12>10,"?","")&" PM",IF('_Engine'!CD12=0,INDEX(Settings!$G$7:$G$11,MOD('_Engine'!CC12,10))&IF('_Engine'!CC12>10,"?","")&" AM",INDEX(Settings!$G$7:$G$11,MOD('_Engine'!CC12,10))&IF('_Engine'!CC12>10,"?","")&" AM"&CHAR(10)&INDEX(Settings!$G$7:$G$11,MOD('_Engine'!CD12,10))&IF('_Engine'!CD12>10,"?","")&" PM")))))))) -> H | R12: =IF(OR($A12="",R$11=""),"",IF(OR('_Engine'!$B$6>0,INDEX('_Engine'!$AM$11:$AM$60,'_Engine'!$AO12)<>"OK"),"!",IF(INDEX(Team!$H$11:$N$60,'_Engine'!$AO12,WEEKDAY(R$11,2))<>"Work","—",IF(COUNTIF(Settings!$F$18:$F$67,R$11)>0,"BH",IF('_Engine'!CE12+'_Engine'!CF12=0,"·",IF('_Engine'!CE12='_Engine'!CF12,INDEX(Settings!$G$7:$G$11,MOD('_Engine'!CE12,10))&IF('_Engine'!CE12>10,"?",""),IF('_Engine'!CE12=0,INDEX(Settings!$G$7:$G$11,MOD('_Engine'!CF12,10))&IF('_Engine'!CF12>10,"?","")&" PM",IF('_Engine'!CF12=0,INDEX(Settings!$G$7:$G$11,MOD('_Engine'!CE12,10))&IF('_Engine'!CE12>10,"?","")&" AM",INDEX(Settings!$G$7:$G$11,MOD('_Engine'!CE12,10))&IF('_Engine'!CE12>10,"?","")&" AM"&CHAR(10)&INDEX(Settings!$G$7:$G$11,MOD('_Engine'!CF12,10))&IF('_Engine'!CF12>10,"?","")&" PM")))))))) -> H | S12: =IF(OR($A12="",S$11=""),"",IF(OR('_Engine'!$B$6>0,INDEX('_Engine'!$AM$11:$AM$60,'_Engine'!$AO12)<>"OK"),"!",IF(INDEX(Team!$H$11:$N$60,'_Engine'!$AO12,WEEKDAY(S$11,2))<>"Work","—",IF(COUNTIF(Settings!$F$18:$F$67,S$11)>0,"BH",IF('_Engine'!CG12+'_Engine'!CH12=0,"·",IF('_Engine'!CG12='_Engine'!CH12,INDEX(Settings!$G$7:$G$11,MOD('_Engine'!CG12,10))&IF('_Engine'!CG12>10,"?",""),IF('_Engine'!CG12=0,INDEX(Settings!$G$7:$G$11,MOD('_Engine'!CH12,10))&IF('_Engine'!CH12>10,"?","")&" PM",IF('_Engine'!CH12=0,INDEX(Settings!$G$7:$G$11,MOD('_Engine'!CG12,10))&IF('_Engine'!CG12>10,"?","")&" AM",INDEX(Settings!$G$7:$G$11,MOD('_Engine'!CG12,10))&IF('_Engine'!CG12>10,"?","")&" AM"&CHAR(10)&INDEX(Settings!$G$7:$G$11,MOD('_Engine'!CH12,10))&IF('_Engine'!CH12>10,"?","")&" PM")))))))) -> H | T12: =IF(OR($A12="",T$11=""),"",IF(OR('_Engine'!$B$6>0,INDEX('_Engine'!$AM$11:$AM$60,'_Engine'!$AO12)<>"OK"),"!",IF(INDEX(Team!$H$11:$N$60,'_Engine'!$AO12,WEEKDAY(T$11,2))<>"Work","—",IF(COUNTIF(Settings!$F$18:$F$67,T$11)>0,"BH",IF('_Engine'!CI12+'_Engine'!CJ12=0,"·",IF('_Engine'!CI12='_Engine'!CJ12,INDEX(Settings!$G$7:$G$11,MOD('_Engine'!CI12,10))&IF('_Engine'!CI12>10,"?",""),IF('_Engine'!CI12=0,INDEX(Settings!$G$7:$G$11,MOD('_Engine'!CJ12,10))&IF('_Engine'!CJ12>10,"?","")&" PM",IF('_Engine'!CJ12=0,INDEX(Settings!$G$7:$G$11,MOD('_Engine'!CI12,10))&IF('_Engine'!CI12>10,"?","")&" AM",INDEX(Settings!$G$7:$G$11,MOD('_Engine'!CI12,10))&IF('_Engine'!CI12>10,"?","")&" AM"&CHAR(10)&INDEX(Settings!$G$7:$G$11,MOD('_Engine'!CJ12,10))&IF('_Engine'!CJ12>10,"?","")&" PM")))))))) -> — | U12: =IF(OR($A12="",U$11=""),"",IF(OR('_Engine'!$B$6>0,INDEX('_Engine'!$AM$11:$AM$60,'_Engine'!$AO12)<>"OK"),"!",IF(INDEX(Team!$H$11:$N$60,'_Engine'!$AO12,WEEKDAY(U$11,2))<>"Work","—",IF(COUNTIF(Settings!$F$18:$F$67,U$11)>0,"BH",IF('_Engine'!CK12+'_Engine'!CL12=0,"·",IF('_Engine'!CK12='_Engine'!CL12,INDEX(Settings!$G$7:$G$11,MOD('_Engine'!CK12,10))&IF('_Engine'!CK12>10,"?",""),IF('_Engine'!CK12=0,INDEX(Settings!$G$7:$G$11,MOD('_Engine'!CL12,10))&IF('_Engine'!CL12>10,"?","")&" PM",IF('_Engine'!CL12=0,INDEX(Settings!$G$7:$G$11,MOD('_Engine'!CK12,10))&IF('_Engine'!CK12>10,"?","")&" AM",INDEX(Settings!$G$7:$G$11,MOD('_Engine'!CK12,10))&IF('_Engine'!CK12>10,"?","")&" AM"&CHAR(10)&INDEX(Settings!$G$7:$G$11,MOD('_Engine'!CL12,10))&IF('_Engine'!CL12>10,"?","")&" PM")))))))) -> — | V12: =IF(OR($A12="",V$11=""),"",IF(OR('_Engine'!$B$6>0,INDEX('_Engine'!$AM$11:$AM$60,'_Engine'!$AO12)<>"OK"),"!",IF(INDEX(Team!$H$11:$N$60,'_Engine'!$AO12,WEEKDAY(V$11,2))<>"Work","—",IF(COUNTIF(Settings!$F$18:$F$67,V$11)>0,"BH",IF('_Engine'!CM12+'_Engine'!CN12=0,"·",IF('_Engine'!CM12='_Engine'!CN12,INDEX(Settings!$G$7:$G$11,MOD('_Engine'!CM12,10))&IF('_Engine'!CM12>10,"?",""),IF('_Engine'!CM12=0,INDEX(Settings!$G$7:$G$11,MOD('_Engine'!CN12,10))&IF('_Engine'!CN12>10,"?","")&" PM",IF('_Engine'!CN12=0,INDEX(Settings!$G$7:$G$11,MOD('_Engine'!CM12,10))&IF('_Engine'!CM12>10,"?","")&" AM",INDEX(Settings!$G$7:$G$11,MOD('_Engine'!CM12,10))&IF('_Engine'!CM12>10,"?","")&" AM"&CHAR(10)&INDEX(Settings!$G$7:$G$11,MOD('_Engine'!CN12,10))&IF('_Engine'!CN12>10,"?","")&" PM")))))))) -> · | W12: =IF(OR($A12="",W$11=""),"",IF(OR('_Engine'!$B$6>0,INDEX('_Engine'!$AM$11:$AM$60,'_Engine'!$AO12)<>"OK"),"!",IF(INDEX(Team!$H$11:$N$60,'_Engine'!$AO12,WEEKDAY(W$11,2))<>"Work","—",IF(COUNTIF(Settings!$F$18:$F$67,W$11)>0,"BH",IF('_Engine'!CO12+'_Engine'!CP12=0,"·",IF('_Engine'!CO12='_Engine'!CP12,INDEX(Settings!$G$7:$G$11,MOD('_Engine'!CO12,10))&IF('_Engine'!CO12>10,"?",""),IF('_Engine'!CO12=0,INDEX(Settings!$G$7:$G$11,MOD('_Engine'!CP12,10))&IF('_Engine'!CP12>10,"?","")&" PM",IF('_Engine'!CP12=0,INDEX(Settings!$G$7:$G$11,MOD('_Engine'!CO12,10))&IF('_Engine'!CO12>10,"?","")&" AM",INDEX(Settings!$G$7:$G$11,MOD('_Engine'!CO12,10))&IF('_Engine'!CO12>10,"?","")&" AM"&CHAR(10)&INDEX(Settings!$G$7:$G$11,MOD('_Engine'!CP12,10))&IF('_Engine'!CP12>10,"?","")&" PM")))))))) -> · | X12: =IF(OR($A12="",X$11=""),"",IF(OR('_Engine'!$B$6>0,INDEX('_Engine'!$AM$11:$AM$60,'_Engine'!$AO12)<>"OK"),"!",IF(INDEX(Team!$H$11:$N$60,'_Engine'!$AO12,WEEKDAY(X$11,2))<>"Work","—",IF(COUNTIF(Settings!$F$18:$F$67,X$11)>0,"BH",IF('_Engine'!CQ12+'_Engine'!CR12=0,"·",IF('_Engine'!CQ12='_Engine'!CR12,INDEX(Settings!$G$7:$G$11,MOD('_Engine'!CQ12,10))&IF('_Engine'!CQ12>10,"?",""),IF('_Engine'!CQ12=0,INDEX(Settings!$G$7:$G$11,MOD('_Engine'!CR12,10))&IF('_Engine'!CR12>10,"?","")&" PM",IF('_Engine'!CR12=0,INDEX(Settings!$G$7:$G$11,MOD('_Engine'!CQ12,10))&IF('_Engine'!CQ12>10,"?","")&" AM",INDEX(Settings!$G$7:$G$11,MOD('_Engine'!CQ12,10))&IF('_Engine'!CQ12>10,"?","")&" AM"&CHAR(10)&INDEX(Settings!$G$7:$G$11,MOD('_Engine'!CR12,10))&IF('_Engine'!CR12>10,"?","")&" PM")))))))) -> · | Y12: =IF(OR($A12="",Y$11=""),"",IF(OR('_Engine'!$B$6>0,INDEX('_Engine'!$AM$11:$AM$60,'_Engine'!$AO12)<>"OK"),"!",IF(INDEX(Team!$H$11:$N$60,'_Engine'!$AO12,WEEKDAY(Y$11,2))<>"Work","—",IF(COUNTIF(Settings!$F$18:$F$67,Y$11)>0,"BH",IF('_Engine'!CS12+'_Engine'!CT12=0,"·",IF('_Engine'!CS12='_Engine'!CT12,INDEX(Settings!$G$7:$G$11,MOD('_Engine'!CS12,10))&IF('_Engine'!CS12>10,"?",""),IF('_Engine'!CS12=0,INDEX(Settings!$G$7:$G$11,MOD('_Engine'!CT12,10))&IF('_Engine'!CT12>10,"?","")&" PM",IF('_Engine'!CT12=0,INDEX(Settings!$G$7:$G$11,MOD('_Engine'!CS12,10))&IF('_Engine'!CS12>10,"?","")&" AM",INDEX(Settings!$G$7:$G$11,MOD('_Engine'!CS12,10))&IF('_Engine'!CS12>10,"?","")&" AM"&CHAR(10)&INDEX(Settings!$G$7:$G$11,MOD('_Engine'!CT12,10))&IF('_Engine'!CT12>10,"?","")&" PM")))))))) -> · | Z12: =IF(OR($A12="",Z$11=""),"",IF(OR('_Engine'!$B$6>0,INDEX('_Engine'!$AM$11:$AM$60,'_Engine'!$AO12)<>"OK"),"!",IF(INDEX(Team!$H$11:$N$60,'_Engine'!$AO12,WEEKDAY(Z$11,2))<>"Work","—",IF(COUNTIF(Settings!$F$18:$F$67,Z$11)>0,"BH",IF('_Engine'!CU12+'_Engine'!CV12=0,"·",IF('_Engine'!CU12='_Engine'!CV12,INDEX(Settings!$G$7:$G$11,MOD('_Engine'!CU12,10))&IF('_Engine'!CU12>10,"?",""),IF('_Engine'!CU12=0,INDEX(Settings!$G$7:$G$11,MOD('_Engine'!CV12,10))&IF('_Engine'!CV12>10,"?","")&" PM",IF('_Engine'!CV12=0,INDEX(Settings!$G$7:$G$11,MOD('_Engine'!CU12,10))&IF('_Engine'!CU12>10,"?","")&" AM",INDEX(Settings!$G$7:$G$11,MOD('_Engine'!CU12,10))&IF('_Engine'!CU12>10,"?","")&" AM"&CHAR(10)&INDEX(Settings!$G$7:$G$11,MOD('_Engine'!CV12,10))&IF('_Engine'!CV12>10,"?","")&" PM")))))))) -> BH | AA12: =IF(OR($A12="",AA$11=""),"",IF(OR('_Engine'!$B$6>0,INDEX('_Engine'!$AM$11:$AM$60,'_Engine'!$AO12)<>"OK"),"!",IF(INDEX(Team!$H$11:$N$60,'_Engine'!$AO12,WEEKDAY(AA$11,2))<>"Work","—",IF(COUNTIF(Settings!$F$18:$F$67,AA$11)>0,"BH",IF('_Engine'!CW12+'_Engine'!CX12=0,"·",IF('_Engine'!CW12='_Engine'!CX12,INDEX(Settings!$G$7:$G$11,MOD('_Engine'!CW12,10))&IF('_Engine'!CW12>10,"?",""),IF('_Engine'!CW12=0,INDEX(Settings!$G$7:$G$11,MOD('_Engine'!CX12,10))&IF('_Engine'!CX12>10,"?","")&" PM",IF('_Engine'!CX12=0,INDEX(Settings!$G$7:$G$11,MOD('_Engine'!CW12,10))&IF('_Engine'!CW12>10,"?","")&" AM",INDEX(Settings!$G$7:$G$11,MOD('_Engine'!CW12,10))&IF('_Engine'!CW12>10,"?","")&" AM"&CHAR(10)&INDEX(Settings!$G$7:$G$11,MOD('_Engine'!CX12,10))&IF('_Engine'!CX12>10,"?","")&" PM")))))))) -> — | AB12: =IF(OR($A12="",AB$11=""),"",IF(OR('_Engine'!$B$6>0,INDEX('_Engine'!$AM$11:$AM$60,'_Engine'!$AO12)<>"OK"),"!",IF(INDEX(Team!$H$11:$N$60,'_Engine'!$AO12,WEEKDAY(AB$11,2))<>"Work","—",IF(COUNTIF(Settings!$F$18:$F$67,AB$11)>0,"BH",IF('_Engine'!CY12+'_Engine'!CZ12=0,"·",IF('_Engine'!CY12='_Engine'!CZ12,INDEX(Settings!$G$7:$G$11,MOD('_Engine'!CY12,10))&IF('_Engine'!CY12>10,"?",""),IF('_Engine'!CY12=0,INDEX(Settings!$G$7:$G$11,MOD('_Engine'!CZ12,10))&IF('_Engine'!CZ12>10,"?","")&" PM",IF('_Engine'!CZ12=0,INDEX(Settings!$G$7:$G$11,MOD('_Engine'!CY12,10))&IF('_Engine'!CY12>10,"?","")&" AM",INDEX(Settings!$G$7:$G$11,MOD('_Engine'!CY12,10))&IF('_Engine'!CY12>10,"?","")&" AM"&CHAR(10)&INDEX(Settings!$G$7:$G$11,MOD('_Engine'!CZ12,10))&IF('_Engine'!CZ12>10,"?","")&" PM")))))))) -> — | AC12: =IF(OR($A12="",AC$11=""),"",IF(OR('_Engine'!$B$6>0,INDEX('_Engine'!$AM$11:$AM$60,'_Engine'!$AO12)<>"OK"),"!",IF(INDEX(Team!$H$11:$N$60,'_Engine'!$AO12,WEEKDAY(AC$11,2))<>"Work","—",IF(COUNTIF(Settings!$F$18:$F$67,AC$11)>0,"BH",IF('_Engine'!DA12+'_Engine'!DB12=0,"·",IF('_Engine'!DA12='_Engine'!DB12,INDEX(Settings!$G$7:$G$11,MOD('_Engine'!DA12,10))&IF('_Engine'!DA12>10,"?",""),IF('_Engine'!DA12=0,INDEX(Settings!$G$7:$G$11,MOD('_Engine'!DB12,10))&IF('_Engine'!DB12>10,"?","")&" PM",IF('_Engine'!DB12=0,INDEX(Settings!$G$7:$G$11,MOD('_Engine'!DA12,10))&IF('_Engine'!DA12>10,"?","")&" AM",INDEX(Settings!$G$7:$G$11,MOD('_Engine'!DA12,10))&IF('_Engine'!DA12>10,"?","")&" AM"&CHAR(10)&INDEX(Settings!$G$7:$G$11,MOD('_Engine'!DB12,10))&IF('_Engine'!DB12>10,"?","")&" PM")))))))) -> · | AD12: =IF(OR($A12="",AD$11=""),"",IF(OR('_Engine'!$B$6>0,INDEX('_Engine'!$AM$11:$AM$60,'_Engine'!$AO12)<>"OK"),"!",IF(INDEX(Team!$H$11:$N$60,'_Engine'!$AO12,WEEKDAY(AD$11,2))<>"Work","—",IF(COUNTIF(Settings!$F$18:$F$67,AD$11)>0,"BH",IF('_Engine'!DC12+'_Engine'!DD12=0,"·",IF('_Engine'!DC12='_Engine'!DD12,INDEX(Settings!$G$7:$G$11,MOD('_Engine'!DC12,10))&IF('_Engine'!DC12>10,"?",""),IF('_Engine'!DC12=0,INDEX(Settings!$G$7:$G$11,MOD('_Engine'!DD12,10))&IF('_Engine'!DD12>10,"?","")&" PM",IF('_Engine'!DD12=0,INDEX(Settings!$G$7:$G$11,MOD('_Engine'!DC12,10))&IF('_Engine'!DC12>10,"?","")&" AM",INDEX(Settings!$G$7:$G$11,MOD('_Engine'!DC12,10))&IF('_Engine'!DC12>10,"?","")&" AM"&CHAR(10)&INDEX(Settings!$G$7:$G$11,MOD('_Engine'!DD12,10))&IF('_Engine'!DD12>10,"?","")&" PM")))))))) -> · | AE12: =IF(OR($A12="",AE$11=""),"",IF(OR('_Engine'!$B$6>0,INDEX('_Engine'!$AM$11:$AM$60,'_Engine'!$AO12)<>"OK"),"!",IF(INDEX(Team!$H$11:$N$60,'_Engine'!$AO12,WEEKDAY(AE$11,2))<>"Work","—",IF(COUNTIF(Settings!$F$18:$F$67,AE$11)>0,"BH",IF('_Engine'!DE12+'_Engine'!DF12=0,"·",IF('_Engine'!DE12='_Engine'!DF12,INDEX(Settings!$G$7:$G$11,MOD('_Engine'!DE12,10))&IF('_Engine'!DE12>10,"?",""),IF('_Engine'!DE12=0,INDEX(Settings!$G$7:$G$11,MOD('_Engine'!DF12,10))&IF('_Engine'!DF12>10,"?","")&" PM",IF('_Engine'!DF12=0,INDEX(Settings!$G$7:$G$11,MOD('_Engine'!DE12,10))&IF('_Engine'!DE12>10,"?","")&" AM",INDEX(Settings!$G$7:$G$11,MOD('_Engine'!DE12,10))&IF('_Engine'!DE12>10,"?","")&" AM"&CHAR(10)&INDEX(Settings!$G$7:$G$11,MOD('_Engine'!DF12,10))&IF('_Engine'!DF12>10,"?","")&" PM")))))))) -> · | AF12: =IF(OR($A12="",AF$11=""),"",IF(OR('_Engine'!$B$6>0,INDEX('_Engine'!$AM$11:$AM$60,'_Engine'!$AO12)<>"OK"),"!",IF(INDEX(Team!$H$11:$N$60,'_Engine'!$AO12,WEEKDAY(AF$11,2))<>"Work","—",IF(COUNTIF(Settings!$F$18:$F$67,AF$11)>0,"BH",IF('_Engine'!DG12+'_Engine'!DH12=0,"·",IF('_Engine'!DG12='_Engine'!DH12,INDEX(Settings!$G$7:$G$11,MOD('_Engine'!DG12,10))&IF('_Engine'!DG12>10,"?",""),IF('_Engine'!DG12=0,INDEX(Settings!$G$7:$G$11,MOD('_Engine'!DH12,10))&IF('_Engine'!DH12>10,"?","")&" PM",IF('_Engine'!DH12=0,INDEX(Settings!$G$7:$G$11,MOD('_Engine'!DG12,10))&IF('_Engine'!DG12>10,"?","")&" AM",INDEX(Settings!$G$7:$G$11,MOD('_Engine'!DG12,10))&IF('_Engine'!DG12>10,"?","")&" AM"&CHAR(10)&INDEX(Settings!$G$7:$G$11,MOD('_Engine'!DH12,10))&IF('_Engine'!DH12>10,"?","")&" PM")))))))) -> · | AG12: =IF(OR($A12="",AG$11=""),"",IF(OR('_Engine'!$B$6>0,INDEX('_Engine'!$AM$11:$AM$60,'_Engine'!$AO12)<>"OK"),"!",IF(INDEX(Team!$H$11:$N$60,'_Engine'!$AO12,WEEKDAY(AG$11,2))<>"Work","—",IF(COUNTIF(Settings!$F$18:$F$67,AG$11)>0,"BH",IF('_Engine'!DI12+'_Engine'!DJ12=0,"·",IF('_Engine'!DI12='_Engine'!DJ12,INDEX(Settings!$G$7:$G$11,MOD('_Engine'!DI12,10))&IF('_Engine'!DI12>10,"?",""),IF('_Engine'!DI12=0,INDEX(Settings!$G$7:$G$11,MOD('_Engine'!DJ12,10))&IF('_Engine'!DJ12>10,"?","")&" PM",IF('_Engine'!DJ12=0,INDEX(Settings!$G$7:$G$11,MOD('_Engine'!DI12,10))&IF('_Engine'!DI12>10,"?","")&" AM",INDEX(Settings!$G$7:$G$11,MOD('_Engine'!DI12,10))&IF('_Engine'!DI12>10,"?","")&" AM"&CHAR(10)&INDEX(Settings!$G$7:$G$11,MOD('_Engine'!DJ12,10))&IF('_Engine'!DJ12>10,"?","")&" PM")))))))) -> · | AH12: =IF(OR($A12="",AH$11=""),"",IF(OR('_Engine'!$B$6>0,INDEX('_Engine'!$AM$11:$AM$60,'_Engine'!$AO12)<>"OK"),"!",IF(INDEX(Team!$H$11:$N$60,'_Engine'!$AO12,WEEKDAY(AH$11,2))<>"Work","—",IF(COUNTIF(Settings!$F$18:$F$67,AH$11)>0,"BH",IF('_Engine'!DK12+'_Engine'!DL12=0,"·",IF('_Engine'!DK12='_Engine'!DL12,INDEX(Settings!$G$7:$G$11,MOD('_Engine'!DK12,10))&IF('_Engine'!DK12>10,"?",""),IF('_Engine'!DK12=0,INDEX(Settings!$G$7:$G$11,MOD('_Engine'!DL12,10))&IF('_Engine'!DL12>10,"?","")&" PM",IF('_Engine'!DL12=0,INDEX(Settings!$G$7:$G$11,MOD('_Engine'!DK12,10))&IF('_Engine'!DK12>10,"?","")&" AM",INDEX(Settings!$G$7:$G$11,MOD('_Engine'!DK12,10))&IF('_Engine'!DK12>10,"?","")&" AM"&CHAR(10)&INDEX(Settings!$G$7:$G$11,MOD('_Engine'!DL12,10))&IF('_Engine'!DL12>10,"?","")&" PM")))))))) -> —
A13: =IF('_Engine'!AO13=0,"",IF(INDEX(Team!$B$11:$B$60,'_Engine'!AO13)="","[Unnamed]",INDEX(Team!$B$11:$B$60,'_Engine'!AO13))) -> Helen Stone | B13: =IF('_Engine'!AO13=0,"",INDEX('_Engine'!$AN$11:$AN$60,'_Engine'!AO13)) -> 24.5 | C13: =IF('_Engine'!AO13=0,"",INDEX(Team!$C$11:$C$60,'_Engine'!AO13)) -> Operations | D13: =IF(OR($A13="",D$11=""),"",IF(OR('_Engine'!$B$6>0,INDEX('_Engine'!$AM$11:$AM$60,'_Engine'!$AO13)<>"OK"),"!",IF(INDEX(Team!$H$11:$N$60,'_Engine'!$AO13,WEEKDAY(D$11,2))<>"Work","—",IF(COUNTIF(Settings!$F$18:$F$67,D$11)>0,"BH",IF('_Engine'!BC13+'_Engine'!BD13=0,"·",IF('_Engine'!BC13='_Engine'!BD13,INDEX(Settings!$G$7:$G$11,MOD('_Engine'!BC13,10))&IF('_Engine'!BC13>10,"?",""),IF('_Engine'!BC13=0,INDEX(Settings!$G$7:$G$11,MOD('_Engine'!BD13,10))&IF('_Engine'!BD13>10,"?","")&" PM",IF('_Engine'!BD13=0,INDEX(Settings!$G$7:$G$11,MOD('_Engine'!BC13,10))&IF('_Engine'!BC13>10,"?","")&" AM",INDEX(Settings!$G$7:$G$11,MOD('_Engine'!BC13,10))&IF('_Engine'!BC13>10,"?","")&" AM"&CHAR(10)&INDEX(Settings!$G$7:$G$11,MOD('_Engine'!BD13,10))&IF('_Engine'!BD13>10,"?","")&" PM")))))))) -> · | E13: =IF(OR($A13="",E$11=""),"",IF(OR('_Engine'!$B$6>0,INDEX('_Engine'!$AM$11:$AM$60,'_Engine'!$AO13)<>"OK"),"!",IF(INDEX(Team!$H$11:$N$60,'_Engine'!$AO13,WEEKDAY(E$11,2))<>"Work","—",IF(COUNTIF(Settings!$F$18:$F$67,E$11)>0,"BH",IF('_Engine'!BE13+'_Engine'!BF13=0,"·",IF('_Engine'!BE13='_Engine'!BF13,INDEX(Settings!$G$7:$G$11,MOD('_Engine'!BE13,10))&IF('_Engine'!BE13>10,"?",""),IF('_Engine'!BE13=0,INDEX(Settings!$G$7:$G$11,MOD('_Engine'!BF13,10))&IF('_Engine'!BF13>10,"?","")&" PM",IF('_Engine'!BF13=0,INDEX(Settings!$G$7:$G$11,MOD('_Engine'!BE13,10))&IF('_Engine'!BE13>10,"?","")&" AM",INDEX(Settings!$G$7:$G$11,MOD('_Engine'!BE13,10))&IF('_Engine'!BE13>10,"?","")&" AM"&CHAR(10)&INDEX(Settings!$G$7:$G$11,MOD('_Engine'!BF13,10))&IF('_Engine'!BF13>10,"?","")&" PM")))))))) -> · | F13: =IF(OR($A13="",F$11=""),"",IF(OR('_Engine'!$B$6>0,INDEX('_Engine'!$AM$11:$AM$60,'_Engine'!$AO13)<>"OK"),"!",IF(INDEX(Team!$H$11:$N$60,'_Engine'!$AO13,WEEKDAY(F$11,2))<>"Work","—",IF(COUNTIF(Settings!$F$18:$F$67,F$11)>0,"BH",IF('_Engine'!BG13+'_Engine'!BH13=0,"·",IF('_Engine'!BG13='_Engine'!BH13,INDEX(Settings!$G$7:$G$11,MOD('_Engine'!BG13,10))&IF('_Engine'!BG13>10,"?",""),IF('_Engine'!BG13=0,INDEX(Settings!$G$7:$G$11,MOD('_Engine'!BH13,10))&IF('_Engine'!BH13>10,"?","")&" PM",IF('_Engine'!BH13=0,INDEX(Settings!$G$7:$G$11,MOD('_Engine'!BG13,10))&IF('_Engine'!BG13>10,"?","")&" AM",INDEX(Settings!$G$7:$G$11,MOD('_Engine'!BG13,10))&IF('_Engine'!BG13>10,"?","")&" AM"&CHAR(10)&INDEX(Settings!$G$7:$G$11,MOD('_Engine'!BH13,10))&IF('_Engine'!BH13>10,"?","")&" PM")))))))) -> — | G13: =IF(OR($A13="",G$11=""),"",IF(OR('_Engine'!$B$6>0,INDEX('_Engine'!$AM$11:$AM$60,'_Engine'!$AO13)<>"OK"),"!",IF(INDEX(Team!$H$11:$N$60,'_Engine'!$AO13,WEEKDAY(G$11,2))<>"Work","—",IF(COUNTIF(Settings!$F$18:$F$67,G$11)>0,"BH",IF('_Engine'!BI13+'_Engine'!BJ13=0,"·",IF('_Engine'!BI13='_Engine'!BJ13,INDEX(Settings!$G$7:$G$11,MOD('_Engine'!BI13,10))&IF('_Engine'!BI13>10,"?",""),IF('_Engine'!BI13=0,INDEX(Settings!$G$7:$G$11,MOD('_Engine'!BJ13,10))&IF('_Engine'!BJ13>10,"?","")&" PM",IF('_Engine'!BJ13=0,INDEX(Settings!$G$7:$G$11,MOD('_Engine'!BI13,10))&IF('_Engine'!BI13>10,"?","")&" AM",INDEX(Settings!$G$7:$G$11,MOD('_Engine'!BI13,10))&IF('_Engine'!BI13>10,"?","")&" AM"&CHAR(10)&INDEX(Settings!$G$7:$G$11,MOD('_Engine'!BJ13,10))&IF('_Engine'!BJ13>10,"?","")&" PM")))))))) -> — | H13: =IF(OR($A13="",H$11=""),"",IF(OR('_Engine'!$B$6>0,INDEX('_Engine'!$AM$11:$AM$60,'_Engine'!$AO13)<>"OK"),"!",IF(INDEX(Team!$H$11:$N$60,'_Engine'!$AO13,WEEKDAY(H$11,2))<>"Work","—",IF(COUNTIF(Settings!$F$18:$F$67,H$11)>0,"BH",IF('_Engine'!BK13+'_Engine'!BL13=0,"·",IF('_Engine'!BK13='_Engine'!BL13,INDEX(Settings!$G$7:$G$11,MOD('_Engine'!BK13,10))&IF('_Engine'!BK13>10,"?",""),IF('_Engine'!BK13=0,INDEX(Settings!$G$7:$G$11,MOD('_Engine'!BL13,10))&IF('_Engine'!BL13>10,"?","")&" PM",IF('_Engine'!BL13=0,INDEX(Settings!$G$7:$G$11,MOD('_Engine'!BK13,10))&IF('_Engine'!BK13>10,"?","")&" AM",INDEX(Settings!$G$7:$G$11,MOD('_Engine'!BK13,10))&IF('_Engine'!BK13>10,"?","")&" AM"&CHAR(10)&INDEX(Settings!$G$7:$G$11,MOD('_Engine'!BL13,10))&IF('_Engine'!BL13>10,"?","")&" PM")))))))) -> · | I13: =IF(OR($A13="",I$11=""),"",IF(OR('_Engine'!$B$6>0,INDEX('_Engine'!$AM$11:$AM$60,'_Engine'!$AO13)<>"OK"),"!",IF(INDEX(Team!$H$11:$N$60,'_Engine'!$AO13,WEEKDAY(I$11,2))<>"Work","—",IF(COUNTIF(Settings!$F$18:$F$67,I$11)>0,"BH",IF('_Engine'!BM13+'_Engine'!BN13=0,"·",IF('_Engine'!BM13='_Engine'!BN13,INDEX(Settings!$G$7:$G$11,MOD('_Engine'!BM13,10))&IF('_Engine'!BM13>10,"?",""),IF('_Engine'!BM13=0,INDEX(Settings!$G$7:$G$11,MOD('_Engine'!BN13,10))&IF('_Engine'!BN13>10,"?","")&" PM",IF('_Engine'!BN13=0,INDEX(Settings!$G$7:$G$11,MOD('_Engine'!BM13,10))&IF('_Engine'!BM13>10,"?","")&" AM",INDEX(Settings!$G$7:$G$11,MOD('_Engine'!BM13,10))&IF('_Engine'!BM13>10,"?","")&" AM"&CHAR(10)&INDEX(Settings!$G$7:$G$11,MOD('_Engine'!BN13,10))&IF('_Engine'!BN13>10,"?","")&" PM")))))))) -> · | J13: =IF(OR($A13="",J$11=""),"",IF(OR('_Engine'!$B$6>0,INDEX('_Engine'!$AM$11:$AM$60,'_Engine'!$AO13)<>"OK"),"!",IF(INDEX(Team!$H$11:$N$60,'_Engine'!$AO13,WEEKDAY(J$11,2))<>"Work","—",IF(COUNTIF(Settings!$F$18:$F$67,J$11)>0,"BH",IF('_Engine'!BO13+'_Engine'!BP13=0,"·",IF('_Engine'!BO13='_Engine'!BP13,INDEX(Settings!$G$7:$G$11,MOD('_Engine'!BO13,10))&IF('_Engine'!BO13>10,"?",""),IF('_Engine'!BO13=0,INDEX(Settings!$G$7:$G$11,MOD('_Engine'!BP13,10))&IF('_Engine'!BP13>10,"?","")&" PM",IF('_Engine'!BP13=0,INDEX(Settings!$G$7:$G$11,MOD('_Engine'!BO13,10))&IF('_Engine'!BO13>10,"?","")&" AM",INDEX(Settings!$G$7:$G$11,MOD('_Engine'!BO13,10))&IF('_Engine'!BO13>10,"?","")&" AM"&CHAR(10)&INDEX(Settings!$G$7:$G$11,MOD('_Engine'!BP13,10))&IF('_Engine'!BP13>10,"?","")&" PM")))))))) -> · | K13: =IF(OR($A13="",K$11=""),"",IF(OR('_Engine'!$B$6>0,INDEX('_Engine'!$AM$11:$AM$60,'_Engine'!$AO13)<>"OK"),"!",IF(INDEX(Team!$H$11:$N$60,'_Engine'!$AO13,WEEKDAY(K$11,2))<>"Work","—",IF(COUNTIF(Settings!$F$18:$F$67,K$11)>0,"BH",IF('_Engine'!BQ13+'_Engine'!BR13=0,"·",IF('_Engine'!BQ13='_Engine'!BR13,INDEX(Settings!$G$7:$G$11,MOD('_Engine'!BQ13,10))&IF('_Engine'!BQ13>10,"?",""),IF('_Engine'!BQ13=0,INDEX(Settings!$G$7:$G$11,MOD('_Engine'!BR13,10))&IF('_Engine'!BR13>10,"?","")&" PM",IF('_Engine'!BR13=0,INDEX(Settings!$G$7:$G$11,MOD('_Engine'!BQ13,10))&IF('_Engine'!BQ13>10,"?","")&" AM",INDEX(Settings!$G$7:$G$11,MOD('_Engine'!BQ13,10))&IF('_Engine'!BQ13>10,"?","")&" AM"&CHAR(10)&INDEX(Settings!$G$7:$G$11,MOD('_Engine'!BR13,10))&IF('_Engine'!BR13>10,"?","")&" PM")))))))) -> · | L13: =IF(OR($A13="",L$11=""),"",IF(OR('_Engine'!$B$6>0,INDEX('_Engine'!$AM$11:$AM$60,'_Engine'!$AO13)<>"OK"),"!",IF(INDEX(Team!$H$11:$N$60,'_Engine'!$AO13,WEEKDAY(L$11,2))<>"Work","—",IF(COUNTIF(Settings!$F$18:$F$67,L$11)>0,"BH",IF('_Engine'!BS13+'_Engine'!BT13=0,"·",IF('_Engine'!BS13='_Engine'!BT13,INDEX(Settings!$G$7:$G$11,MOD('_Engine'!BS13,10))&IF('_Engine'!BS13>10,"?",""),IF('_Engine'!BS13=0,INDEX(Settings!$G$7:$G$11,MOD('_Engine'!BT13,10))&IF('_Engine'!BT13>10,"?","")&" PM",IF('_Engine'!BT13=0,INDEX(Settings!$G$7:$G$11,MOD('_Engine'!BS13,10))&IF('_Engine'!BS13>10,"?","")&" AM",INDEX(Settings!$G$7:$G$11,MOD('_Engine'!BS13,10))&IF('_Engine'!BS13>10,"?","")&" AM"&CHAR(10)&INDEX(Settings!$G$7:$G$11,MOD('_Engine'!BT13,10))&IF('_Engine'!BT13>10,"?","")&" PM")))))))) -> · | M13: =IF(OR($A13="",M$11=""),"",IF(OR('_Engine'!$B$6>0,INDEX('_Engine'!$AM$11:$AM$60,'_Engine'!$AO13)<>"OK"),"!",IF(INDEX(Team!$H$11:$N$60,'_Engine'!$AO13,WEEKDAY(M$11,2))<>"Work","—",IF(COUNTIF(Settings!$F$18:$F$67,M$11)>0,"BH",IF('_Engine'!BU13+'_Engine'!BV13=0,"·",IF('_Engine'!BU13='_Engine'!BV13,INDEX(Settings!$G$7:$G$11,MOD('_Engine'!BU13,10))&IF('_Engine'!BU13>10,"?",""),IF('_Engine'!BU13=0,INDEX(Settings!$G$7:$G$11,MOD('_Engine'!BV13,10))&IF('_Engine'!BV13>10,"?","")&" PM",IF('_Engine'!BV13=0,INDEX(Settings!$G$7:$G$11,MOD('_Engine'!BU13,10))&IF('_Engine'!BU13>10,"?","")&" AM",INDEX(Settings!$G$7:$G$11,MOD('_Engine'!BU13,10))&IF('_Engine'!BU13>10,"?","")&" AM"&CHAR(10)&INDEX(Settings!$G$7:$G$11,MOD('_Engine'!BV13,10))&IF('_Engine'!BV13>10,"?","")&" PM")))))))) -> — | N13: =IF(OR($A13="",N$11=""),"",IF(OR('_Engine'!$B$6>0,INDEX('_Engine'!$AM$11:$AM$60,'_Engine'!$AO13)<>"OK"),"!",IF(INDEX(Team!$H$11:$N$60,'_Engine'!$AO13,WEEKDAY(N$11,2))<>"Work","—",IF(COUNTIF(Settings!$F$18:$F$67,N$11)>0,"BH",IF('_Engine'!BW13+'_Engine'!BX13=0,"·",IF('_Engine'!BW13='_Engine'!BX13,INDEX(Settings!$G$7:$G$11,MOD('_Engine'!BW13,10))&IF('_Engine'!BW13>10,"?",""),IF('_Engine'!BW13=0,INDEX(Settings!$G$7:$G$11,MOD('_Engine'!BX13,10))&IF('_Engine'!BX13>10,"?","")&" PM",IF('_Engine'!BX13=0,INDEX(Settings!$G$7:$G$11,MOD('_Engine'!BW13,10))&IF('_Engine'!BW13>10,"?","")&" AM",INDEX(Settings!$G$7:$G$11,MOD('_Engine'!BW13,10))&IF('_Engine'!BW13>10,"?","")&" AM"&CHAR(10)&INDEX(Settings!$G$7:$G$11,MOD('_Engine'!BX13,10))&IF('_Engine'!BX13>10,"?","")&" PM")))))))) -> — | O13: =IF(OR($A13="",O$11=""),"",IF(OR('_Engine'!$B$6>0,INDEX('_Engine'!$AM$11:$AM$60,'_Engine'!$AO13)<>"OK"),"!",IF(INDEX(Team!$H$11:$N$60,'_Engine'!$AO13,WEEKDAY(O$11,2))<>"Work","—",IF(COUNTIF(Settings!$F$18:$F$67,O$11)>0,"BH",IF('_Engine'!BY13+'_Engine'!BZ13=0,"·",IF('_Engine'!BY13='_Engine'!BZ13,INDEX(Settings!$G$7:$G$11,MOD('_Engine'!BY13,10))&IF('_Engine'!BY13>10,"?",""),IF('_Engine'!BY13=0,INDEX(Settings!$G$7:$G$11,MOD('_Engine'!BZ13,10))&IF('_Engine'!BZ13>10,"?","")&" PM",IF('_Engine'!BZ13=0,INDEX(Settings!$G$7:$G$11,MOD('_Engine'!BY13,10))&IF('_Engine'!BY13>10,"?","")&" AM",INDEX(Settings!$G$7:$G$11,MOD('_Engine'!BY13,10))&IF('_Engine'!BY13>10,"?","")&" AM"&CHAR(10)&INDEX(Settings!$G$7:$G$11,MOD('_Engine'!BZ13,10))&IF('_Engine'!BZ13>10,"?","")&" PM")))))))) -> T | P13: =IF(OR($A13="",P$11=""),"",IF(OR('_Engine'!$B$6>0,INDEX('_Engine'!$AM$11:$AM$60,'_Engine'!$AO13)<>"OK"),"!",IF(INDEX(Team!$H$11:$N$60,'_Engine'!$AO13,WEEKDAY(P$11,2))<>"Work","—",IF(COUNTIF(Settings!$F$18:$F$67,P$11)>0,"BH",IF('_Engine'!CA13+'_Engine'!CB13=0,"·",IF('_Engine'!CA13='_Engine'!CB13,INDEX(Settings!$G$7:$G$11,MOD('_Engine'!CA13,10))&IF('_Engine'!CA13>10,"?",""),IF('_Engine'!CA13=0,INDEX(Settings!$G$7:$G$11,MOD('_Engine'!CB13,10))&IF('_Engine'!CB13>10,"?","")&" PM",IF('_Engine'!CB13=0,INDEX(Settings!$G$7:$G$11,MOD('_Engine'!CA13,10))&IF('_Engine'!CA13>10,"?","")&" AM",INDEX(Settings!$G$7:$G$11,MOD('_Engine'!CA13,10))&IF('_Engine'!CA13>10,"?","")&" AM"&CHAR(10)&INDEX(Settings!$G$7:$G$11,MOD('_Engine'!CB13,10))&IF('_Engine'!CB13>10,"?","")&" PM")))))))) -> · | Q13: =IF(OR($A13="",Q$11=""),"",IF(OR('_Engine'!$B$6>0,INDEX('_Engine'!$AM$11:$AM$60,'_Engine'!$AO13)<>"OK"),"!",IF(INDEX(Team!$H$11:$N$60,'_Engine'!$AO13,WEEKDAY(Q$11,2))<>"Work","—",IF(COUNTIF(Settings!$F$18:$F$67,Q$11)>0,"BH",IF('_Engine'!CC13+'_Engine'!CD13=0,"·",IF('_Engine'!CC13='_Engine'!CD13,INDEX(Settings!$G$7:$G$11,MOD('_Engine'!CC13,10))&IF('_Engine'!CC13>10,"?",""),IF('_Engine'!CC13=0,INDEX(Settings!$G$7:$G$11,MOD('_Engine'!CD13,10))&IF('_Engine'!CD13>10,"?","")&" PM",IF('_Engine'!CD13=0,INDEX(Settings!$G$7:$G$11,MOD('_Engine'!CC13,10))&IF('_Engine'!CC13>10,"?","")&" AM",INDEX(Settings!$G$7:$G$11,MOD('_Engine'!CC13,10))&IF('_Engine'!CC13>10,"?","")&" AM"&CHAR(10)&INDEX(Settings!$G$7:$G$11,MOD('_Engine'!CD13,10))&IF('_Engine'!CD13>10,"?","")&" PM")))))))) -> H PM | R13: =IF(OR($A13="",R$11=""),"",IF(OR('_Engine'!$B$6>0,INDEX('_Engine'!$AM$11:$AM$60,'_Engine'!$AO13)<>"OK"),"!",IF(INDEX(Team!$H$11:$N$60,'_Engine'!$AO13,WEEKDAY(R$11,2))<>"Work","—",IF(COUNTIF(Settings!$F$18:$F$67,R$11)>0,"BH",IF('_Engine'!CE13+'_Engine'!CF13=0,"·",IF('_Engine'!CE13='_Engine'!CF13,INDEX(Settings!$G$7:$G$11,MOD('_Engine'!CE13,10))&IF('_Engine'!CE13>10,"?",""),IF('_Engine'!CE13=0,INDEX(Settings!$G$7:$G$11,MOD('_Engine'!CF13,10))&IF('_Engine'!CF13>10,"?","")&" PM",IF('_Engine'!CF13=0,INDEX(Settings!$G$7:$G$11,MOD('_Engine'!CE13,10))&IF('_Engine'!CE13>10,"?","")&" AM",INDEX(Settings!$G$7:$G$11,MOD('_Engine'!CE13,10))&IF('_Engine'!CE13>10,"?","")&" AM"&CHAR(10)&INDEX(Settings!$G$7:$G$11,MOD('_Engine'!CF13,10))&IF('_Engine'!CF13>10,"?","")&" PM")))))))) -> H | S13: =IF(OR($A13="",S$11=""),"",IF(OR('_Engine'!$B$6>0,INDEX('_Engine'!$AM$11:$AM$60,'_Engine'!$AO13)<>"OK"),"!",IF(INDEX(Team!$H$11:$N$60,'_Engine'!$AO13,WEEKDAY(S$11,2))<>"Work","—",IF(COUNTIF(Settings!$F$18:$F$67,S$11)>0,"BH",IF('_Engine'!CG13+'_Engine'!CH13=0,"·",IF('_Engine'!CG13='_Engine'!CH13,INDEX(Settings!$G$7:$G$11,MOD('_Engine'!CG13,10))&IF('_Engine'!CG13>10,"?",""),IF('_Engine'!CG13=0,INDEX(Settings!$G$7:$G$11,MOD('_Engine'!CH13,10))&IF('_Engine'!CH13>10,"?","")&" PM",IF('_Engine'!CH13=0,INDEX(Settings!$G$7:$G$11,MOD('_Engine'!CG13,10))&IF('_Engine'!CG13>10,"?","")&" AM",INDEX(Settings!$G$7:$G$11,MOD('_Engine'!CG13,10))&IF('_Engine'!CG13>10,"?","")&" AM"&CHAR(10)&INDEX(Settings!$G$7:$G$11,MOD('_Engine'!CH13,10))&IF('_Engine'!CH13>10,"?","")&" PM")))))))) -> · | T13: =IF(OR($A13="",T$11=""),"",IF(OR('_Engine'!$B$6>0,INDEX('_Engine'!$AM$11:$AM$60,'_Engine'!$AO13)<>"OK"),"!",IF(INDEX(Team!$H$11:$N$60,'_Engine'!$AO13,WEEKDAY(T$11,2))<>"Work","—",IF(COUNTIF(Settings!$F$18:$F$67,T$11)>0,"BH",IF('_Engine'!CI13+'_Engine'!CJ13=0,"·",IF('_Engine'!CI13='_Engine'!CJ13,INDEX(Settings!$G$7:$G$11,MOD('_Engine'!CI13,10))&IF('_Engine'!CI13>10,"?",""),IF('_Engine'!CI13=0,INDEX(Settings!$G$7:$G$11,MOD('_Engine'!CJ13,10))&IF('_Engine'!CJ13>10,"?","")&" PM",IF('_Engine'!CJ13=0,INDEX(Settings!$G$7:$G$11,MOD('_Engine'!CI13,10))&IF('_Engine'!CI13>10,"?","")&" AM",INDEX(Settings!$G$7:$G$11,MOD('_Engine'!CI13,10))&IF('_Engine'!CI13>10,"?","")&" AM"&CHAR(10)&INDEX(Settings!$G$7:$G$11,MOD('_Engine'!CJ13,10))&IF('_Engine'!CJ13>10,"?","")&" PM")))))))) -> — | U13: =IF(OR($A13="",U$11=""),"",IF(OR('_Engine'!$B$6>0,INDEX('_Engine'!$AM$11:$AM$60,'_Engine'!$AO13)<>"OK"),"!",IF(INDEX(Team!$H$11:$N$60,'_Engine'!$AO13,WEEKDAY(U$11,2))<>"Work","—",IF(COUNTIF(Settings!$F$18:$F$67,U$11)>0,"BH",IF('_Engine'!CK13+'_Engine'!CL13=0,"·",IF('_Engine'!CK13='_Engine'!CL13,INDEX(Settings!$G$7:$G$11,MOD('_Engine'!CK13,10))&IF('_Engine'!CK13>10,"?",""),IF('_Engine'!CK13=0,INDEX(Settings!$G$7:$G$11,MOD('_Engine'!CL13,10))&IF('_Engine'!CL13>10,"?","")&" PM",IF('_Engine'!CL13=0,INDEX(Settings!$G$7:$G$11,MOD('_Engine'!CK13,10))&IF('_Engine'!CK13>10,"?","")&" AM",INDEX(Settings!$G$7:$G$11,MOD('_Engine'!CK13,10))&IF('_Engine'!CK13>10,"?","")&" AM"&CHAR(10)&INDEX(Settings!$G$7:$G$11,MOD('_Engine'!CL13,10))&IF('_Engine'!CL13>10,"?","")&" PM")))))))) -> — | V13: =IF(OR($A13="",V$11=""),"",IF(OR('_Engine'!$B$6>0,INDEX('_Engine'!$AM$11:$AM$60,'_Engine'!$AO13)<>"OK"),"!",IF(INDEX(Team!$H$11:$N$60,'_Engine'!$AO13,WEEKDAY(V$11,2))<>"Work","—",IF(COUNTIF(Settings!$F$18:$F$67,V$11)>0,"BH",IF('_Engine'!CM13+'_Engine'!CN13=0,"·",IF('_Engine'!CM13='_Engine'!CN13,INDEX(Settings!$G$7:$G$11,MOD('_Engine'!CM13,10))&IF('_Engine'!CM13>10,"?",""),IF('_Engine'!CM13=0,INDEX(Settings!$G$7:$G$11,MOD('_Engine'!CN13,10))&IF('_Engine'!CN13>10,"?","")&" PM",IF('_Engine'!CN13=0,INDEX(Settings!$G$7:$G$11,MOD('_Engine'!CM13,10))&IF('_Engine'!CM13>10,"?","")&" AM",INDEX(Settings!$G$7:$G$11,MOD('_Engine'!CM13,10))&IF('_Engine'!CM13>10,"?","")&" AM"&CHAR(10)&INDEX(Settings!$G$7:$G$11,MOD('_Engine'!CN13,10))&IF('_Engine'!CN13>10,"?","")&" PM")))))))) -> · | W13: =IF(OR($A13="",W$11=""),"",IF(OR('_Engine'!$B$6>0,INDEX('_Engine'!$AM$11:$AM$60,'_Engine'!$AO13)<>"OK"),"!",IF(INDEX(Team!$H$11:$N$60,'_Engine'!$AO13,WEEKDAY(W$11,2))<>"Work","—",IF(COUNTIF(Settings!$F$18:$F$67,W$11)>0,"BH",IF('_Engine'!CO13+'_Engine'!CP13=0,"·",IF('_Engine'!CO13='_Engine'!CP13,INDEX(Settings!$G$7:$G$11,MOD('_Engine'!CO13,10))&IF('_Engine'!CO13>10,"?",""),IF('_Engine'!CO13=0,INDEX(Settings!$G$7:$G$11,MOD('_Engine'!CP13,10))&IF('_Engine'!CP13>10,"?","")&" PM",IF('_Engine'!CP13=0,INDEX(Settings!$G$7:$G$11,MOD('_Engine'!CO13,10))&IF('_Engine'!CO13>10,"?","")&" AM",INDEX(Settings!$G$7:$G$11,MOD('_Engine'!CO13,10))&IF('_Engine'!CO13>10,"?","")&" AM"&CHAR(10)&INDEX(Settings!$G$7:$G$11,MOD('_Engine'!CP13,10))&IF('_Engine'!CP13>10,"?","")&" PM")))))))) -> · | X13: =IF(OR($A13="",X$11=""),"",IF(OR('_Engine'!$B$6>0,INDEX('_Engine'!$AM$11:$AM$60,'_Engine'!$AO13)<>"OK"),"!",IF(INDEX(Team!$H$11:$N$60,'_Engine'!$AO13,WEEKDAY(X$11,2))<>"Work","—",IF(COUNTIF(Settings!$F$18:$F$67,X$11)>0,"BH",IF('_Engine'!CQ13+'_Engine'!CR13=0,"·",IF('_Engine'!CQ13='_Engine'!CR13,INDEX(Settings!$G$7:$G$11,MOD('_Engine'!CQ13,10))&IF('_Engine'!CQ13>10,"?",""),IF('_Engine'!CQ13=0,INDEX(Settings!$G$7:$G$11,MOD('_Engine'!CR13,10))&IF('_Engine'!CR13>10,"?","")&" PM",IF('_Engine'!CR13=0,INDEX(Settings!$G$7:$G$11,MOD('_Engine'!CQ13,10))&IF('_Engine'!CQ13>10,"?","")&" AM",INDEX(Settings!$G$7:$G$11,MOD('_Engine'!CQ13,10))&IF('_Engine'!CQ13>10,"?","")&" AM"&CHAR(10)&INDEX(Settings!$G$7:$G$11,MOD('_Engine'!CR13,10))&IF('_Engine'!CR13>10,"?","")&" PM")))))))) -> · | Y13: =IF(OR($A13="",Y$11=""),"",IF(OR('_Engine'!$B$6>0,INDEX('_Engine'!$AM$11:$AM$60,'_Engine'!$AO13)<>"OK"),"!",IF(INDEX(Team!$H$11:$N$60,'_Engine'!$AO13,WEEKDAY(Y$11,2))<>"Work","—",IF(COUNTIF(Settings!$F$18:$F$67,Y$11)>0,"BH",IF('_Engine'!CS13+'_Engine'!CT13=0,"·",IF('_Engine'!CS13='_Engine'!CT13,INDEX(Settings!$G$7:$G$11,MOD('_Engine'!CS13,10))&IF('_Engine'!CS13>10,"?",""),IF('_Engine'!CS13=0,INDEX(Settings!$G$7:$G$11,MOD('_Engine'!CT13,10))&IF('_Engine'!CT13>10,"?","")&" PM",IF('_Engine'!CT13=0,INDEX(Settings!$G$7:$G$11,MOD('_Engine'!CS13,10))&IF('_Engine'!CS13>10,"?","")&" AM",INDEX(Settings!$G$7:$G$11,MOD('_Engine'!CS13,10))&IF('_Engine'!CS13>10,"?","")&" AM"&CHAR(10)&INDEX(Settings!$G$7:$G$11,MOD('_Engine'!CT13,10))&IF('_Engine'!CT13>10,"?","")&" PM")))))))) -> H | Z13: =IF(OR($A13="",Z$11=""),"",IF(OR('_Engine'!$B$6>0,INDEX('_Engine'!$AM$11:$AM$60,'_Engine'!$AO13)<>"OK"),"!",IF(INDEX(Team!$H$11:$N$60,'_Engine'!$AO13,WEEKDAY(Z$11,2))<>"Work","—",IF(COUNTIF(Settings!$F$18:$F$67,Z$11)>0,"BH",IF('_Engine'!CU13+'_Engine'!CV13=0,"·",IF('_Engine'!CU13='_Engine'!CV13,INDEX(Settings!$G$7:$G$11,MOD('_Engine'!CU13,10))&IF('_Engine'!CU13>10,"?",""),IF('_Engine'!CU13=0,INDEX(Settings!$G$7:$G$11,MOD('_Engine'!CV13,10))&IF('_Engine'!CV13>10,"?","")&" PM",IF('_Engine'!CV13=0,INDEX(Settings!$G$7:$G$11,MOD('_Engine'!CU13,10))&IF('_Engine'!CU13>10,"?","")&" AM",INDEX(Settings!$G$7:$G$11,MOD('_Engine'!CU13,10))&IF('_Engine'!CU13>10,"?","")&" AM"&CHAR(10)&INDEX(Settings!$G$7:$G$11,MOD('_Engine'!CV13,10))&IF('_Engine'!CV13>10,"?","")&" PM")))))))) -> BH | AA13: =IF(OR($A13="",AA$11=""),"",IF(OR('_Engine'!$B$6>0,INDEX('_Engine'!$AM$11:$AM$60,'_Engine'!$AO13)<>"OK"),"!",IF(INDEX(Team!$H$11:$N$60,'_Engine'!$AO13,WEEKDAY(AA$11,2))<>"Work","—",IF(COUNTIF(Settings!$F$18:$F$67,AA$11)>0,"BH",IF('_Engine'!CW13+'_Engine'!CX13=0,"·",IF('_Engine'!CW13='_Engine'!CX13,INDEX(Settings!$G$7:$G$11,MOD('_Engine'!CW13,10))&IF('_Engine'!CW13>10,"?",""),IF('_Engine'!CW13=0,INDEX(Settings!$G$7:$G$11,MOD('_Engine'!CX13,10))&IF('_Engine'!CX13>10,"?","")&" PM",IF('_Engine'!CX13=0,INDEX(Settings!$G$7:$G$11,MOD('_Engine'!CW13,10))&IF('_Engine'!CW13>10,"?","")&" AM",INDEX(Settings!$G$7:$G$11,MOD('_Engine'!CW13,10))&IF('_Engine'!CW13>10,"?","")&" AM"&CHAR(10)&INDEX(Settings!$G$7:$G$11,MOD('_Engine'!CX13,10))&IF('_Engine'!CX13>10,"?","")&" PM")))))))) -> — | AB13: =IF(OR($A13="",AB$11=""),"",IF(OR('_Engine'!$B$6>0,INDEX('_Engine'!$AM$11:$AM$60,'_Engine'!$AO13)<>"OK"),"!",IF(INDEX(Team!$H$11:$N$60,'_Engine'!$AO13,WEEKDAY(AB$11,2))<>"Work","—",IF(COUNTIF(Settings!$F$18:$F$67,AB$11)>0,"BH",IF('_Engine'!CY13+'_Engine'!CZ13=0,"·",IF('_Engine'!CY13='_Engine'!CZ13,INDEX(Settings!$G$7:$G$11,MOD('_Engine'!CY13,10))&IF('_Engine'!CY13>10,"?",""),IF('_Engine'!CY13=0,INDEX(Settings!$G$7:$G$11,MOD('_Engine'!CZ13,10))&IF('_Engine'!CZ13>10,"?","")&" PM",IF('_Engine'!CZ13=0,INDEX(Settings!$G$7:$G$11,MOD('_Engine'!CY13,10))&IF('_Engine'!CY13>10,"?","")&" AM",INDEX(Settings!$G$7:$G$11,MOD('_Engine'!CY13,10))&IF('_Engine'!CY13>10,"?","")&" AM"&CHAR(10)&INDEX(Settings!$G$7:$G$11,MOD('_Engine'!CZ13,10))&IF('_Engine'!CZ13>10,"?","")&" PM")))))))) -> — | AC13: =IF(OR($A13="",AC$11=""),"",IF(OR('_Engine'!$B$6>0,INDEX('_Engine'!$AM$11:$AM$60,'_Engine'!$AO13)<>"OK"),"!",IF(INDEX(Team!$H$11:$N$60,'_Engine'!$AO13,WEEKDAY(AC$11,2))<>"Work","—",IF(COUNTIF(Settings!$F$18:$F$67,AC$11)>0,"BH",IF('_Engine'!DA13+'_Engine'!DB13=0,"·",IF('_Engine'!DA13='_Engine'!DB13,INDEX(Settings!$G$7:$G$11,MOD('_Engine'!DA13,10))&IF('_Engine'!DA13>10,"?",""),IF('_Engine'!DA13=0,INDEX(Settings!$G$7:$G$11,MOD('_Engine'!DB13,10))&IF('_Engine'!DB13>10,"?","")&" PM",IF('_Engine'!DB13=0,INDEX(Settings!$G$7:$G$11,MOD('_Engine'!DA13,10))&IF('_Engine'!DA13>10,"?","")&" AM",INDEX(Settings!$G$7:$G$11,MOD('_Engine'!DA13,10))&IF('_Engine'!DA13>10,"?","")&" AM"&CHAR(10)&INDEX(Settings!$G$7:$G$11,MOD('_Engine'!DB13,10))&IF('_Engine'!DB13>10,"?","")&" PM")))))))) -> · | AD13: =IF(OR($A13="",AD$11=""),"",IF(OR('_Engine'!$B$6>0,INDEX('_Engine'!$AM$11:$AM$60,'_Engine'!$AO13)<>"OK"),"!",IF(INDEX(Team!$H$11:$N$60,'_Engine'!$AO13,WEEKDAY(AD$11,2))<>"Work","—",IF(COUNTIF(Settings!$F$18:$F$67,AD$11)>0,"BH",IF('_Engine'!DC13+'_Engine'!DD13=0,"·",IF('_Engine'!DC13='_Engine'!DD13,INDEX(Settings!$G$7:$G$11,MOD('_Engine'!DC13,10))&IF('_Engine'!DC13>10,"?",""),IF('_Engine'!DC13=0,INDEX(Settings!$G$7:$G$11,MOD('_Engine'!DD13,10))&IF('_Engine'!DD13>10,"?","")&" PM",IF('_Engine'!DD13=0,INDEX(Settings!$G$7:$G$11,MOD('_Engine'!DC13,10))&IF('_Engine'!DC13>10,"?","")&" AM",INDEX(Settings!$G$7:$G$11,MOD('_Engine'!DC13,10))&IF('_Engine'!DC13>10,"?","")&" AM"&CHAR(10)&INDEX(Settings!$G$7:$G$11,MOD('_Engine'!DD13,10))&IF('_Engine'!DD13>10,"?","")&" PM")))))))) -> · | AE13: =IF(OR($A13="",AE$11=""),"",IF(OR('_Engine'!$B$6>0,INDEX('_Engine'!$AM$11:$AM$60,'_Engine'!$AO13)<>"OK"),"!",IF(INDEX(Team!$H$11:$N$60,'_Engine'!$AO13,WEEKDAY(AE$11,2))<>"Work","—",IF(COUNTIF(Settings!$F$18:$F$67,AE$11)>0,"BH",IF('_Engine'!DE13+'_Engine'!DF13=0,"·",IF('_Engine'!DE13='_Engine'!DF13,INDEX(Settings!$G$7:$G$11,MOD('_Engine'!DE13,10))&IF('_Engine'!DE13>10,"?",""),IF('_Engine'!DE13=0,INDEX(Settings!$G$7:$G$11,MOD('_Engine'!DF13,10))&IF('_Engine'!DF13>10,"?","")&" PM",IF('_Engine'!DF13=0,INDEX(Settings!$G$7:$G$11,MOD('_Engine'!DE13,10))&IF('_Engine'!DE13>10,"?","")&" AM",INDEX(Settings!$G$7:$G$11,MOD('_Engine'!DE13,10))&IF('_Engine'!DE13>10,"?","")&" AM"&CHAR(10)&INDEX(Settings!$G$7:$G$11,MOD('_Engine'!DF13,10))&IF('_Engine'!DF13>10,"?","")&" PM")))))))) -> · | AF13: =IF(OR($A13="",AF$11=""),"",IF(OR('_Engine'!$B$6>0,INDEX('_Engine'!$AM$11:$AM$60,'_Engine'!$AO13)<>"OK"),"!",IF(INDEX(Team!$H$11:$N$60,'_Engine'!$AO13,WEEKDAY(AF$11,2))<>"Work","—",IF(COUNTIF(Settings!$F$18:$F$67,AF$11)>0,"BH",IF('_Engine'!DG13+'_Engine'!DH13=0,"·",IF('_Engine'!DG13='_Engine'!DH13,INDEX(Settings!$G$7:$G$11,MOD('_Engine'!DG13,10))&IF('_Engine'!DG13>10,"?",""),IF('_Engine'!DG13=0,INDEX(Settings!$G$7:$G$11,MOD('_Engine'!DH13,10))&IF('_Engine'!DH13>10,"?","")&" PM",IF('_Engine'!DH13=0,INDEX(Settings!$G$7:$G$11,MOD('_Engine'!DG13,10))&IF('_Engine'!DG13>10,"?","")&" AM",INDEX(Settings!$G$7:$G$11,MOD('_Engine'!DG13,10))&IF('_Engine'!DG13>10,"?","")&" AM"&CHAR(10)&INDEX(Settings!$G$7:$G$11,MOD('_Engine'!DH13,10))&IF('_Engine'!DH13>10,"?","")&" PM")))))))) -> · | AG13: =IF(OR($A13="",AG$11=""),"",IF(OR('_Engine'!$B$6>0,INDEX('_Engine'!$AM$11:$AM$60,'_Engine'!$AO13)<>"OK"),"!",IF(INDEX(Team!$H$11:$N$60,'_Engine'!$AO13,WEEKDAY(AG$11,2))<>"Work","—",IF(COUNTIF(Settings!$F$18:$F$67,AG$11)>0,"BH",IF('_Engine'!DI13+'_Engine'!DJ13=0,"·",IF('_Engine'!DI13='_Engine'!DJ13,INDEX(Settings!$G$7:$G$11,MOD('_Engine'!DI13,10))&IF('_Engine'!DI13>10,"?",""),IF('_Engine'!DI13=0,INDEX(Settings!$G$7:$G$11,MOD('_Engine'!DJ13,10))&IF('_Engine'!DJ13>10,"?","")&" PM",IF('_Engine'!DJ13=0,INDEX(Settings!$G$7:$G$11,MOD('_Engine'!DI13,10))&IF('_Engine'!DI13>10,"?","")&" AM",INDEX(Settings!$G$7:$G$11,MOD('_Engine'!DI13,10))&IF('_Engine'!DI13>10,"?","")&" AM"&CHAR(10)&INDEX(Settings!$G$7:$G$11,MOD('_Engine'!DJ13,10))&IF('_Engine'!DJ13>10,"?","")&" PM")))))))) -> · | AH13: =IF(OR($A13="",AH$11=""),"",IF(OR('_Engine'!$B$6>0,INDEX('_Engine'!$AM$11:$AM$60,'_Engine'!$AO13)<>"OK"),"!",IF(INDEX(Team!$H$11:$N$60,'_Engine'!$AO13,WEEKDAY(AH$11,2))<>"Work","—",IF(COUNTIF(Settings!$F$18:$F$67,AH$11)>0,"BH",IF('_Engine'!DK13+'_Engine'!DL13=0,"·",IF('_Engine'!DK13='_Engine'!DL13,INDEX(Settings!$G$7:$G$11,MOD('_Engine'!DK13,10))&IF('_Engine'!DK13>10,"?",""),IF('_Engine'!DK13=0,INDEX(Settings!$G$7:$G$11,MOD('_Engine'!DL13,10))&IF('_Engine'!DL13>10,"?","")&" PM",IF('_Engine'!DL13=0,INDEX(Settings!$G$7:$G$11,MOD('_Engine'!DK13,10))&IF('_Engine'!DK13>10,"?","")&" AM",INDEX(Settings!$G$7:$G$11,MOD('_Engine'!DK13,10))&IF('_Engine'!DK13>10,"?","")&" AM"&CHAR(10)&INDEX(Settings!$G$7:$G$11,MOD('_Engine'!DL13,10))&IF('_Engine'!DL13>10,"?","")&" PM")))))))) -> —
A14: =IF('_Engine'!AO14=0,"",IF(INDEX(Team!$B$11:$B$60,'_Engine'!AO14)="","[Unnamed]",INDEX(Team!$B$11:$B$60,'_Engine'!AO14))) -> Sam Patel | B14: =IF('_Engine'!AO14=0,"",INDEX('_Engine'!$AN$11:$AN$60,'_Engine'!AO14)) -> 12 | C14: =IF('_Engine'!AO14=0,"",INDEX(Team!$C$11:$C$60,'_Engine'!AO14)) -> Product | D14: =IF(OR($A14="",D$11=""),"",IF(OR('_Engine'!$B$6>0,INDEX('_Engine'!$AM$11:$AM$60,'_Engine'!$AO14)<>"OK"),"!",IF(INDEX(Team!$H$11:$N$60,'_Engine'!$AO14,WEEKDAY(D$11,2))<>"Work","—",IF(COUNTIF(Settings!$F$18:$F$67,D$11)>0,"BH",IF('_Engine'!BC14+'_Engine'!BD14=0,"·",IF('_Engine'!BC14='_Engine'!BD14,INDEX(Settings!$G$7:$G$11,MOD('_Engine'!BC14,10))&IF('_Engine'!BC14>10,"?",""),IF('_Engine'!BC14=0,INDEX(Settings!$G$7:$G$11,MOD('_Engine'!BD14,10))&IF('_Engine'!BD14>10,"?","")&" PM",IF('_Engine'!BD14=0,INDEX(Settings!$G$7:$G$11,MOD('_Engine'!BC14,10))&IF('_Engine'!BC14>10,"?","")&" AM",INDEX(Settings!$G$7:$G$11,MOD('_Engine'!BC14,10))&IF('_Engine'!BC14>10,"?","")&" AM"&CHAR(10)&INDEX(Settings!$G$7:$G$11,MOD('_Engine'!BD14,10))&IF('_Engine'!BD14>10,"?","")&" PM")))))))) -> — | E14: =IF(OR($A14="",E$11=""),"",IF(OR('_Engine'!$B$6>0,INDEX('_Engine'!$AM$11:$AM$60,'_Engine'!$AO14)<>"OK"),"!",IF(INDEX(Team!$H$11:$N$60,'_Engine'!$AO14,WEEKDAY(E$11,2))<>"Work","—",IF(COUNTIF(Settings!$F$18:$F$67,E$11)>0,"BH",IF('_Engine'!BE14+'_Engine'!BF14=0,"·",IF('_Engine'!BE14='_Engine'!BF14,INDEX(Settings!$G$7:$G$11,MOD('_Engine'!BE14,10))&IF('_Engine'!BE14>10,"?",""),IF('_Engine'!BE14=0,INDEX(Settings!$G$7:$G$11,MOD('_Engine'!BF14,10))&IF('_Engine'!BF14>10,"?","")&" PM",IF('_Engine'!BF14=0,INDEX(Settings!$G$7:$G$11,MOD('_Engine'!BE14,10))&IF('_Engine'!BE14>10,"?","")&" AM",INDEX(Settings!$G$7:$G$11,MOD('_Engine'!BE14,10))&IF('_Engine'!BE14>10,"?","")&" AM"&CHAR(10)&INDEX(Settings!$G$7:$G$11,MOD('_Engine'!BF14,10))&IF('_Engine'!BF14>10,"?","")&" PM")))))))) -> — | F14: =IF(OR($A14="",F$11=""),"",IF(OR('_Engine'!$B$6>0,INDEX('_Engine'!$AM$11:$AM$60,'_Engine'!$AO14)<>"OK"),"!",IF(INDEX(Team!$H$11:$N$60,'_Engine'!$AO14,WEEKDAY(F$11,2))<>"Work","—",IF(COUNTIF(Settings!$F$18:$F$67,F$11)>0,"BH",IF('_Engine'!BG14+'_Engine'!BH14=0,"·",IF('_Engine'!BG14='_Engine'!BH14,INDEX(Settings!$G$7:$G$11,MOD('_Engine'!BG14,10))&IF('_Engine'!BG14>10,"?",""),IF('_Engine'!BG14=0,INDEX(Settings!$G$7:$G$11,MOD('_Engine'!BH14,10))&IF('_Engine'!BH14>10,"?","")&" PM",IF('_Engine'!BH14=0,INDEX(Settings!$G$7:$G$11,MOD('_Engine'!BG14,10))&IF('_Engine'!BG14>10,"?","")&" AM",INDEX(Settings!$G$7:$G$11,MOD('_Engine'!BG14,10))&IF('_Engine'!BG14>10,"?","")&" AM"&CHAR(10)&INDEX(Settings!$G$7:$G$11,MOD('_Engine'!BH14,10))&IF('_Engine'!BH14>10,"?","")&" PM")))))))) -> — | G14: =IF(OR($A14="",G$11=""),"",IF(OR('_Engine'!$B$6>0,INDEX('_Engine'!$AM$11:$AM$60,'_Engine'!$AO14)<>"OK"),"!",IF(INDEX(Team!$H$11:$N$60,'_Engine'!$AO14,WEEKDAY(G$11,2))<>"Work","—",IF(COUNTIF(Settings!$F$18:$F$67,G$11)>0,"BH",IF('_Engine'!BI14+'_Engine'!BJ14=0,"·",IF('_Engine'!BI14='_Engine'!BJ14,INDEX(Settings!$G$7:$G$11,MOD('_Engine'!BI14,10))&IF('_Engine'!BI14>10,"?",""),IF('_Engine'!BI14=0,INDEX(Settings!$G$7:$G$11,MOD('_Engine'!BJ14,10))&IF('_Engine'!BJ14>10,"?","")&" PM",IF('_Engine'!BJ14=0,INDEX(Settings!$G$7:$G$11,MOD('_Engine'!BI14,10))&IF('_Engine'!BI14>10,"?","")&" AM",INDEX(Settings!$G$7:$G$11,MOD('_Engine'!BI14,10))&IF('_Engine'!BI14>10,"?","")&" AM"&CHAR(10)&INDEX(Settings!$G$7:$G$11,MOD('_Engine'!BJ14,10))&IF('_Engine'!BJ14>10,"?","")&" PM")))))))) -> — | H14: =IF(OR($A14="",H$11=""),"",IF(OR('_Engine'!$B$6>0,INDEX('_Engine'!$AM$11:$AM$60,'_Engine'!$AO14)<>"OK"),"!",IF(INDEX(Team!$H$11:$N$60,'_Engine'!$AO14,WEEKDAY(H$11,2))<>"Work","—",IF(COUNTIF(Settings!$F$18:$F$67,H$11)>0,"BH",IF('_Engine'!BK14+'_Engine'!BL14=0,"·",IF('_Engine'!BK14='_Engine'!BL14,INDEX(Settings!$G$7:$G$11,MOD('_Engine'!BK14,10))&IF('_Engine'!BK14>10,"?",""),IF('_Engine'!BK14=0,INDEX(Settings!$G$7:$G$11,MOD('_Engine'!BL14,10))&IF('_Engine'!BL14>10,"?","")&" PM",IF('_Engine'!BL14=0,INDEX(Settings!$G$7:$G$11,MOD('_Engine'!BK14,10))&IF('_Engine'!BK14>10,"?","")&" AM",INDEX(Settings!$G$7:$G$11,MOD('_Engine'!BK14,10))&IF('_Engine'!BK14>10,"?","")&" AM"&CHAR(10)&INDEX(Settings!$G$7:$G$11,MOD('_Engine'!BL14,10))&IF('_Engine'!BL14>10,"?","")&" PM")))))))) -> · | I14: =IF(OR($A14="",I$11=""),"",IF(OR('_Engine'!$B$6>0,INDEX('_Engine'!$AM$11:$AM$60,'_Engine'!$AO14)<>"OK"),"!",IF(INDEX(Team!$H$11:$N$60,'_Engine'!$AO14,WEEKDAY(I$11,2))<>"Work","—",IF(COUNTIF(Settings!$F$18:$F$67,I$11)>0,"BH",IF('_Engine'!BM14+'_Engine'!BN14=0,"·",IF('_Engine'!BM14='_Engine'!BN14,INDEX(Settings!$G$7:$G$11,MOD('_Engine'!BM14,10))&IF('_Engine'!BM14>10,"?",""),IF('_Engine'!BM14=0,INDEX(Settings!$G$7:$G$11,MOD('_Engine'!BN14,10))&IF('_Engine'!BN14>10,"?","")&" PM",IF('_Engine'!BN14=0,INDEX(Settings!$G$7:$G$11,MOD('_Engine'!BM14,10))&IF('_Engine'!BM14>10,"?","")&" AM",INDEX(Settings!$G$7:$G$11,MOD('_Engine'!BM14,10))&IF('_Engine'!BM14>10,"?","")&" AM"&CHAR(10)&INDEX(Settings!$G$7:$G$11,MOD('_Engine'!BN14,10))&IF('_Engine'!BN14>10,"?","")&" PM")))))))) -> · | J14: =IF(OR($A14="",J$11=""),"",IF(OR('_Engine'!$B$6>0,INDEX('_Engine'!$AM$11:$AM$60,'_Engine'!$AO14)<>"OK"),"!",IF(INDEX(Team!$H$11:$N$60,'_Engine'!$AO14,WEEKDAY(J$11,2))<>"Work","—",IF(COUNTIF(Settings!$F$18:$F$67,J$11)>0,"BH",IF('_Engine'!BO14+'_Engine'!BP14=0,"·",IF('_Engine'!BO14='_Engine'!BP14,INDEX(Settings!$G$7:$G$11,MOD('_Engine'!BO14,10))&IF('_Engine'!BO14>10,"?",""),IF('_Engine'!BO14=0,INDEX(Settings!$G$7:$G$11,MOD('_Engine'!BP14,10))&IF('_Engine'!BP14>10,"?","")&" PM",IF('_Engine'!BP14=0,INDEX(Settings!$G$7:$G$11,MOD('_Engine'!BO14,10))&IF('_Engine'!BO14>10,"?","")&" AM",INDEX(Settings!$G$7:$G$11,MOD('_Engine'!BO14,10))&IF('_Engine'!BO14>10,"?","")&" AM"&CHAR(10)&INDEX(Settings!$G$7:$G$11,MOD('_Engine'!BP14,10))&IF('_Engine'!BP14>10,"?","")&" PM")))))))) -> · | K14: =IF(OR($A14="",K$11=""),"",IF(OR('_Engine'!$B$6>0,INDEX('_Engine'!$AM$11:$AM$60,'_Engine'!$AO14)<>"OK"),"!",IF(INDEX(Team!$H$11:$N$60,'_Engine'!$AO14,WEEKDAY(K$11,2))<>"Work","—",IF(COUNTIF(Settings!$F$18:$F$67,K$11)>0,"BH",IF('_Engine'!BQ14+'_Engine'!BR14=0,"·",IF('_Engine'!BQ14='_Engine'!BR14,INDEX(Settings!$G$7:$G$11,MOD('_Engine'!BQ14,10))&IF('_Engine'!BQ14>10,"?",""),IF('_Engine'!BQ14=0,INDEX(Settings!$G$7:$G$11,MOD('_Engine'!BR14,10))&IF('_Engine'!BR14>10,"?","")&" PM",IF('_Engine'!BR14=0,INDEX(Settings!$G$7:$G$11,MOD('_Engine'!BQ14,10))&IF('_Engine'!BQ14>10,"?","")&" AM",INDEX(Settings!$G$7:$G$11,MOD('_Engine'!BQ14,10))&IF('_Engine'!BQ14>10,"?","")&" AM"&CHAR(10)&INDEX(Settings!$G$7:$G$11,MOD('_Engine'!BR14,10))&IF('_Engine'!BR14>10,"?","")&" PM")))))))) -> — | L14: =IF(OR($A14="",L$11=""),"",IF(OR('_Engine'!$B$6>0,INDEX('_Engine'!$AM$11:$AM$60,'_Engine'!$AO14)<>"OK"),"!",IF(INDEX(Team!$H$11:$N$60,'_Engine'!$AO14,WEEKDAY(L$11,2))<>"Work","—",IF(COUNTIF(Settings!$F$18:$F$67,L$11)>0,"BH",IF('_Engine'!BS14+'_Engine'!BT14=0,"·",IF('_Engine'!BS14='_Engine'!BT14,INDEX(Settings!$G$7:$G$11,MOD('_Engine'!BS14,10))&IF('_Engine'!BS14>10,"?",""),IF('_Engine'!BS14=0,INDEX(Settings!$G$7:$G$11,MOD('_Engine'!BT14,10))&IF('_Engine'!BT14>10,"?","")&" PM",IF('_Engine'!BT14=0,INDEX(Settings!$G$7:$G$11,MOD('_Engine'!BS14,10))&IF('_Engine'!BS14>10,"?","")&" AM",INDEX(Settings!$G$7:$G$11,MOD('_Engine'!BS14,10))&IF('_Engine'!BS14>10,"?","")&" AM"&CHAR(10)&INDEX(Settings!$G$7:$G$11,MOD('_Engine'!BT14,10))&IF('_Engine'!BT14>10,"?","")&" PM")))))))) -> — | M14: =IF(OR($A14="",M$11=""),"",IF(OR('_Engine'!$B$6>0,INDEX('_Engine'!$AM$11:$AM$60,'_Engine'!$AO14)<>"OK"),"!",IF(INDEX(Team!$H$11:$N$60,'_Engine'!$AO14,WEEKDAY(M$11,2))<>"Work","—",IF(COUNTIF(Settings!$F$18:$F$67,M$11)>0,"BH",IF('_Engine'!BU14+'_Engine'!BV14=0,"·",IF('_Engine'!BU14='_Engine'!BV14,INDEX(Settings!$G$7:$G$11,MOD('_Engine'!BU14,10))&IF('_Engine'!BU14>10,"?",""),IF('_Engine'!BU14=0,INDEX(Settings!$G$7:$G$11,MOD('_Engine'!BV14,10))&IF('_Engine'!BV14>10,"?","")&" PM",IF('_Engine'!BV14=0,INDEX(Settings!$G$7:$G$11,MOD('_Engine'!BU14,10))&IF('_Engine'!BU14>10,"?","")&" AM",INDEX(Settings!$G$7:$G$11,MOD('_Engine'!BU14,10))&IF('_Engine'!BU14>10,"?","")&" AM"&CHAR(10)&INDEX(Settings!$G$7:$G$11,MOD('_Engine'!BV14,10))&IF('_Engine'!BV14>10,"?","")&" PM")))))))) -> — | N14: =IF(OR($A14="",N$11=""),"",IF(OR('_Engine'!$B$6>0,INDEX('_Engine'!$AM$11:$AM$60,'_Engine'!$AO14)<>"OK"),"!",IF(INDEX(Team!$H$11:$N$60,'_Engine'!$AO14,WEEKDAY(N$11,2))<>"Work","—",IF(COUNTIF(Settings!$F$18:$F$67,N$11)>0,"BH",IF('_Engine'!BW14+'_Engine'!BX14=0,"·",IF('_Engine'!BW14='_Engine'!BX14,INDEX(Settings!$G$7:$G$11,MOD('_Engine'!BW14,10))&IF('_Engine'!BW14>10,"?",""),IF('_Engine'!BW14=0,INDEX(Settings!$G$7:$G$11,MOD('_Engine'!BX14,10))&IF('_Engine'!BX14>10,"?","")&" PM",IF('_Engine'!BX14=0,INDEX(Settings!$G$7:$G$11,MOD('_Engine'!BW14,10))&IF('_Engine'!BW14>10,"?","")&" AM",INDEX(Settings!$G$7:$G$11,MOD('_Engine'!BW14,10))&IF('_Engine'!BW14>10,"?","")&" AM"&CHAR(10)&INDEX(Settings!$G$7:$G$11,MOD('_Engine'!BX14,10))&IF('_Engine'!BX14>10,"?","")&" PM")))))))) -> — | O14: =IF(OR($A14="",O$11=""),"",IF(OR('_Engine'!$B$6>0,INDEX('_Engine'!$AM$11:$AM$60,'_Engine'!$AO14)<>"OK"),"!",IF(INDEX(Team!$H$11:$N$60,'_Engine'!$AO14,WEEKDAY(O$11,2))<>"Work","—",IF(COUNTIF(Settings!$F$18:$F$67,O$11)>0,"BH",IF('_Engine'!BY14+'_Engine'!BZ14=0,"·",IF('_Engine'!BY14='_Engine'!BZ14,INDEX(Settings!$G$7:$G$11,MOD('_Engine'!BY14,10))&IF('_Engine'!BY14>10,"?",""),IF('_Engine'!BY14=0,INDEX(Settings!$G$7:$G$11,MOD('_Engine'!BZ14,10))&IF('_Engine'!BZ14>10,"?","")&" PM",IF('_Engine'!BZ14=0,INDEX(Settings!$G$7:$G$11,MOD('_Engine'!BY14,10))&IF('_Engine'!BY14>10,"?","")&" AM",INDEX(Settings!$G$7:$G$11,MOD('_Engine'!BY14,10))&IF('_Engine'!BY14>10,"?","")&" AM"&CHAR(10)&INDEX(Settings!$G$7:$G$11,MOD('_Engine'!BZ14,10))&IF('_Engine'!BZ14>10,"?","")&" PM")))))))) -> · | P14: =IF(OR($A14="",P$11=""),"",IF(OR('_Engine'!$B$6>0,INDEX('_Engine'!$AM$11:$AM$60,'_Engine'!$AO14)<>"OK"),"!",IF(INDEX(Team!$H$11:$N$60,'_Engine'!$AO14,WEEKDAY(P$11,2))<>"Work","—",IF(COUNTIF(Settings!$F$18:$F$67,P$11)>0,"BH",IF('_Engine'!CA14+'_Engine'!CB14=0,"·",IF('_Engine'!CA14='_Engine'!CB14,INDEX(Settings!$G$7:$G$11,MOD('_Engine'!CA14,10))&IF('_Engine'!CA14>10,"?",""),IF('_Engine'!CA14=0,INDEX(Settings!$G$7:$G$11,MOD('_Engine'!CB14,10))&IF('_Engine'!CB14>10,"?","")&" PM",IF('_Engine'!CB14=0,INDEX(Settings!$G$7:$G$11,MOD('_Engine'!CA14,10))&IF('_Engine'!CA14>10,"?","")&" AM",INDEX(Settings!$G$7:$G$11,MOD('_Engine'!CA14,10))&IF('_Engine'!CA14>10,"?","")&" AM"&CHAR(10)&INDEX(Settings!$G$7:$G$11,MOD('_Engine'!CB14,10))&IF('_Engine'!CB14>10,"?","")&" PM")))))))) -> · | Q14: =IF(OR($A14="",Q$11=""),"",IF(OR('_Engine'!$B$6>0,INDEX('_Engine'!$AM$11:$AM$60,'_Engine'!$AO14)<>"OK"),"!",IF(INDEX(Team!$H$11:$N$60,'_Engine'!$AO14,WEEKDAY(Q$11,2))<>"Work","—",IF(COUNTIF(Settings!$F$18:$F$67,Q$11)>0,"BH",IF('_Engine'!CC14+'_Engine'!CD14=0,"·",IF('_Engine'!CC14='_Engine'!CD14,INDEX(Settings!$G$7:$G$11,MOD('_Engine'!CC14,10))&IF('_Engine'!CC14>10,"?",""),IF('_Engine'!CC14=0,INDEX(Settings!$G$7:$G$11,MOD('_Engine'!CD14,10))&IF('_Engine'!CD14>10,"?","")&" PM",IF('_Engine'!CD14=0,INDEX(Settings!$G$7:$G$11,MOD('_Engine'!CC14,10))&IF('_Engine'!CC14>10,"?","")&" AM",INDEX(Settings!$G$7:$G$11,MOD('_Engine'!CC14,10))&IF('_Engine'!CC14>10,"?","")&" AM"&CHAR(10)&INDEX(Settings!$G$7:$G$11,MOD('_Engine'!CD14,10))&IF('_Engine'!CD14>10,"?","")&" PM")))))))) -> · | R14: =IF(OR($A14="",R$11=""),"",IF(OR('_Engine'!$B$6>0,INDEX('_Engine'!$AM$11:$AM$60,'_Engine'!$AO14)<>"OK"),"!",IF(INDEX(Team!$H$11:$N$60,'_Engine'!$AO14,WEEKDAY(R$11,2))<>"Work","—",IF(COUNTIF(Settings!$F$18:$F$67,R$11)>0,"BH",IF('_Engine'!CE14+'_Engine'!CF14=0,"·",IF('_Engine'!CE14='_Engine'!CF14,INDEX(Settings!$G$7:$G$11,MOD('_Engine'!CE14,10))&IF('_Engine'!CE14>10,"?",""),IF('_Engine'!CE14=0,INDEX(Settings!$G$7:$G$11,MOD('_Engine'!CF14,10))&IF('_Engine'!CF14>10,"?","")&" PM",IF('_Engine'!CF14=0,INDEX(Settings!$G$7:$G$11,MOD('_Engine'!CE14,10))&IF('_Engine'!CE14>10,"?","")&" AM",INDEX(Settings!$G$7:$G$11,MOD('_Engine'!CE14,10))&IF('_Engine'!CE14>10,"?","")&" AM"&CHAR(10)&INDEX(Settings!$G$7:$G$11,MOD('_Engine'!CF14,10))&IF('_Engine'!CF14>10,"?","")&" PM")))))))) -> — | S14: =IF(OR($A14="",S$11=""),"",IF(OR('_Engine'!$B$6>0,INDEX('_Engine'!$AM$11:$AM$60,'_Engine'!$AO14)<>"OK"),"!",IF(INDEX(Team!$H$11:$N$60,'_Engine'!$AO14,WEEKDAY(S$11,2))<>"Work","—",IF(COUNTIF(Settings!$F$18:$F$67,S$11)>0,"BH",IF('_Engine'!CG14+'_Engine'!CH14=0,"·",IF('_Engine'!CG14='_Engine'!CH14,INDEX(Settings!$G$7:$G$11,MOD('_Engine'!CG14,10))&IF('_Engine'!CG14>10,"?",""),IF('_Engine'!CG14=0,INDEX(Settings!$G$7:$G$11,MOD('_Engine'!CH14,10))&IF('_Engine'!CH14>10,"?","")&" PM",IF('_Engine'!CH14=0,INDEX(Settings!$G$7:$G$11,MOD('_Engine'!CG14,10))&IF('_Engine'!CG14>10,"?","")&" AM",INDEX(Settings!$G$7:$G$11,MOD('_Engine'!CG14,10))&IF('_Engine'!CG14>10,"?","")&" AM"&CHAR(10)&INDEX(Settings!$G$7:$G$11,MOD('_Engine'!CH14,10))&IF('_Engine'!CH14>10,"?","")&" PM")))))))) -> — | T14: =IF(OR($A14="",T$11=""),"",IF(OR('_Engine'!$B$6>0,INDEX('_Engine'!$AM$11:$AM$60,'_Engine'!$AO14)<>"OK"),"!",IF(INDEX(Team!$H$11:$N$60,'_Engine'!$AO14,WEEKDAY(T$11,2))<>"Work","—",IF(COUNTIF(Settings!$F$18:$F$67,T$11)>0,"BH",IF('_Engine'!CI14+'_Engine'!CJ14=0,"·",IF('_Engine'!CI14='_Engine'!CJ14,INDEX(Settings!$G$7:$G$11,MOD('_Engine'!CI14,10))&IF('_Engine'!CI14>10,"?",""),IF('_Engine'!CI14=0,INDEX(Settings!$G$7:$G$11,MOD('_Engine'!CJ14,10))&IF('_Engine'!CJ14>10,"?","")&" PM",IF('_Engine'!CJ14=0,INDEX(Settings!$G$7:$G$11,MOD('_Engine'!CI14,10))&IF('_Engine'!CI14>10,"?","")&" AM",INDEX(Settings!$G$7:$G$11,MOD('_Engine'!CI14,10))&IF('_Engine'!CI14>10,"?","")&" AM"&CHAR(10)&INDEX(Settings!$G$7:$G$11,MOD('_Engine'!CJ14,10))&IF('_Engine'!CJ14>10,"?","")&" PM")))))))) -> — | U14: =IF(OR($A14="",U$11=""),"",IF(OR('_Engine'!$B$6>0,INDEX('_Engine'!$AM$11:$AM$60,'_Engine'!$AO14)<>"OK"),"!",IF(INDEX(Team!$H$11:$N$60,'_Engine'!$AO14,WEEKDAY(U$11,2))<>"Work","—",IF(COUNTIF(Settings!$F$18:$F$67,U$11)>0,"BH",IF('_Engine'!CK14+'_Engine'!CL14=0,"·",IF('_Engine'!CK14='_Engine'!CL14,INDEX(Settings!$G$7:$G$11,MOD('_Engine'!CK14,10))&IF('_Engine'!CK14>10,"?",""),IF('_Engine'!CK14=0,INDEX(Settings!$G$7:$G$11,MOD('_Engine'!CL14,10))&IF('_Engine'!CL14>10,"?","")&" PM",IF('_Engine'!CL14=0,INDEX(Settings!$G$7:$G$11,MOD('_Engine'!CK14,10))&IF('_Engine'!CK14>10,"?","")&" AM",INDEX(Settings!$G$7:$G$11,MOD('_Engine'!CK14,10))&IF('_Engine'!CK14>10,"?","")&" AM"&CHAR(10)&INDEX(Settings!$G$7:$G$11,MOD('_Engine'!CL14,10))&IF('_Engine'!CL14>10,"?","")&" PM")))))))) -> — | V14: =IF(OR($A14="",V$11=""),"",IF(OR('_Engine'!$B$6>0,INDEX('_Engine'!$AM$11:$AM$60,'_Engine'!$AO14)<>"OK"),"!",IF(INDEX(Team!$H$11:$N$60,'_Engine'!$AO14,WEEKDAY(V$11,2))<>"Work","—",IF(COUNTIF(Settings!$F$18:$F$67,V$11)>0,"BH",IF('_Engine'!CM14+'_Engine'!CN14=0,"·",IF('_Engine'!CM14='_Engine'!CN14,INDEX(Settings!$G$7:$G$11,MOD('_Engine'!CM14,10))&IF('_Engine'!CM14>10,"?",""),IF('_Engine'!CM14=0,INDEX(Settings!$G$7:$G$11,MOD('_Engine'!CN14,10))&IF('_Engine'!CN14>10,"?","")&" PM",IF('_Engine'!CN14=0,INDEX(Settings!$G$7:$G$11,MOD('_Engine'!CM14,10))&IF('_Engine'!CM14>10,"?","")&" AM",INDEX(Settings!$G$7:$G$11,MOD('_Engine'!CM14,10))&IF('_Engine'!CM14>10,"?","")&" AM"&CHAR(10)&INDEX(Settings!$G$7:$G$11,MOD('_Engine'!CN14,10))&IF('_Engine'!CN14>10,"?","")&" PM")))))))) -> H | W14: =IF(OR($A14="",W$11=""),"",IF(OR('_Engine'!$B$6>0,INDEX('_Engine'!$AM$11:$AM$60,'_Engine'!$AO14)<>"OK"),"!",IF(INDEX(Team!$H$11:$N$60,'_Engine'!$AO14,WEEKDAY(W$11,2))<>"Work","—",IF(COUNTIF(Settings!$F$18:$F$67,W$11)>0,"BH",IF('_Engine'!CO14+'_Engine'!CP14=0,"·",IF('_Engine'!CO14='_Engine'!CP14,INDEX(Settings!$G$7:$G$11,MOD('_Engine'!CO14,10))&IF('_Engine'!CO14>10,"?",""),IF('_Engine'!CO14=0,INDEX(Settings!$G$7:$G$11,MOD('_Engine'!CP14,10))&IF('_Engine'!CP14>10,"?","")&" PM",IF('_Engine'!CP14=0,INDEX(Settings!$G$7:$G$11,MOD('_Engine'!CO14,10))&IF('_Engine'!CO14>10,"?","")&" AM",INDEX(Settings!$G$7:$G$11,MOD('_Engine'!CO14,10))&IF('_Engine'!CO14>10,"?","")&" AM"&CHAR(10)&INDEX(Settings!$G$7:$G$11,MOD('_Engine'!CP14,10))&IF('_Engine'!CP14>10,"?","")&" PM")))))))) -> H | X14: =IF(OR($A14="",X$11=""),"",IF(OR('_Engine'!$B$6>0,INDEX('_Engine'!$AM$11:$AM$60,'_Engine'!$AO14)<>"OK"),"!",IF(INDEX(Team!$H$11:$N$60,'_Engine'!$AO14,WEEKDAY(X$11,2))<>"Work","—",IF(COUNTIF(Settings!$F$18:$F$67,X$11)>0,"BH",IF('_Engine'!CQ14+'_Engine'!CR14=0,"·",IF('_Engine'!CQ14='_Engine'!CR14,INDEX(Settings!$G$7:$G$11,MOD('_Engine'!CQ14,10))&IF('_Engine'!CQ14>10,"?",""),IF('_Engine'!CQ14=0,INDEX(Settings!$G$7:$G$11,MOD('_Engine'!CR14,10))&IF('_Engine'!CR14>10,"?","")&" PM",IF('_Engine'!CR14=0,INDEX(Settings!$G$7:$G$11,MOD('_Engine'!CQ14,10))&IF('_Engine'!CQ14>10,"?","")&" AM",INDEX(Settings!$G$7:$G$11,MOD('_Engine'!CQ14,10))&IF('_Engine'!CQ14>10,"?","")&" AM"&CHAR(10)&INDEX(Settings!$G$7:$G$11,MOD('_Engine'!CR14,10))&IF('_Engine'!CR14>10,"?","")&" PM")))))))) -> H | Y14: =IF(OR($A14="",Y$11=""),"",IF(OR('_Engine'!$B$6>0,INDEX('_Engine'!$AM$11:$AM$60,'_Engine'!$AO14)<>"OK"),"!",IF(INDEX(Team!$H$11:$N$60,'_Engine'!$AO14,WEEKDAY(Y$11,2))<>"Work","—",IF(COUNTIF(Settings!$F$18:$F$67,Y$11)>0,"BH",IF('_Engine'!CS14+'_Engine'!CT14=0,"·",IF('_Engine'!CS14='_Engine'!CT14,INDEX(Settings!$G$7:$G$11,MOD('_Engine'!CS14,10))&IF('_Engine'!CS14>10,"?",""),IF('_Engine'!CS14=0,INDEX(Settings!$G$7:$G$11,MOD('_Engine'!CT14,10))&IF('_Engine'!CT14>10,"?","")&" PM",IF('_Engine'!CT14=0,INDEX(Settings!$G$7:$G$11,MOD('_Engine'!CS14,10))&IF('_Engine'!CS14>10,"?","")&" AM",INDEX(Settings!$G$7:$G$11,MOD('_Engine'!CS14,10))&IF('_Engine'!CS14>10,"?","")&" AM"&CHAR(10)&INDEX(Settings!$G$7:$G$11,MOD('_Engine'!CT14,10))&IF('_Engine'!CT14>10,"?","")&" PM")))))))) -> — | Z14: =IF(OR($A14="",Z$11=""),"",IF(OR('_Engine'!$B$6>0,INDEX('_Engine'!$AM$11:$AM$60,'_Engine'!$AO14)<>"OK"),"!",IF(INDEX(Team!$H$11:$N$60,'_Engine'!$AO14,WEEKDAY(Z$11,2))<>"Work","—",IF(COUNTIF(Settings!$F$18:$F$67,Z$11)>0,"BH",IF('_Engine'!CU14+'_Engine'!CV14=0,"·",IF('_Engine'!CU14='_Engine'!CV14,INDEX(Settings!$G$7:$G$11,MOD('_Engine'!CU14,10))&IF('_Engine'!CU14>10,"?",""),IF('_Engine'!CU14=0,INDEX(Settings!$G$7:$G$11,MOD('_Engine'!CV14,10))&IF('_Engine'!CV14>10,"?","")&" PM",IF('_Engine'!CV14=0,INDEX(Settings!$G$7:$G$11,MOD('_Engine'!CU14,10))&IF('_Engine'!CU14>10,"?","")&" AM",INDEX(Settings!$G$7:$G$11,MOD('_Engine'!CU14,10))&IF('_Engine'!CU14>10,"?","")&" AM"&CHAR(10)&INDEX(Settings!$G$7:$G$11,MOD('_Engine'!CV14,10))&IF('_Engine'!CV14>10,"?","")&" PM")))))))) -> — | AA14: =IF(OR($A14="",AA$11=""),"",IF(OR('_Engine'!$B$6>0,INDEX('_Engine'!$AM$11:$AM$60,'_Engine'!$AO14)<>"OK"),"!",IF(INDEX(Team!$H$11:$N$60,'_Engine'!$AO14,WEEKDAY(AA$11,2))<>"Work","—",IF(COUNTIF(Settings!$F$18:$F$67,AA$11)>0,"BH",IF('_Engine'!CW14+'_Engine'!CX14=0,"·",IF('_Engine'!CW14='_Engine'!CX14,INDEX(Settings!$G$7:$G$11,MOD('_Engine'!CW14,10))&IF('_Engine'!CW14>10,"?",""),IF('_Engine'!CW14=0,INDEX(Settings!$G$7:$G$11,MOD('_Engine'!CX14,10))&IF('_Engine'!CX14>10,"?","")&" PM",IF('_Engine'!CX14=0,INDEX(Settings!$G$7:$G$11,MOD('_Engine'!CW14,10))&IF('_Engine'!CW14>10,"?","")&" AM",INDEX(Settings!$G$7:$G$11,MOD('_Engine'!CW14,10))&IF('_Engine'!CW14>10,"?","")&" AM"&CHAR(10)&INDEX(Settings!$G$7:$G$11,MOD('_Engine'!CX14,10))&IF('_Engine'!CX14>10,"?","")&" PM")))))))) -> — | AB14: =IF(OR($A14="",AB$11=""),"",IF(OR('_Engine'!$B$6>0,INDEX('_Engine'!$AM$11:$AM$60,'_Engine'!$AO14)<>"OK"),"!",IF(INDEX(Team!$H$11:$N$60,'_Engine'!$AO14,WEEKDAY(AB$11,2))<>"Work","—",IF(COUNTIF(Settings!$F$18:$F$67,AB$11)>0,"BH",IF('_Engine'!CY14+'_Engine'!CZ14=0,"·",IF('_Engine'!CY14='_Engine'!CZ14,INDEX(Settings!$G$7:$G$11,MOD('_Engine'!CY14,10))&IF('_Engine'!CY14>10,"?",""),IF('_Engine'!CY14=0,INDEX(Settings!$G$7:$G$11,MOD('_Engine'!CZ14,10))&IF('_Engine'!CZ14>10,"?","")&" PM",IF('_Engine'!CZ14=0,INDEX(Settings!$G$7:$G$11,MOD('_Engine'!CY14,10))&IF('_Engine'!CY14>10,"?","")&" AM",INDEX(Settings!$G$7:$G$11,MOD('_Engine'!CY14,10))&IF('_Engine'!CY14>10,"?","")&" AM"&CHAR(10)&INDEX(Settings!$G$7:$G$11,MOD('_Engine'!CZ14,10))&IF('_Engine'!CZ14>10,"?","")&" PM")))))))) -> — | AC14: =IF(OR($A14="",AC$11=""),"",IF(OR('_Engine'!$B$6>0,INDEX('_Engine'!$AM$11:$AM$60,'_Engine'!$AO14)<>"OK"),"!",IF(INDEX(Team!$H$11:$N$60,'_Engine'!$AO14,WEEKDAY(AC$11,2))<>"Work","—",IF(COUNTIF(Settings!$F$18:$F$67,AC$11)>0,"BH",IF('_Engine'!DA14+'_Engine'!DB14=0,"·",IF('_Engine'!DA14='_Engine'!DB14,INDEX(Settings!$G$7:$G$11,MOD('_Engine'!DA14,10))&IF('_Engine'!DA14>10,"?",""),IF('_Engine'!DA14=0,INDEX(Settings!$G$7:$G$11,MOD('_Engine'!DB14,10))&IF('_Engine'!DB14>10,"?","")&" PM",IF('_Engine'!DB14=0,INDEX(Settings!$G$7:$G$11,MOD('_Engine'!DA14,10))&IF('_Engine'!DA14>10,"?","")&" AM",INDEX(Settings!$G$7:$G$11,MOD('_Engine'!DA14,10))&IF('_Engine'!DA14>10,"?","")&" AM"&CHAR(10)&INDEX(Settings!$G$7:$G$11,MOD('_Engine'!DB14,10))&IF('_Engine'!DB14>10,"?","")&" PM")))))))) -> H? | AD14: =IF(OR($A14="",AD$11=""),"",IF(OR('_Engine'!$B$6>0,INDEX('_Engine'!$AM$11:$AM$60,'_Engine'!$AO14)<>"OK"),"!",IF(INDEX(Team!$H$11:$N$60,'_Engine'!$AO14,WEEKDAY(AD$11,2))<>"Work","—",IF(COUNTIF(Settings!$F$18:$F$67,AD$11)>0,"BH",IF('_Engine'!DC14+'_Engine'!DD14=0,"·",IF('_Engine'!DC14='_Engine'!DD14,INDEX(Settings!$G$7:$G$11,MOD('_Engine'!DC14,10))&IF('_Engine'!DC14>10,"?",""),IF('_Engine'!DC14=0,INDEX(Settings!$G$7:$G$11,MOD('_Engine'!DD14,10))&IF('_Engine'!DD14>10,"?","")&" PM",IF('_Engine'!DD14=0,INDEX(Settings!$G$7:$G$11,MOD('_Engine'!DC14,10))&IF('_Engine'!DC14>10,"?","")&" AM",INDEX(Settings!$G$7:$G$11,MOD('_Engine'!DC14,10))&IF('_Engine'!DC14>10,"?","")&" AM"&CHAR(10)&INDEX(Settings!$G$7:$G$11,MOD('_Engine'!DD14,10))&IF('_Engine'!DD14>10,"?","")&" PM")))))))) -> H? | AE14: =IF(OR($A14="",AE$11=""),"",IF(OR('_Engine'!$B$6>0,INDEX('_Engine'!$AM$11:$AM$60,'_Engine'!$AO14)<>"OK"),"!",IF(INDEX(Team!$H$11:$N$60,'_Engine'!$AO14,WEEKDAY(AE$11,2))<>"Work","—",IF(COUNTIF(Settings!$F$18:$F$67,AE$11)>0,"BH",IF('_Engine'!DE14+'_Engine'!DF14=0,"·",IF('_Engine'!DE14='_Engine'!DF14,INDEX(Settings!$G$7:$G$11,MOD('_Engine'!DE14,10))&IF('_Engine'!DE14>10,"?",""),IF('_Engine'!DE14=0,INDEX(Settings!$G$7:$G$11,MOD('_Engine'!DF14,10))&IF('_Engine'!DF14>10,"?","")&" PM",IF('_Engine'!DF14=0,INDEX(Settings!$G$7:$G$11,MOD('_Engine'!DE14,10))&IF('_Engine'!DE14>10,"?","")&" AM",INDEX(Settings!$G$7:$G$11,MOD('_Engine'!DE14,10))&IF('_Engine'!DE14>10,"?","")&" AM"&CHAR(10)&INDEX(Settings!$G$7:$G$11,MOD('_Engine'!DF14,10))&IF('_Engine'!DF14>10,"?","")&" PM")))))))) -> H? | AF14: =IF(OR($A14="",AF$11=""),"",IF(OR('_Engine'!$B$6>0,INDEX('_Engine'!$AM$11:$AM$60,'_Engine'!$AO14)<>"OK"),"!",IF(INDEX(Team!$H$11:$N$60,'_Engine'!$AO14,WEEKDAY(AF$11,2))<>"Work","—",IF(COUNTIF(Settings!$F$18:$F$67,AF$11)>0,"BH",IF('_Engine'!DG14+'_Engine'!DH14=0,"·",IF('_Engine'!DG14='_Engine'!DH14,INDEX(Settings!$G$7:$G$11,MOD('_Engine'!DG14,10))&IF('_Engine'!DG14>10,"?",""),IF('_Engine'!DG14=0,INDEX(Settings!$G$7:$G$11,MOD('_Engine'!DH14,10))&IF('_Engine'!DH14>10,"?","")&" PM",IF('_Engine'!DH14=0,INDEX(Settings!$G$7:$G$11,MOD('_Engine'!DG14,10))&IF('_Engine'!DG14>10,"?","")&" AM",INDEX(Settings!$G$7:$G$11,MOD('_Engine'!DG14,10))&IF('_Engine'!DG14>10,"?","")&" AM"&CHAR(10)&INDEX(Settings!$G$7:$G$11,MOD('_Engine'!DH14,10))&IF('_Engine'!DH14>10,"?","")&" PM")))))))) -> — | AG14: =IF(OR($A14="",AG$11=""),"",IF(OR('_Engine'!$B$6>0,INDEX('_Engine'!$AM$11:$AM$60,'_Engine'!$AO14)<>"OK"),"!",IF(INDEX(Team!$H$11:$N$60,'_Engine'!$AO14,WEEKDAY(AG$11,2))<>"Work","—",IF(COUNTIF(Settings!$F$18:$F$67,AG$11)>0,"BH",IF('_Engine'!DI14+'_Engine'!DJ14=0,"·",IF('_Engine'!DI14='_Engine'!DJ14,INDEX(Settings!$G$7:$G$11,MOD('_Engine'!DI14,10))&IF('_Engine'!DI14>10,"?",""),IF('_Engine'!DI14=0,INDEX(Settings!$G$7:$G$11,MOD('_Engine'!DJ14,10))&IF('_Engine'!DJ14>10,"?","")&" PM",IF('_Engine'!DJ14=0,INDEX(Settings!$G$7:$G$11,MOD('_Engine'!DI14,10))&IF('_Engine'!DI14>10,"?","")&" AM",INDEX(Settings!$G$7:$G$11,MOD('_Engine'!DI14,10))&IF('_Engine'!DI14>10,"?","")&" AM"&CHAR(10)&INDEX(Settings!$G$7:$G$11,MOD('_Engine'!DJ14,10))&IF('_Engine'!DJ14>10,"?","")&" PM")))))))) -> — | AH14: =IF(OR($A14="",AH$11=""),"",IF(OR('_Engine'!$B$6>0,INDEX('_Engine'!$AM$11:$AM$60,'_Engine'!$AO14)<>"OK"),"!",IF(INDEX(Team!$H$11:$N$60,'_Engine'!$AO14,WEEKDAY(AH$11,2))<>"Work","—",IF(COUNTIF(Settings!$F$18:$F$67,AH$11)>0,"BH",IF('_Engine'!DK14+'_Engine'!DL14=0,"·",IF('_Engine'!DK14='_Engine'!DL14,INDEX(Settings!$G$7:$G$11,MOD('_Engine'!DK14,10))&IF('_Engine'!DK14>10,"?",""),IF('_Engine'!DK14=0,INDEX(Settings!$G$7:$G$11,MOD('_Engine'!DL14,10))&IF('_Engine'!DL14>10,"?","")&" PM",IF('_Engine'!DL14=0,INDEX(Settings!$G$7:$G$11,MOD('_Engine'!DK14,10))&IF('_Engine'!DK14>10,"?","")&" AM",INDEX(Settings!$G$7:$G$11,MOD('_Engine'!DK14,10))&IF('_Engine'!DK14>10,"?","")&" AM"&CHAR(10)&INDEX(Settings!$G$7:$G$11,MOD('_Engine'!DL14,10))&IF('_Engine'!DL14>10,"?","")&" PM")))))))) -> —
A15: =IF('_Engine'!AO15=0,"",IF(INDEX(Team!$B$11:$B$60,'_Engine'!AO15)="","[Unnamed]",INDEX(Team!$B$11:$B$60,'_Engine'!AO15))) -> Jordan Lee | B15: =IF('_Engine'!AO15=0,"",INDEX('_Engine'!$AN$11:$AN$60,'_Engine'!AO15)) -> 21.5 | C15: =IF('_Engine'!AO15=0,"",INDEX(Team!$C$11:$C$60,'_Engine'!AO15)) -> Operations | D15: =IF(OR($A15="",D$11=""),"",IF(OR('_Engine'!$B$6>0,INDEX('_Engine'!$AM$11:$AM$60,'_Engine'!$AO15)<>"OK"),"!",IF(INDEX(Team!$H$11:$N$60,'_Engine'!$AO15,WEEKDAY(D$11,2))<>"Work","—",IF(COUNTIF(Settings!$F$18:$F$67,D$11)>0,"BH",IF('_Engine'!BC15+'_Engine'!BD15=0,"·",IF('_Engine'!BC15='_Engine'!BD15,INDEX(Settings!$G$7:$G$11,MOD('_Engine'!BC15,10))&IF('_Engine'!BC15>10,"?",""),IF('_Engine'!BC15=0,INDEX(Settings!$G$7:$G$11,MOD('_Engine'!BD15,10))&IF('_Engine'!BD15>10,"?","")&" PM",IF('_Engine'!BD15=0,INDEX(Settings!$G$7:$G$11,MOD('_Engine'!BC15,10))&IF('_Engine'!BC15>10,"?","")&" AM",INDEX(Settings!$G$7:$G$11,MOD('_Engine'!BC15,10))&IF('_Engine'!BC15>10,"?","")&" AM"&CHAR(10)&INDEX(Settings!$G$7:$G$11,MOD('_Engine'!BD15,10))&IF('_Engine'!BD15>10,"?","")&" PM")))))))) -> · | E15: =IF(OR($A15="",E$11=""),"",IF(OR('_Engine'!$B$6>0,INDEX('_Engine'!$AM$11:$AM$60,'_Engine'!$AO15)<>"OK"),"!",IF(INDEX(Team!$H$11:$N$60,'_Engine'!$AO15,WEEKDAY(E$11,2))<>"Work","—",IF(COUNTIF(Settings!$F$18:$F$67,E$11)>0,"BH",IF('_Engine'!BE15+'_Engine'!BF15=0,"·",IF('_Engine'!BE15='_Engine'!BF15,INDEX(Settings!$G$7:$G$11,MOD('_Engine'!BE15,10))&IF('_Engine'!BE15>10,"?",""),IF('_Engine'!BE15=0,INDEX(Settings!$G$7:$G$11,MOD('_Engine'!BF15,10))&IF('_Engine'!BF15>10,"?","")&" PM",IF('_Engine'!BF15=0,INDEX(Settings!$G$7:$G$11,MOD('_Engine'!BE15,10))&IF('_Engine'!BE15>10,"?","")&" AM",INDEX(Settings!$G$7:$G$11,MOD('_Engine'!BE15,10))&IF('_Engine'!BE15>10,"?","")&" AM"&CHAR(10)&INDEX(Settings!$G$7:$G$11,MOD('_Engine'!BF15,10))&IF('_Engine'!BF15>10,"?","")&" PM")))))))) -> · | F15: =IF(OR($A15="",F$11=""),"",IF(OR('_Engine'!$B$6>0,INDEX('_Engine'!$AM$11:$AM$60,'_Engine'!$AO15)<>"OK"),"!",IF(INDEX(Team!$H$11:$N$60,'_Engine'!$AO15,WEEKDAY(F$11,2))<>"Work","—",IF(COUNTIF(Settings!$F$18:$F$67,F$11)>0,"BH",IF('_Engine'!BG15+'_Engine'!BH15=0,"·",IF('_Engine'!BG15='_Engine'!BH15,INDEX(Settings!$G$7:$G$11,MOD('_Engine'!BG15,10))&IF('_Engine'!BG15>10,"?",""),IF('_Engine'!BG15=0,INDEX(Settings!$G$7:$G$11,MOD('_Engine'!BH15,10))&IF('_Engine'!BH15>10,"?","")&" PM",IF('_Engine'!BH15=0,INDEX(Settings!$G$7:$G$11,MOD('_Engine'!BG15,10))&IF('_Engine'!BG15>10,"?","")&" AM",INDEX(Settings!$G$7:$G$11,MOD('_Engine'!BG15,10))&IF('_Engine'!BG15>10,"?","")&" AM"&CHAR(10)&INDEX(Settings!$G$7:$G$11,MOD('_Engine'!BH15,10))&IF('_Engine'!BH15>10,"?","")&" PM")))))))) -> — | G15: =IF(OR($A15="",G$11=""),"",IF(OR('_Engine'!$B$6>0,INDEX('_Engine'!$AM$11:$AM$60,'_Engine'!$AO15)<>"OK"),"!",IF(INDEX(Team!$H$11:$N$60,'_Engine'!$AO15,WEEKDAY(G$11,2))<>"Work","—",IF(COUNTIF(Settings!$F$18:$F$67,G$11)>0,"BH",IF('_Engine'!BI15+'_Engine'!BJ15=0,"·",IF('_Engine'!BI15='_Engine'!BJ15,INDEX(Settings!$G$7:$G$11,MOD('_Engine'!BI15,10))&IF('_Engine'!BI15>10,"?",""),IF('_Engine'!BI15=0,INDEX(Settings!$G$7:$G$11,MOD('_Engine'!BJ15,10))&IF('_Engine'!BJ15>10,"?","")&" PM",IF('_Engine'!BJ15=0,INDEX(Settings!$G$7:$G$11,MOD('_Engine'!BI15,10))&IF('_Engine'!BI15>10,"?","")&" AM",INDEX(Settings!$G$7:$G$11,MOD('_Engine'!BI15,10))&IF('_Engine'!BI15>10,"?","")&" AM"&CHAR(10)&INDEX(Settings!$G$7:$G$11,MOD('_Engine'!BJ15,10))&IF('_Engine'!BJ15>10,"?","")&" PM")))))))) -> — | H15: =IF(OR($A15="",H$11=""),"",IF(OR('_Engine'!$B$6>0,INDEX('_Engine'!$AM$11:$AM$60,'_Engine'!$AO15)<>"OK"),"!",IF(INDEX(Team!$H$11:$N$60,'_Engine'!$AO15,WEEKDAY(H$11,2))<>"Work","—",IF(COUNTIF(Settings!$F$18:$F$67,H$11)>0,"BH",IF('_Engine'!BK15+'_Engine'!BL15=0,"·",IF('_Engine'!BK15='_Engine'!BL15,INDEX(Settings!$G$7:$G$11,MOD('_Engine'!BK15,10))&IF('_Engine'!BK15>10,"?",""),IF('_Engine'!BK15=0,INDEX(Settings!$G$7:$G$11,MOD('_Engine'!BL15,10))&IF('_Engine'!BL15>10,"?","")&" PM",IF('_Engine'!BL15=0,INDEX(Settings!$G$7:$G$11,MOD('_Engine'!BK15,10))&IF('_Engine'!BK15>10,"?","")&" AM",INDEX(Settings!$G$7:$G$11,MOD('_Engine'!BK15,10))&IF('_Engine'!BK15>10,"?","")&" AM"&CHAR(10)&INDEX(Settings!$G$7:$G$11,MOD('_Engine'!BL15,10))&IF('_Engine'!BL15>10,"?","")&" PM")))))))) -> · | I15: =IF(OR($A15="",I$11=""),"",IF(OR('_Engine'!$B$6>0,INDEX('_Engine'!$AM$11:$AM$60,'_Engine'!$AO15)<>"OK"),"!",IF(INDEX(Team!$H$11:$N$60,'_Engine'!$AO15,WEEKDAY(I$11,2))<>"Work","—",IF(COUNTIF(Settings!$F$18:$F$67,I$11)>0,"BH",IF('_Engine'!BM15+'_Engine'!BN15=0,"·",IF('_Engine'!BM15='_Engine'!BN15,INDEX(Settings!$G$7:$G$11,MOD('_Engine'!BM15,10))&IF('_Engine'!BM15>10,"?",""),IF('_Engine'!BM15=0,INDEX(Settings!$G$7:$G$11,MOD('_Engine'!BN15,10))&IF('_Engine'!BN15>10,"?","")&" PM",IF('_Engine'!BN15=0,INDEX(Settings!$G$7:$G$11,MOD('_Engine'!BM15,10))&IF('_Engine'!BM15>10,"?","")&" AM",INDEX(Settings!$G$7:$G$11,MOD('_Engine'!BM15,10))&IF('_Engine'!BM15>10,"?","")&" AM"&CHAR(10)&INDEX(Settings!$G$7:$G$11,MOD('_Engine'!BN15,10))&IF('_Engine'!BN15>10,"?","")&" PM")))))))) -> · | J15: =IF(OR($A15="",J$11=""),"",IF(OR('_Engine'!$B$6>0,INDEX('_Engine'!$AM$11:$AM$60,'_Engine'!$AO15)<>"OK"),"!",IF(INDEX(Team!$H$11:$N$60,'_Engine'!$AO15,WEEKDAY(J$11,2))<>"Work","—",IF(COUNTIF(Settings!$F$18:$F$67,J$11)>0,"BH",IF('_Engine'!BO15+'_Engine'!BP15=0,"·",IF('_Engine'!BO15='_Engine'!BP15,INDEX(Settings!$G$7:$G$11,MOD('_Engine'!BO15,10))&IF('_Engine'!BO15>10,"?",""),IF('_Engine'!BO15=0,INDEX(Settings!$G$7:$G$11,MOD('_Engine'!BP15,10))&IF('_Engine'!BP15>10,"?","")&" PM",IF('_Engine'!BP15=0,INDEX(Settings!$G$7:$G$11,MOD('_Engine'!BO15,10))&IF('_Engine'!BO15>10,"?","")&" AM",INDEX(Settings!$G$7:$G$11,MOD('_Engine'!BO15,10))&IF('_Engine'!BO15>10,"?","")&" AM"&CHAR(10)&INDEX(Settings!$G$7:$G$11,MOD('_Engine'!BP15,10))&IF('_Engine'!BP15>10,"?","")&" PM")))))))) -> · | K15: =IF(OR($A15="",K$11=""),"",IF(OR('_Engine'!$B$6>0,INDEX('_Engine'!$AM$11:$AM$60,'_Engine'!$AO15)<>"OK"),"!",IF(INDEX(Team!$H$11:$N$60,'_Engine'!$AO15,WEEKDAY(K$11,2))<>"Work","—",IF(COUNTIF(Settings!$F$18:$F$67,K$11)>0,"BH",IF('_Engine'!BQ15+'_Engine'!BR15=0,"·",IF('_Engine'!BQ15='_Engine'!BR15,INDEX(Settings!$G$7:$G$11,MOD('_Engine'!BQ15,10))&IF('_Engine'!BQ15>10,"?",""),IF('_Engine'!BQ15=0,INDEX(Settings!$G$7:$G$11,MOD('_Engine'!BR15,10))&IF('_Engine'!BR15>10,"?","")&" PM",IF('_Engine'!BR15=0,INDEX(Settings!$G$7:$G$11,MOD('_Engine'!BQ15,10))&IF('_Engine'!BQ15>10,"?","")&" AM",INDEX(Settings!$G$7:$G$11,MOD('_Engine'!BQ15,10))&IF('_Engine'!BQ15>10,"?","")&" AM"&CHAR(10)&INDEX(Settings!$G$7:$G$11,MOD('_Engine'!BR15,10))&IF('_Engine'!BR15>10,"?","")&" PM")))))))) -> · | L15: =IF(OR($A15="",L$11=""),"",IF(OR('_Engine'!$B$6>0,INDEX('_Engine'!$AM$11:$AM$60,'_Engine'!$AO15)<>"OK"),"!",IF(INDEX(Team!$H$11:$N$60,'_Engine'!$AO15,WEEKDAY(L$11,2))<>"Work","—",IF(COUNTIF(Settings!$F$18:$F$67,L$11)>0,"BH",IF('_Engine'!BS15+'_Engine'!BT15=0,"·",IF('_Engine'!BS15='_Engine'!BT15,INDEX(Settings!$G$7:$G$11,MOD('_Engine'!BS15,10))&IF('_Engine'!BS15>10,"?",""),IF('_Engine'!BS15=0,INDEX(Settings!$G$7:$G$11,MOD('_Engine'!BT15,10))&IF('_Engine'!BT15>10,"?","")&" PM",IF('_Engine'!BT15=0,INDEX(Settings!$G$7:$G$11,MOD('_Engine'!BS15,10))&IF('_Engine'!BS15>10,"?","")&" AM",INDEX(Settings!$G$7:$G$11,MOD('_Engine'!BS15,10))&IF('_Engine'!BS15>10,"?","")&" AM"&CHAR(10)&INDEX(Settings!$G$7:$G$11,MOD('_Engine'!BT15,10))&IF('_Engine'!BT15>10,"?","")&" PM")))))))) -> · | M15: =IF(OR($A15="",M$11=""),"",IF(OR('_Engine'!$B$6>0,INDEX('_Engine'!$AM$11:$AM$60,'_Engine'!$AO15)<>"OK"),"!",IF(INDEX(Team!$H$11:$N$60,'_Engine'!$AO15,WEEKDAY(M$11,2))<>"Work","—",IF(COUNTIF(Settings!$F$18:$F$67,M$11)>0,"BH",IF('_Engine'!BU15+'_Engine'!BV15=0,"·",IF('_Engine'!BU15='_Engine'!BV15,INDEX(Settings!$G$7:$G$11,MOD('_Engine'!BU15,10))&IF('_Engine'!BU15>10,"?",""),IF('_Engine'!BU15=0,INDEX(Settings!$G$7:$G$11,MOD('_Engine'!BV15,10))&IF('_Engine'!BV15>10,"?","")&" PM",IF('_Engine'!BV15=0,INDEX(Settings!$G$7:$G$11,MOD('_Engine'!BU15,10))&IF('_Engine'!BU15>10,"?","")&" AM",INDEX(Settings!$G$7:$G$11,MOD('_Engine'!BU15,10))&IF('_Engine'!BU15>10,"?","")&" AM"&CHAR(10)&INDEX(Settings!$G$7:$G$11,MOD('_Engine'!BV15,10))&IF('_Engine'!BV15>10,"?","")&" PM")))))))) -> — | N15: =IF(OR($A15="",N$11=""),"",IF(OR('_Engine'!$B$6>0,INDEX('_Engine'!$AM$11:$AM$60,'_Engine'!$AO15)<>"OK"),"!",IF(INDEX(Team!$H$11:$N$60,'_Engine'!$AO15,WEEKDAY(N$11,2))<>"Work","—",IF(COUNTIF(Settings!$F$18:$F$67,N$11)>0,"BH",IF('_Engine'!BW15+'_Engine'!BX15=0,"·",IF('_Engine'!BW15='_Engine'!BX15,INDEX(Settings!$G$7:$G$11,MOD('_Engine'!BW15,10))&IF('_Engine'!BW15>10,"?",""),IF('_Engine'!BW15=0,INDEX(Settings!$G$7:$G$11,MOD('_Engine'!BX15,10))&IF('_Engine'!BX15>10,"?","")&" PM",IF('_Engine'!BX15=0,INDEX(Settings!$G$7:$G$11,MOD('_Engine'!BW15,10))&IF('_Engine'!BW15>10,"?","")&" AM",INDEX(Settings!$G$7:$G$11,MOD('_Engine'!BW15,10))&IF('_Engine'!BW15>10,"?","")&" AM"&CHAR(10)&INDEX(Settings!$G$7:$G$11,MOD('_Engine'!BX15,10))&IF('_Engine'!BX15>10,"?","")&" PM")))))))) -> — | O15: =IF(OR($A15="",O$11=""),"",IF(OR('_Engine'!$B$6>0,INDEX('_Engine'!$AM$11:$AM$60,'_Engine'!$AO15)<>"OK"),"!",IF(INDEX(Team!$H$11:$N$60,'_Engine'!$AO15,WEEKDAY(O$11,2))<>"Work","—",IF(COUNTIF(Settings!$F$18:$F$67,O$11)>0,"BH",IF('_Engine'!BY15+'_Engine'!BZ15=0,"·",IF('_Engine'!BY15='_Engine'!BZ15,INDEX(Settings!$G$7:$G$11,MOD('_Engine'!BY15,10))&IF('_Engine'!BY15>10,"?",""),IF('_Engine'!BY15=0,INDEX(Settings!$G$7:$G$11,MOD('_Engine'!BZ15,10))&IF('_Engine'!BZ15>10,"?","")&" PM",IF('_Engine'!BZ15=0,INDEX(Settings!$G$7:$G$11,MOD('_Engine'!BY15,10))&IF('_Engine'!BY15>10,"?","")&" AM",INDEX(Settings!$G$7:$G$11,MOD('_Engine'!BY15,10))&IF('_Engine'!BY15>10,"?","")&" AM"&CHAR(10)&INDEX(Settings!$G$7:$G$11,MOD('_Engine'!BZ15,10))&IF('_Engine'!BZ15>10,"?","")&" PM")))))))) -> · | P15: =IF(OR($A15="",P$11=""),"",IF(OR('_Engine'!$B$6>0,INDEX('_Engine'!$AM$11:$AM$60,'_Engine'!$AO15)<>"OK"),"!",IF(INDEX(Team!$H$11:$N$60,'_Engine'!$AO15,WEEKDAY(P$11,2))<>"Work","—",IF(COUNTIF(Settings!$F$18:$F$67,P$11)>0,"BH",IF('_Engine'!CA15+'_Engine'!CB15=0,"·",IF('_Engine'!CA15='_Engine'!CB15,INDEX(Settings!$G$7:$G$11,MOD('_Engine'!CA15,10))&IF('_Engine'!CA15>10,"?",""),IF('_Engine'!CA15=0,INDEX(Settings!$G$7:$G$11,MOD('_Engine'!CB15,10))&IF('_Engine'!CB15>10,"?","")&" PM",IF('_Engine'!CB15=0,INDEX(Settings!$G$7:$G$11,MOD('_Engine'!CA15,10))&IF('_Engine'!CA15>10,"?","")&" AM",INDEX(Settings!$G$7:$G$11,MOD('_Engine'!CA15,10))&IF('_Engine'!CA15>10,"?","")&" AM"&CHAR(10)&INDEX(Settings!$G$7:$G$11,MOD('_Engine'!CB15,10))&IF('_Engine'!CB15>10,"?","")&" PM")))))))) -> · | Q15: =IF(OR($A15="",Q$11=""),"",IF(OR('_Engine'!$B$6>0,INDEX('_Engine'!$AM$11:$AM$60,'_Engine'!$AO15)<>"OK"),"!",IF(INDEX(Team!$H$11:$N$60,'_Engine'!$AO15,WEEKDAY(Q$11,2))<>"Work","—",IF(COUNTIF(Settings!$F$18:$F$67,Q$11)>0,"BH",IF('_Engine'!CC15+'_Engine'!CD15=0,"·",IF('_Engine'!CC15='_Engine'!CD15,INDEX(Settings!$G$7:$G$11,MOD('_Engine'!CC15,10))&IF('_Engine'!CC15>10,"?",""),IF('_Engine'!CC15=0,INDEX(Settings!$G$7:$G$11,MOD('_Engine'!CD15,10))&IF('_Engine'!CD15>10,"?","")&" PM",IF('_Engine'!CD15=0,INDEX(Settings!$G$7:$G$11,MOD('_Engine'!CC15,10))&IF('_Engine'!CC15>10,"?","")&" AM",INDEX(Settings!$G$7:$G$11,MOD('_Engine'!CC15,10))&IF('_Engine'!CC15>10,"?","")&" AM"&CHAR(10)&INDEX(Settings!$G$7:$G$11,MOD('_Engine'!CD15,10))&IF('_Engine'!CD15>10,"?","")&" PM")))))))) -> H AM S PM | R15: =IF(OR($A15="",R$11=""),"",IF(OR('_Engine'!$B$6>0,INDEX('_Engine'!$AM$11:$AM$60,'_Engine'!$AO15)<>"OK"),"!",IF(INDEX(Team!$H$11:$N$60,'_Engine'!$AO15,WEEKDAY(R$11,2))<>"Work","—",IF(COUNTIF(Settings!$F$18:$F$67,R$11)>0,"BH",IF('_Engine'!CE15+'_Engine'!CF15=0,"·",IF('_Engine'!CE15='_Engine'!CF15,INDEX(Settings!$G$7:$G$11,MOD('_Engine'!CE15,10))&IF('_Engine'!CE15>10,"?",""),IF('_Engine'!CE15=0,INDEX(Settings!$G$7:$G$11,MOD('_Engine'!CF15,10))&IF('_Engine'!CF15>10,"?","")&" PM",IF('_Engine'!CF15=0,INDEX(Settings!$G$7:$G$11,MOD('_Engine'!CE15,10))&IF('_Engine'!CE15>10,"?","")&" AM",INDEX(Settings!$G$7:$G$11,MOD('_Engine'!CE15,10))&IF('_Engine'!CE15>10,"?","")&" AM"&CHAR(10)&INDEX(Settings!$G$7:$G$11,MOD('_Engine'!CF15,10))&IF('_Engine'!CF15>10,"?","")&" PM")))))))) -> · | S15: =IF(OR($A15="",S$11=""),"",IF(OR('_Engine'!$B$6>0,INDEX('_Engine'!$AM$11:$AM$60,'_Engine'!$AO15)<>"OK"),"!",IF(INDEX(Team!$H$11:$N$60,'_Engine'!$AO15,WEEKDAY(S$11,2))<>"Work","—",IF(COUNTIF(Settings!$F$18:$F$67,S$11)>0,"BH",IF('_Engine'!CG15+'_Engine'!CH15=0,"·",IF('_Engine'!CG15='_Engine'!CH15,INDEX(Settings!$G$7:$G$11,MOD('_Engine'!CG15,10))&IF('_Engine'!CG15>10,"?",""),IF('_Engine'!CG15=0,INDEX(Settings!$G$7:$G$11,MOD('_Engine'!CH15,10))&IF('_Engine'!CH15>10,"?","")&" PM",IF('_Engine'!CH15=0,INDEX(Settings!$G$7:$G$11,MOD('_Engine'!CG15,10))&IF('_Engine'!CG15>10,"?","")&" AM",INDEX(Settings!$G$7:$G$11,MOD('_Engine'!CG15,10))&IF('_Engine'!CG15>10,"?","")&" AM"&CHAR(10)&INDEX(Settings!$G$7:$G$11,MOD('_Engine'!CH15,10))&IF('_Engine'!CH15>10,"?","")&" PM")))))))) -> · | T15: =IF(OR($A15="",T$11=""),"",IF(OR('_Engine'!$B$6>0,INDEX('_Engine'!$AM$11:$AM$60,'_Engine'!$AO15)<>"OK"),"!",IF(INDEX(Team!$H$11:$N$60,'_Engine'!$AO15,WEEKDAY(T$11,2))<>"Work","—",IF(COUNTIF(Settings!$F$18:$F$67,T$11)>0,"BH",IF('_Engine'!CI15+'_Engine'!CJ15=0,"·",IF('_Engine'!CI15='_Engine'!CJ15,INDEX(Settings!$G$7:$G$11,MOD('_Engine'!CI15,10))&IF('_Engine'!CI15>10,"?",""),IF('_Engine'!CI15=0,INDEX(Settings!$G$7:$G$11,MOD('_Engine'!CJ15,10))&IF('_Engine'!CJ15>10,"?","")&" PM",IF('_Engine'!CJ15=0,INDEX(Settings!$G$7:$G$11,MOD('_Engine'!CI15,10))&IF('_Engine'!CI15>10,"?","")&" AM",INDEX(Settings!$G$7:$G$11,MOD('_Engine'!CI15,10))&IF('_Engine'!CI15>10,"?","")&" AM"&CHAR(10)&INDEX(Settings!$G$7:$G$11,MOD('_Engine'!CJ15,10))&IF('_Engine'!CJ15>10,"?","")&" PM")))))))) -> — | U15: =IF(OR($A15="",U$11=""),"",IF(OR('_Engine'!$B$6>0,INDEX('_Engine'!$AM$11:$AM$60,'_Engine'!$AO15)<>"OK"),"!",IF(INDEX(Team!$H$11:$N$60,'_Engine'!$AO15,WEEKDAY(U$11,2))<>"Work","—",IF(COUNTIF(Settings!$F$18:$F$67,U$11)>0,"BH",IF('_Engine'!CK15+'_Engine'!CL15=0,"·",IF('_Engine'!CK15='_Engine'!CL15,INDEX(Settings!$G$7:$G$11,MOD('_Engine'!CK15,10))&IF('_Engine'!CK15>10,"?",""),IF('_Engine'!CK15=0,INDEX(Settings!$G$7:$G$11,MOD('_Engine'!CL15,10))&IF('_Engine'!CL15>10,"?","")&" PM",IF('_Engine'!CL15=0,INDEX(Settings!$G$7:$G$11,MOD('_Engine'!CK15,10))&IF('_Engine'!CK15>10,"?","")&" AM",INDEX(Settings!$G$7:$G$11,MOD('_Engine'!CK15,10))&IF('_Engine'!CK15>10,"?","")&" AM"&CHAR(10)&INDEX(Settings!$G$7:$G$11,MOD('_Engine'!CL15,10))&IF('_Engine'!CL15>10,"?","")&" PM")))))))) -> — | V15: =IF(OR($A15="",V$11=""),"",IF(OR('_Engine'!$B$6>0,INDEX('_Engine'!$AM$11:$AM$60,'_Engine'!$AO15)<>"OK"),"!",IF(INDEX(Team!$H$11:$N$60,'_Engine'!$AO15,WEEKDAY(V$11,2))<>"Work","—",IF(COUNTIF(Settings!$F$18:$F$67,V$11)>0,"BH",IF('_Engine'!CM15+'_Engine'!CN15=0,"·",IF('_Engine'!CM15='_Engine'!CN15,INDEX(Settings!$G$7:$G$11,MOD('_Engine'!CM15,10))&IF('_Engine'!CM15>10,"?",""),IF('_Engine'!CM15=0,INDEX(Settings!$G$7:$G$11,MOD('_Engine'!CN15,10))&IF('_Engine'!CN15>10,"?","")&" PM",IF('_Engine'!CN15=0,INDEX(Settings!$G$7:$G$11,MOD('_Engine'!CM15,10))&IF('_Engine'!CM15>10,"?","")&" AM",INDEX(Settings!$G$7:$G$11,MOD('_Engine'!CM15,10))&IF('_Engine'!CM15>10,"?","")&" AM"&CHAR(10)&INDEX(Settings!$G$7:$G$11,MOD('_Engine'!CN15,10))&IF('_Engine'!CN15>10,"?","")&" PM")))))))) -> H | W15: =IF(OR($A15="",W$11=""),"",IF(OR('_Engine'!$B$6>0,INDEX('_Engine'!$AM$11:$AM$60,'_Engine'!$AO15)<>"OK"),"!",IF(INDEX(Team!$H$11:$N$60,'_Engine'!$AO15,WEEKDAY(W$11,2))<>"Work","—",IF(COUNTIF(Settings!$F$18:$F$67,W$11)>0,"BH",IF('_Engine'!CO15+'_Engine'!CP15=0,"·",IF('_Engine'!CO15='_Engine'!CP15,INDEX(Settings!$G$7:$G$11,MOD('_Engine'!CO15,10))&IF('_Engine'!CO15>10,"?",""),IF('_Engine'!CO15=0,INDEX(Settings!$G$7:$G$11,MOD('_Engine'!CP15,10))&IF('_Engine'!CP15>10,"?","")&" PM",IF('_Engine'!CP15=0,INDEX(Settings!$G$7:$G$11,MOD('_Engine'!CO15,10))&IF('_Engine'!CO15>10,"?","")&" AM",INDEX(Settings!$G$7:$G$11,MOD('_Engine'!CO15,10))&IF('_Engine'!CO15>10,"?","")&" AM"&CHAR(10)&INDEX(Settings!$G$7:$G$11,MOD('_Engine'!CP15,10))&IF('_Engine'!CP15>10,"?","")&" PM")))))))) -> H | X15: =IF(OR($A15="",X$11=""),"",IF(OR('_Engine'!$B$6>0,INDEX('_Engine'!$AM$11:$AM$60,'_Engine'!$AO15)<>"OK"),"!",IF(INDEX(Team!$H$11:$N$60,'_Engine'!$AO15,WEEKDAY(X$11,2))<>"Work","—",IF(COUNTIF(Settings!$F$18:$F$67,X$11)>0,"BH",IF('_Engine'!CQ15+'_Engine'!CR15=0,"·",IF('_Engine'!CQ15='_Engine'!CR15,INDEX(Settings!$G$7:$G$11,MOD('_Engine'!CQ15,10))&IF('_Engine'!CQ15>10,"?",""),IF('_Engine'!CQ15=0,INDEX(Settings!$G$7:$G$11,MOD('_Engine'!CR15,10))&IF('_Engine'!CR15>10,"?","")&" PM",IF('_Engine'!CR15=0,INDEX(Settings!$G$7:$G$11,MOD('_Engine'!CQ15,10))&IF('_Engine'!CQ15>10,"?","")&" AM",INDEX(Settings!$G$7:$G$11,MOD('_Engine'!CQ15,10))&IF('_Engine'!CQ15>10,"?","")&" AM"&CHAR(10)&INDEX(Settings!$G$7:$G$11,MOD('_Engine'!CR15,10))&IF('_Engine'!CR15>10,"?","")&" PM")))))))) -> H | Y15: =IF(OR($A15="",Y$11=""),"",IF(OR('_Engine'!$B$6>0,INDEX('_Engine'!$AM$11:$AM$60,'_Engine'!$AO15)<>"OK"),"!",IF(INDEX(Team!$H$11:$N$60,'_Engine'!$AO15,WEEKDAY(Y$11,2))<>"Work","—",IF(COUNTIF(Settings!$F$18:$F$67,Y$11)>0,"BH",IF('_Engine'!CS15+'_Engine'!CT15=0,"·",IF('_Engine'!CS15='_Engine'!CT15,INDEX(Settings!$G$7:$G$11,MOD('_Engine'!CS15,10))&IF('_Engine'!CS15>10,"?",""),IF('_Engine'!CS15=0,INDEX(Settings!$G$7:$G$11,MOD('_Engine'!CT15,10))&IF('_Engine'!CT15>10,"?","")&" PM",IF('_Engine'!CT15=0,INDEX(Settings!$G$7:$G$11,MOD('_Engine'!CS15,10))&IF('_Engine'!CS15>10,"?","")&" AM",INDEX(Settings!$G$7:$G$11,MOD('_Engine'!CS15,10))&IF('_Engine'!CS15>10,"?","")&" AM"&CHAR(10)&INDEX(Settings!$G$7:$G$11,MOD('_Engine'!CT15,10))&IF('_Engine'!CT15>10,"?","")&" PM")))))))) -> · | Z15: =IF(OR($A15="",Z$11=""),"",IF(OR('_Engine'!$B$6>0,INDEX('_Engine'!$AM$11:$AM$60,'_Engine'!$AO15)<>"OK"),"!",IF(INDEX(Team!$H$11:$N$60,'_Engine'!$AO15,WEEKDAY(Z$11,2))<>"Work","—",IF(COUNTIF(Settings!$F$18:$F$67,Z$11)>0,"BH",IF('_Engine'!CU15+'_Engine'!CV15=0,"·",IF('_Engine'!CU15='_Engine'!CV15,INDEX(Settings!$G$7:$G$11,MOD('_Engine'!CU15,10))&IF('_Engine'!CU15>10,"?",""),IF('_Engine'!CU15=0,INDEX(Settings!$G$7:$G$11,MOD('_Engine'!CV15,10))&IF('_Engine'!CV15>10,"?","")&" PM",IF('_Engine'!CV15=0,INDEX(Settings!$G$7:$G$11,MOD('_Engine'!CU15,10))&IF('_Engine'!CU15>10,"?","")&" AM",INDEX(Settings!$G$7:$G$11,MOD('_Engine'!CU15,10))&IF('_Engine'!CU15>10,"?","")&" AM"&CHAR(10)&INDEX(Settings!$G$7:$G$11,MOD('_Engine'!CV15,10))&IF('_Engine'!CV15>10,"?","")&" PM")))))))) -> BH | AA15: =IF(OR($A15="",AA$11=""),"",IF(OR('_Engine'!$B$6>0,INDEX('_Engine'!$AM$11:$AM$60,'_Engine'!$AO15)<>"OK"),"!",IF(INDEX(Team!$H$11:$N$60,'_Engine'!$AO15,WEEKDAY(AA$11,2))<>"Work","—",IF(COUNTIF(Settings!$F$18:$F$67,AA$11)>0,"BH",IF('_Engine'!CW15+'_Engine'!CX15=0,"·",IF('_Engine'!CW15='_Engine'!CX15,INDEX(Settings!$G$7:$G$11,MOD('_Engine'!CW15,10))&IF('_Engine'!CW15>10,"?",""),IF('_Engine'!CW15=0,INDEX(Settings!$G$7:$G$11,MOD('_Engine'!CX15,10))&IF('_Engine'!CX15>10,"?","")&" PM",IF('_Engine'!CX15=0,INDEX(Settings!$G$7:$G$11,MOD('_Engine'!CW15,10))&IF('_Engine'!CW15>10,"?","")&" AM",INDEX(Settings!$G$7:$G$11,MOD('_Engine'!CW15,10))&IF('_Engine'!CW15>10,"?","")&" AM"&CHAR(10)&INDEX(Settings!$G$7:$G$11,MOD('_Engine'!CX15,10))&IF('_Engine'!CX15>10,"?","")&" PM")))))))) -> — | AB15: =IF(OR($A15="",AB$11=""),"",IF(OR('_Engine'!$B$6>0,INDEX('_Engine'!$AM$11:$AM$60,'_Engine'!$AO15)<>"OK"),"!",IF(INDEX(Team!$H$11:$N$60,'_Engine'!$AO15,WEEKDAY(AB$11,2))<>"Work","—",IF(COUNTIF(Settings!$F$18:$F$67,AB$11)>0,"BH",IF('_Engine'!CY15+'_Engine'!CZ15=0,"·",IF('_Engine'!CY15='_Engine'!CZ15,INDEX(Settings!$G$7:$G$11,MOD('_Engine'!CY15,10))&IF('_Engine'!CY15>10,"?",""),IF('_Engine'!CY15=0,INDEX(Settings!$G$7:$G$11,MOD('_Engine'!CZ15,10))&IF('_Engine'!CZ15>10,"?","")&" PM",IF('_Engine'!CZ15=0,INDEX(Settings!$G$7:$G$11,MOD('_Engine'!CY15,10))&IF('_Engine'!CY15>10,"?","")&" AM",INDEX(Settings!$G$7:$G$11,MOD('_Engine'!CY15,10))&IF('_Engine'!CY15>10,"?","")&" AM"&CHAR(10)&INDEX(Settings!$G$7:$G$11,MOD('_Engine'!CZ15,10))&IF('_Engine'!CZ15>10,"?","")&" PM")))))))) -> — | AC15: =IF(OR($A15="",AC$11=""),"",IF(OR('_Engine'!$B$6>0,INDEX('_Engine'!$AM$11:$AM$60,'_Engine'!$AO15)<>"OK"),"!",IF(INDEX(Team!$H$11:$N$60,'_Engine'!$AO15,WEEKDAY(AC$11,2))<>"Work","—",IF(COUNTIF(Settings!$F$18:$F$67,AC$11)>0,"BH",IF('_Engine'!DA15+'_Engine'!DB15=0,"·",IF('_Engine'!DA15='_Engine'!DB15,INDEX(Settings!$G$7:$G$11,MOD('_Engine'!DA15,10))&IF('_Engine'!DA15>10,"?",""),IF('_Engine'!DA15=0,INDEX(Settings!$G$7:$G$11,MOD('_Engine'!DB15,10))&IF('_Engine'!DB15>10,"?","")&" PM",IF('_Engine'!DB15=0,INDEX(Settings!$G$7:$G$11,MOD('_Engine'!DA15,10))&IF('_Engine'!DA15>10,"?","")&" AM",INDEX(Settings!$G$7:$G$11,MOD('_Engine'!DA15,10))&IF('_Engine'!DA15>10,"?","")&" AM"&CHAR(10)&INDEX(Settings!$G$7:$G$11,MOD('_Engine'!DB15,10))&IF('_Engine'!DB15>10,"?","")&" PM")))))))) -> · | AD15: =IF(OR($A15="",AD$11=""),"",IF(OR('_Engine'!$B$6>0,INDEX('_Engine'!$AM$11:$AM$60,'_Engine'!$AO15)<>"OK"),"!",IF(INDEX(Team!$H$11:$N$60,'_Engine'!$AO15,WEEKDAY(AD$11,2))<>"Work","—",IF(COUNTIF(Settings!$F$18:$F$67,AD$11)>0,"BH",IF('_Engine'!DC15+'_Engine'!DD15=0,"·",IF('_Engine'!DC15='_Engine'!DD15,INDEX(Settings!$G$7:$G$11,MOD('_Engine'!DC15,10))&IF('_Engine'!DC15>10,"?",""),IF('_Engine'!DC15=0,INDEX(Settings!$G$7:$G$11,MOD('_Engine'!DD15,10))&IF('_Engine'!DD15>10,"?","")&" PM",IF('_Engine'!DD15=0,INDEX(Settings!$G$7:$G$11,MOD('_Engine'!DC15,10))&IF('_Engine'!DC15>10,"?","")&" AM",INDEX(Settings!$G$7:$G$11,MOD('_Engine'!DC15,10))&IF('_Engine'!DC15>10,"?","")&" AM"&CHAR(10)&INDEX(Settings!$G$7:$G$11,MOD('_Engine'!DD15,10))&IF('_Engine'!DD15>10,"?","")&" PM")))))))) -> · | AE15: =IF(OR($A15="",AE$11=""),"",IF(OR('_Engine'!$B$6>0,INDEX('_Engine'!$AM$11:$AM$60,'_Engine'!$AO15)<>"OK"),"!",IF(INDEX(Team!$H$11:$N$60,'_Engine'!$AO15,WEEKDAY(AE$11,2))<>"Work","—",IF(COUNTIF(Settings!$F$18:$F$67,AE$11)>0,"BH",IF('_Engine'!DE15+'_Engine'!DF15=0,"·",IF('_Engine'!DE15='_Engine'!DF15,INDEX(Settings!$G$7:$G$11,MOD('_Engine'!DE15,10))&IF('_Engine'!DE15>10,"?",""),IF('_Engine'!DE15=0,INDEX(Settings!$G$7:$G$11,MOD('_Engine'!DF15,10))&IF('_Engine'!DF15>10,"?","")&" PM",IF('_Engine'!DF15=0,INDEX(Settings!$G$7:$G$11,MOD('_Engine'!DE15,10))&IF('_Engine'!DE15>10,"?","")&" AM",INDEX(Settings!$G$7:$G$11,MOD('_Engine'!DE15,10))&IF('_Engine'!DE15>10,"?","")&" AM"&CHAR(10)&INDEX(Settings!$G$7:$G$11,MOD('_Engine'!DF15,10))&IF('_Engine'!DF15>10,"?","")&" PM")))))))) -> · | AF15: =IF(OR($A15="",AF$11=""),"",IF(OR('_Engine'!$B$6>0,INDEX('_Engine'!$AM$11:$AM$60,'_Engine'!$AO15)<>"OK"),"!",IF(INDEX(Team!$H$11:$N$60,'_Engine'!$AO15,WEEKDAY(AF$11,2))<>"Work","—",IF(COUNTIF(Settings!$F$18:$F$67,AF$11)>0,"BH",IF('_Engine'!DG15+'_Engine'!DH15=0,"·",IF('_Engine'!DG15='_Engine'!DH15,INDEX(Settings!$G$7:$G$11,MOD('_Engine'!DG15,10))&IF('_Engine'!DG15>10,"?",""),IF('_Engine'!DG15=0,INDEX(Settings!$G$7:$G$11,MOD('_Engine'!DH15,10))&IF('_Engine'!DH15>10,"?","")&" PM",IF('_Engine'!DH15=0,INDEX(Settings!$G$7:$G$11,MOD('_Engine'!DG15,10))&IF('_Engine'!DG15>10,"?","")&" AM",INDEX(Settings!$G$7:$G$11,MOD('_Engine'!DG15,10))&IF('_Engine'!DG15>10,"?","")&" AM"&CHAR(10)&INDEX(Settings!$G$7:$G$11,MOD('_Engine'!DH15,10))&IF('_Engine'!DH15>10,"?","")&" PM")))))))) -> · | AG15: =IF(OR($A15="",AG$11=""),"",IF(OR('_Engine'!$B$6>0,INDEX('_Engine'!$AM$11:$AM$60,'_Engine'!$AO15)<>"OK"),"!",IF(INDEX(Team!$H$11:$N$60,'_Engine'!$AO15,WEEKDAY(AG$11,2))<>"Work","—",IF(COUNTIF(Settings!$F$18:$F$67,AG$11)>0,"BH",IF('_Engine'!DI15+'_Engine'!DJ15=0,"·",IF('_Engine'!DI15='_Engine'!DJ15,INDEX(Settings!$G$7:$G$11,MOD('_Engine'!DI15,10))&IF('_Engine'!DI15>10,"?",""),IF('_Engine'!DI15=0,INDEX(Settings!$G$7:$G$11,MOD('_Engine'!DJ15,10))&IF('_Engine'!DJ15>10,"?","")&" PM",IF('_Engine'!DJ15=0,INDEX(Settings!$G$7:$G$11,MOD('_Engine'!DI15,10))&IF('_Engine'!DI15>10,"?","")&" AM",INDEX(Settings!$G$7:$G$11,MOD('_Engine'!DI15,10))&IF('_Engine'!DI15>10,"?","")&" AM"&CHAR(10)&INDEX(Settings!$G$7:$G$11,MOD('_Engine'!DJ15,10))&IF('_Engine'!DJ15>10,"?","")&" PM")))))))) -> · | AH15: =IF(OR($A15="",AH$11=""),"",IF(OR('_Engine'!$B$6>0,INDEX('_Engine'!$AM$11:$AM$60,'_Engine'!$AO15)<>"OK"),"!",IF(INDEX(Team!$H$11:$N$60,'_Engine'!$AO15,WEEKDAY(AH$11,2))<>"Work","—",IF(COUNTIF(Settings!$F$18:$F$67,AH$11)>0,"BH",IF('_Engine'!DK15+'_Engine'!DL15=0,"·",IF('_Engine'!DK15='_Engine'!DL15,INDEX(Settings!$G$7:$G$11,MOD('_Engine'!DK15,10))&IF('_Engine'!DK15>10,"?",""),IF('_Engine'!DK15=0,INDEX(Settings!$G$7:$G$11,MOD('_Engine'!DL15,10))&IF('_Engine'!DL15>10,"?","")&" PM",IF('_Engine'!DL15=0,INDEX(Settings!$G$7:$G$11,MOD('_Engine'!DK15,10))&IF('_Engine'!DK15>10,"?","")&" AM",INDEX(Settings!$G$7:$G$11,MOD('_Engine'!DK15,10))&IF('_Engine'!DK15>10,"?","")&" AM"&CHAR(10)&INDEX(Settings!$G$7:$G$11,MOD('_Engine'!DL15,10))&IF('_Engine'!DL15>10,"?","")&" PM")))))))) -> —
A16: =IF('_Engine'!AO16=0,"",IF(INDEX(Team!$B$11:$B$60,'_Engine'!AO16)="","[Unnamed]",INDEX(Team!$B$11:$B$60,'_Engine'!AO16))) -> Casey Taylor | B16: =IF('_Engine'!AO16=0,"",INDEX('_Engine'!$AN$11:$AN$60,'_Engine'!AO16)) -> 25 | C16: =IF('_Engine'!AO16=0,"",INDEX(Team!$C$11:$C$60,'_Engine'!AO16)) -> Product | D16: =IF(OR($A16="",D$11=""),"",IF(OR('_Engine'!$B$6>0,INDEX('_Engine'!$AM$11:$AM$60,'_Engine'!$AO16)<>"OK"),"!",IF(INDEX(Team!$H$11:$N$60,'_Engine'!$AO16,WEEKDAY(D$11,2))<>"Work","—",IF(COUNTIF(Settings!$F$18:$F$67,D$11)>0,"BH",IF('_Engine'!BC16+'_Engine'!BD16=0,"·",IF('_Engine'!BC16='_Engine'!BD16,INDEX(Settings!$G$7:$G$11,MOD('_Engine'!BC16,10))&IF('_Engine'!BC16>10,"?",""),IF('_Engine'!BC16=0,INDEX(Settings!$G$7:$G$11,MOD('_Engine'!BD16,10))&IF('_Engine'!BD16>10,"?","")&" PM",IF('_Engine'!BD16=0,INDEX(Settings!$G$7:$G$11,MOD('_Engine'!BC16,10))&IF('_Engine'!BC16>10,"?","")&" AM",INDEX(Settings!$G$7:$G$11,MOD('_Engine'!BC16,10))&IF('_Engine'!BC16>10,"?","")&" AM"&CHAR(10)&INDEX(Settings!$G$7:$G$11,MOD('_Engine'!BD16,10))&IF('_Engine'!BD16>10,"?","")&" PM")))))))) -> · | E16: =IF(OR($A16="",E$11=""),"",IF(OR('_Engine'!$B$6>0,INDEX('_Engine'!$AM$11:$AM$60,'_Engine'!$AO16)<>"OK"),"!",IF(INDEX(Team!$H$11:$N$60,'_Engine'!$AO16,WEEKDAY(E$11,2))<>"Work","—",IF(COUNTIF(Settings!$F$18:$F$67,E$11)>0,"BH",IF('_Engine'!BE16+'_Engine'!BF16=0,"·",IF('_Engine'!BE16='_Engine'!BF16,INDEX(Settings!$G$7:$G$11,MOD('_Engine'!BE16,10))&IF('_Engine'!BE16>10,"?",""),IF('_Engine'!BE16=0,INDEX(Settings!$G$7:$G$11,MOD('_Engine'!BF16,10))&IF('_Engine'!BF16>10,"?","")&" PM",IF('_Engine'!BF16=0,INDEX(Settings!$G$7:$G$11,MOD('_Engine'!BE16,10))&IF('_Engine'!BE16>10,"?","")&" AM",INDEX(Settings!$G$7:$G$11,MOD('_Engine'!BE16,10))&IF('_Engine'!BE16>10,"?","")&" AM"&CHAR(10)&INDEX(Settings!$G$7:$G$11,MOD('_Engine'!BF16,10))&IF('_Engine'!BF16>10,"?","")&" PM")))))))) -> · | F16: =IF(OR($A16="",F$11=""),"",IF(OR('_Engine'!$B$6>0,INDEX('_Engine'!$AM$11:$AM$60,'_Engine'!$AO16)<>"OK"),"!",IF(INDEX(Team!$H$11:$N$60,'_Engine'!$AO16,WEEKDAY(F$11,2))<>"Work","—",IF(COUNTIF(Settings!$F$18:$F$67,F$11)>0,"BH",IF('_Engine'!BG16+'_Engine'!BH16=0,"·",IF('_Engine'!BG16='_Engine'!BH16,INDEX(Settings!$G$7:$G$11,MOD('_Engine'!BG16,10))&IF('_Engine'!BG16>10,"?",""),IF('_Engine'!BG16=0,INDEX(Settings!$G$7:$G$11,MOD('_Engine'!BH16,10))&IF('_Engine'!BH16>10,"?","")&" PM",IF('_Engine'!BH16=0,INDEX(Settings!$G$7:$G$11,MOD('_Engine'!BG16,10))&IF('_Engine'!BG16>10,"?","")&" AM",INDEX(Settings!$G$7:$G$11,MOD('_Engine'!BG16,10))&IF('_Engine'!BG16>10,"?","")&" AM"&CHAR(10)&INDEX(Settings!$G$7:$G$11,MOD('_Engine'!BH16,10))&IF('_Engine'!BH16>10,"?","")&" PM")))))))) -> — | G16: =IF(OR($A16="",G$11=""),"",IF(OR('_Engine'!$B$6>0,INDEX('_Engine'!$AM$11:$AM$60,'_Engine'!$AO16)<>"OK"),"!",IF(INDEX(Team!$H$11:$N$60,'_Engine'!$AO16,WEEKDAY(G$11,2))<>"Work","—",IF(COUNTIF(Settings!$F$18:$F$67,G$11)>0,"BH",IF('_Engine'!BI16+'_Engine'!BJ16=0,"·",IF('_Engine'!BI16='_Engine'!BJ16,INDEX(Settings!$G$7:$G$11,MOD('_Engine'!BI16,10))&IF('_Engine'!BI16>10,"?",""),IF('_Engine'!BI16=0,INDEX(Settings!$G$7:$G$11,MOD('_Engine'!BJ16,10))&IF('_Engine'!BJ16>10,"?","")&" PM",IF('_Engine'!BJ16=0,INDEX(Settings!$G$7:$G$11,MOD('_Engine'!BI16,10))&IF('_Engine'!BI16>10,"?","")&" AM",INDEX(Settings!$G$7:$G$11,MOD('_Engine'!BI16,10))&IF('_Engine'!BI16>10,"?","")&" AM"&CHAR(10)&INDEX(Settings!$G$7:$G$11,MOD('_Engine'!BJ16,10))&IF('_Engine'!BJ16>10,"?","")&" PM")))))))) -> — | H16: =IF(OR($A16="",H$11=""),"",IF(OR('_Engine'!$B$6>0,INDEX('_Engine'!$AM$11:$AM$60,'_Engine'!$AO16)<>"OK"),"!",IF(INDEX(Team!$H$11:$N$60,'_Engine'!$AO16,WEEKDAY(H$11,2))<>"Work","—",IF(COUNTIF(Settings!$F$18:$F$67,H$11)>0,"BH",IF('_Engine'!BK16+'_Engine'!BL16=0,"·",IF('_Engine'!BK16='_Engine'!BL16,INDEX(Settings!$G$7:$G$11,MOD('_Engine'!BK16,10))&IF('_Engine'!BK16>10,"?",""),IF('_Engine'!BK16=0,INDEX(Settings!$G$7:$G$11,MOD('_Engine'!BL16,10))&IF('_Engine'!BL16>10,"?","")&" PM",IF('_Engine'!BL16=0,INDEX(Settings!$G$7:$G$11,MOD('_Engine'!BK16,10))&IF('_Engine'!BK16>10,"?","")&" AM",INDEX(Settings!$G$7:$G$11,MOD('_Engine'!BK16,10))&IF('_Engine'!BK16>10,"?","")&" AM"&CHAR(10)&INDEX(Settings!$G$7:$G$11,MOD('_Engine'!BL16,10))&IF('_Engine'!BL16>10,"?","")&" PM")))))))) -> · | I16: =IF(OR($A16="",I$11=""),"",IF(OR('_Engine'!$B$6>0,INDEX('_Engine'!$AM$11:$AM$60,'_Engine'!$AO16)<>"OK"),"!",IF(INDEX(Team!$H$11:$N$60,'_Engine'!$AO16,WEEKDAY(I$11,2))<>"Work","—",IF(COUNTIF(Settings!$F$18:$F$67,I$11)>0,"BH",IF('_Engine'!BM16+'_Engine'!BN16=0,"·",IF('_Engine'!BM16='_Engine'!BN16,INDEX(Settings!$G$7:$G$11,MOD('_Engine'!BM16,10))&IF('_Engine'!BM16>10,"?",""),IF('_Engine'!BM16=0,INDEX(Settings!$G$7:$G$11,MOD('_Engine'!BN16,10))&IF('_Engine'!BN16>10,"?","")&" PM",IF('_Engine'!BN16=0,INDEX(Settings!$G$7:$G$11,MOD('_Engine'!BM16,10))&IF('_Engine'!BM16>10,"?","")&" AM",INDEX(Settings!$G$7:$G$11,MOD('_Engine'!BM16,10))&IF('_Engine'!BM16>10,"?","")&" AM"&CHAR(10)&INDEX(Settings!$G$7:$G$11,MOD('_Engine'!BN16,10))&IF('_Engine'!BN16>10,"?","")&" PM")))))))) -> · | J16: =IF(OR($A16="",J$11=""),"",IF(OR('_Engine'!$B$6>0,INDEX('_Engine'!$AM$11:$AM$60,'_Engine'!$AO16)<>"OK"),"!",IF(INDEX(Team!$H$11:$N$60,'_Engine'!$AO16,WEEKDAY(J$11,2))<>"Work","—",IF(COUNTIF(Settings!$F$18:$F$67,J$11)>0,"BH",IF('_Engine'!BO16+'_Engine'!BP16=0,"·",IF('_Engine'!BO16='_Engine'!BP16,INDEX(Settings!$G$7:$G$11,MOD('_Engine'!BO16,10))&IF('_Engine'!BO16>10,"?",""),IF('_Engine'!BO16=0,INDEX(Settings!$G$7:$G$11,MOD('_Engine'!BP16,10))&IF('_Engine'!BP16>10,"?","")&" PM",IF('_Engine'!BP16=0,INDEX(Settings!$G$7:$G$11,MOD('_Engine'!BO16,10))&IF('_Engine'!BO16>10,"?","")&" AM",INDEX(Settings!$G$7:$G$11,MOD('_Engine'!BO16,10))&IF('_Engine'!BO16>10,"?","")&" AM"&CHAR(10)&INDEX(Settings!$G$7:$G$11,MOD('_Engine'!BP16,10))&IF('_Engine'!BP16>10,"?","")&" PM")))))))) -> S | K16: =IF(OR($A16="",K$11=""),"",IF(OR('_Engine'!$B$6>0,INDEX('_Engine'!$AM$11:$AM$60,'_Engine'!$AO16)<>"OK"),"!",IF(INDEX(Team!$H$11:$N$60,'_Engine'!$AO16,WEEKDAY(K$11,2))<>"Work","—",IF(COUNTIF(Settings!$F$18:$F$67,K$11)>0,"BH",IF('_Engine'!BQ16+'_Engine'!BR16=0,"·",IF('_Engine'!BQ16='_Engine'!BR16,INDEX(Settings!$G$7:$G$11,MOD('_Engine'!BQ16,10))&IF('_Engine'!BQ16>10,"?",""),IF('_Engine'!BQ16=0,INDEX(Settings!$G$7:$G$11,MOD('_Engine'!BR16,10))&IF('_Engine'!BR16>10,"?","")&" PM",IF('_Engine'!BR16=0,INDEX(Settings!$G$7:$G$11,MOD('_Engine'!BQ16,10))&IF('_Engine'!BQ16>10,"?","")&" AM",INDEX(Settings!$G$7:$G$11,MOD('_Engine'!BQ16,10))&IF('_Engine'!BQ16>10,"?","")&" AM"&CHAR(10)&INDEX(Settings!$G$7:$G$11,MOD('_Engine'!BR16,10))&IF('_Engine'!BR16>10,"?","")&" PM")))))))) -> · | L16: =IF(OR($A16="",L$11=""),"",IF(OR('_Engine'!$B$6>0,INDEX('_Engine'!$AM$11:$AM$60,'_Engine'!$AO16)<>"OK"),"!",IF(INDEX(Team!$H$11:$N$60,'_Engine'!$AO16,WEEKDAY(L$11,2))<>"Work","—",IF(COUNTIF(Settings!$F$18:$F$67,L$11)>0,"BH",IF('_Engine'!BS16+'_Engine'!BT16=0,"·",IF('_Engine'!BS16='_Engine'!BT16,INDEX(Settings!$G$7:$G$11,MOD('_Engine'!BS16,10))&IF('_Engine'!BS16>10,"?",""),IF('_Engine'!BS16=0,INDEX(Settings!$G$7:$G$11,MOD('_Engine'!BT16,10))&IF('_Engine'!BT16>10,"?","")&" PM",IF('_Engine'!BT16=0,INDEX(Settings!$G$7:$G$11,MOD('_Engine'!BS16,10))&IF('_Engine'!BS16>10,"?","")&" AM",INDEX(Settings!$G$7:$G$11,MOD('_Engine'!BS16,10))&IF('_Engine'!BS16>10,"?","")&" AM"&CHAR(10)&INDEX(Settings!$G$7:$G$11,MOD('_Engine'!BT16,10))&IF('_Engine'!BT16>10,"?","")&" PM")))))))) -> · | M16: =IF(OR($A16="",M$11=""),"",IF(OR('_Engine'!$B$6>0,INDEX('_Engine'!$AM$11:$AM$60,'_Engine'!$AO16)<>"OK"),"!",IF(INDEX(Team!$H$11:$N$60,'_Engine'!$AO16,WEEKDAY(M$11,2))<>"Work","—",IF(COUNTIF(Settings!$F$18:$F$67,M$11)>0,"BH",IF('_Engine'!BU16+'_Engine'!BV16=0,"·",IF('_Engine'!BU16='_Engine'!BV16,INDEX(Settings!$G$7:$G$11,MOD('_Engine'!BU16,10))&IF('_Engine'!BU16>10,"?",""),IF('_Engine'!BU16=0,INDEX(Settings!$G$7:$G$11,MOD('_Engine'!BV16,10))&IF('_Engine'!BV16>10,"?","")&" PM",IF('_Engine'!BV16=0,INDEX(Settings!$G$7:$G$11,MOD('_Engine'!BU16,10))&IF('_Engine'!BU16>10,"?","")&" AM",INDEX(Settings!$G$7:$G$11,MOD('_Engine'!BU16,10))&IF('_Engine'!BU16>10,"?","")&" AM"&CHAR(10)&INDEX(Settings!$G$7:$G$11,MOD('_Engine'!BV16,10))&IF('_Engine'!BV16>10,"?","")&" PM")))))))) -> — | N16: =IF(OR($A16="",N$11=""),"",IF(OR('_Engine'!$B$6>0,INDEX('_Engine'!$AM$11:$AM$60,'_Engine'!$AO16)<>"OK"),"!",IF(INDEX(Team!$H$11:$N$60,'_Engine'!$AO16,WEEKDAY(N$11,2))<>"Work","—",IF(COUNTIF(Settings!$F$18:$F$67,N$11)>0,"BH",IF('_Engine'!BW16+'_Engine'!BX16=0,"·",IF('_Engine'!BW16='_Engine'!BX16,INDEX(Settings!$G$7:$G$11,MOD('_Engine'!BW16,10))&IF('_Engine'!BW16>10,"?",""),IF('_Engine'!BW16=0,INDEX(Settings!$G$7:$G$11,MOD('_Engine'!BX16,10))&IF('_Engine'!BX16>10,"?","")&" PM",IF('_Engine'!BX16=0,INDEX(Settings!$G$7:$G$11,MOD('_Engine'!BW16,10))&IF('_Engine'!BW16>10,"?","")&" AM",INDEX(Settings!$G$7:$G$11,MOD('_Engine'!BW16,10))&IF('_Engine'!BW16>10,"?","")&" AM"&CHAR(10)&INDEX(Settings!$G$7:$G$11,MOD('_Engine'!BX16,10))&IF('_Engine'!BX16>10,"?","")&" PM")))))))) -> — | O16: =IF(OR($A16="",O$11=""),"",IF(OR('_Engine'!$B$6>0,INDEX('_Engine'!$AM$11:$AM$60,'_Engine'!$AO16)<>"OK"),"!",IF(INDEX(Team!$H$11:$N$60,'_Engine'!$AO16,WEEKDAY(O$11,2))<>"Work","—",IF(COUNTIF(Settings!$F$18:$F$67,O$11)>0,"BH",IF('_Engine'!BY16+'_Engine'!BZ16=0,"·",IF('_Engine'!BY16='_Engine'!BZ16,INDEX(Settings!$G$7:$G$11,MOD('_Engine'!BY16,10))&IF('_Engine'!BY16>10,"?",""),IF('_Engine'!BY16=0,INDEX(Settings!$G$7:$G$11,MOD('_Engine'!BZ16,10))&IF('_Engine'!BZ16>10,"?","")&" PM",IF('_Engine'!BZ16=0,INDEX(Settings!$G$7:$G$11,MOD('_Engine'!BY16,10))&IF('_Engine'!BY16>10,"?","")&" AM",INDEX(Settings!$G$7:$G$11,MOD('_Engine'!BY16,10))&IF('_Engine'!BY16>10,"?","")&" AM"&CHAR(10)&INDEX(Settings!$G$7:$G$11,MOD('_Engine'!BZ16,10))&IF('_Engine'!BZ16>10,"?","")&" PM")))))))) -> · | P16: =IF(OR($A16="",P$11=""),"",IF(OR('_Engine'!$B$6>0,INDEX('_Engine'!$AM$11:$AM$60,'_Engine'!$AO16)<>"OK"),"!",IF(INDEX(Team!$H$11:$N$60,'_Engine'!$AO16,WEEKDAY(P$11,2))<>"Work","—",IF(COUNTIF(Settings!$F$18:$F$67,P$11)>0,"BH",IF('_Engine'!CA16+'_Engine'!CB16=0,"·",IF('_Engine'!CA16='_Engine'!CB16,INDEX(Settings!$G$7:$G$11,MOD('_Engine'!CA16,10))&IF('_Engine'!CA16>10,"?",""),IF('_Engine'!CA16=0,INDEX(Settings!$G$7:$G$11,MOD('_Engine'!CB16,10))&IF('_Engine'!CB16>10,"?","")&" PM",IF('_Engine'!CB16=0,INDEX(Settings!$G$7:$G$11,MOD('_Engine'!CA16,10))&IF('_Engine'!CA16>10,"?","")&" AM",INDEX(Settings!$G$7:$G$11,MOD('_Engine'!CA16,10))&IF('_Engine'!CA16>10,"?","")&" AM"&CHAR(10)&INDEX(Settings!$G$7:$G$11,MOD('_Engine'!CB16,10))&IF('_Engine'!CB16>10,"?","")&" PM")))))))) -> · | Q16: =IF(OR($A16="",Q$11=""),"",IF(OR('_Engine'!$B$6>0,INDEX('_Engine'!$AM$11:$AM$60,'_Engine'!$AO16)<>"OK"),"!",IF(INDEX(Team!$H$11:$N$60,'_Engine'!$AO16,WEEKDAY(Q$11,2))<>"Work","—",IF(COUNTIF(Settings!$F$18:$F$67,Q$11)>0,"BH",IF('_Engine'!CC16+'_Engine'!CD16=0,"·",IF('_Engine'!CC16='_Engine'!CD16,INDEX(Settings!$G$7:$G$11,MOD('_Engine'!CC16,10))&IF('_Engine'!CC16>10,"?",""),IF('_Engine'!CC16=0,INDEX(Settings!$G$7:$G$11,MOD('_Engine'!CD16,10))&IF('_Engine'!CD16>10,"?","")&" PM",IF('_Engine'!CD16=0,INDEX(Settings!$G$7:$G$11,MOD('_Engine'!CC16,10))&IF('_Engine'!CC16>10,"?","")&" AM",INDEX(Settings!$G$7:$G$11,MOD('_Engine'!CC16,10))&IF('_Engine'!CC16>10,"?","")&" AM"&CHAR(10)&INDEX(Settings!$G$7:$G$11,MOD('_Engine'!CD16,10))&IF('_Engine'!CD16>10,"?","")&" PM")))))))) -> · | R16: =IF(OR($A16="",R$11=""),"",IF(OR('_Engine'!$B$6>0,INDEX('_Engine'!$AM$11:$AM$60,'_Engine'!$AO16)<>"OK"),"!",IF(INDEX(Team!$H$11:$N$60,'_Engine'!$AO16,WEEKDAY(R$11,2))<>"Work","—",IF(COUNTIF(Settings!$F$18:$F$67,R$11)>0,"BH",IF('_Engine'!CE16+'_Engine'!CF16=0,"·",IF('_Engine'!CE16='_Engine'!CF16,INDEX(Settings!$G$7:$G$11,MOD('_Engine'!CE16,10))&IF('_Engine'!CE16>10,"?",""),IF('_Engine'!CE16=0,INDEX(Settings!$G$7:$G$11,MOD('_Engine'!CF16,10))&IF('_Engine'!CF16>10,"?","")&" PM",IF('_Engine'!CF16=0,INDEX(Settings!$G$7:$G$11,MOD('_Engine'!CE16,10))&IF('_Engine'!CE16>10,"?","")&" AM",INDEX(Settings!$G$7:$G$11,MOD('_Engine'!CE16,10))&IF('_Engine'!CE16>10,"?","")&" AM"&CHAR(10)&INDEX(Settings!$G$7:$G$11,MOD('_Engine'!CF16,10))&IF('_Engine'!CF16>10,"?","")&" PM")))))))) -> · | S16: =IF(OR($A16="",S$11=""),"",IF(OR('_Engine'!$B$6>0,INDEX('_Engine'!$AM$11:$AM$60,'_Engine'!$AO16)<>"OK"),"!",IF(INDEX(Team!$H$11:$N$60,'_Engine'!$AO16,WEEKDAY(S$11,2))<>"Work","—",IF(COUNTIF(Settings!$F$18:$F$67,S$11)>0,"BH",IF('_Engine'!CG16+'_Engine'!CH16=0,"·",IF('_Engine'!CG16='_Engine'!CH16,INDEX(Settings!$G$7:$G$11,MOD('_Engine'!CG16,10))&IF('_Engine'!CG16>10,"?",""),IF('_Engine'!CG16=0,INDEX(Settings!$G$7:$G$11,MOD('_Engine'!CH16,10))&IF('_Engine'!CH16>10,"?","")&" PM",IF('_Engine'!CH16=0,INDEX(Settings!$G$7:$G$11,MOD('_Engine'!CG16,10))&IF('_Engine'!CG16>10,"?","")&" AM",INDEX(Settings!$G$7:$G$11,MOD('_Engine'!CG16,10))&IF('_Engine'!CG16>10,"?","")&" AM"&CHAR(10)&INDEX(Settings!$G$7:$G$11,MOD('_Engine'!CH16,10))&IF('_Engine'!CH16>10,"?","")&" PM")))))))) -> · | T16: =IF(OR($A16="",T$11=""),"",IF(OR('_Engine'!$B$6>0,INDEX('_Engine'!$AM$11:$AM$60,'_Engine'!$AO16)<>"OK"),"!",IF(INDEX(Team!$H$11:$N$60,'_Engine'!$AO16,WEEKDAY(T$11,2))<>"Work","—",IF(COUNTIF(Settings!$F$18:$F$67,T$11)>0,"BH",IF('_Engine'!CI16+'_Engine'!CJ16=0,"·",IF('_Engine'!CI16='_Engine'!CJ16,INDEX(Settings!$G$7:$G$11,MOD('_Engine'!CI16,10))&IF('_Engine'!CI16>10,"?",""),IF('_Engine'!CI16=0,INDEX(Settings!$G$7:$G$11,MOD('_Engine'!CJ16,10))&IF('_Engine'!CJ16>10,"?","")&" PM",IF('_Engine'!CJ16=0,INDEX(Settings!$G$7:$G$11,MOD('_Engine'!CI16,10))&IF('_Engine'!CI16>10,"?","")&" AM",INDEX(Settings!$G$7:$G$11,MOD('_Engine'!CI16,10))&IF('_Engine'!CI16>10,"?","")&" AM"&CHAR(10)&INDEX(Settings!$G$7:$G$11,MOD('_Engine'!CJ16,10))&IF('_Engine'!CJ16>10,"?","")&" PM")))))))) -> — | U16: =IF(OR($A16="",U$11=""),"",IF(OR('_Engine'!$B$6>0,INDEX('_Engine'!$AM$11:$AM$60,'_Engine'!$AO16)<>"OK"),"!",IF(INDEX(Team!$H$11:$N$60,'_Engine'!$AO16,WEEKDAY(U$11,2))<>"Work","—",IF(COUNTIF(Settings!$F$18:$F$67,U$11)>0,"BH",IF('_Engine'!CK16+'_Engine'!CL16=0,"·",IF('_Engine'!CK16='_Engine'!CL16,INDEX(Settings!$G$7:$G$11,MOD('_Engine'!CK16,10))&IF('_Engine'!CK16>10,"?",""),IF('_Engine'!CK16=0,INDEX(Settings!$G$7:$G$11,MOD('_Engine'!CL16,10))&IF('_Engine'!CL16>10,"?","")&" PM",IF('_Engine'!CL16=0,INDEX(Settings!$G$7:$G$11,MOD('_Engine'!CK16,10))&IF('_Engine'!CK16>10,"?","")&" AM",INDEX(Settings!$G$7:$G$11,MOD('_Engine'!CK16,10))&IF('_Engine'!CK16>10,"?","")&" AM"&CHAR(10)&INDEX(Settings!$G$7:$G$11,MOD('_Engine'!CL16,10))&IF('_Engine'!CL16>10,"?","")&" PM")))))))) -> — | V16: =IF(OR($A16="",V$11=""),"",IF(OR('_Engine'!$B$6>0,INDEX('_Engine'!$AM$11:$AM$60,'_Engine'!$AO16)<>"OK"),"!",IF(INDEX(Team!$H$11:$N$60,'_Engine'!$AO16,WEEKDAY(V$11,2))<>"Work","—",IF(COUNTIF(Settings!$F$18:$F$67,V$11)>0,"BH",IF('_Engine'!CM16+'_Engine'!CN16=0,"·",IF('_Engine'!CM16='_Engine'!CN16,INDEX(Settings!$G$7:$G$11,MOD('_Engine'!CM16,10))&IF('_Engine'!CM16>10,"?",""),IF('_Engine'!CM16=0,INDEX(Settings!$G$7:$G$11,MOD('_Engine'!CN16,10))&IF('_Engine'!CN16>10,"?","")&" PM",IF('_Engine'!CN16=0,INDEX(Settings!$G$7:$G$11,MOD('_Engine'!CM16,10))&IF('_Engine'!CM16>10,"?","")&" AM",INDEX(Settings!$G$7:$G$11,MOD('_Engine'!CM16,10))&IF('_Engine'!CM16>10,"?","")&" AM"&CHAR(10)&INDEX(Settings!$G$7:$G$11,MOD('_Engine'!CN16,10))&IF('_Engine'!CN16>10,"?","")&" PM")))))))) -> · | W16: =IF(OR($A16="",W$11=""),"",IF(OR('_Engine'!$B$6>0,INDEX('_Engine'!$AM$11:$AM$60,'_Engine'!$AO16)<>"OK"),"!",IF(INDEX(Team!$H$11:$N$60,'_Engine'!$AO16,WEEKDAY(W$11,2))<>"Work","—",IF(COUNTIF(Settings!$F$18:$F$67,W$11)>0,"BH",IF('_Engine'!CO16+'_Engine'!CP16=0,"·",IF('_Engine'!CO16='_Engine'!CP16,INDEX(Settings!$G$7:$G$11,MOD('_Engine'!CO16,10))&IF('_Engine'!CO16>10,"?",""),IF('_Engine'!CO16=0,INDEX(Settings!$G$7:$G$11,MOD('_Engine'!CP16,10))&IF('_Engine'!CP16>10,"?","")&" PM",IF('_Engine'!CP16=0,INDEX(Settings!$G$7:$G$11,MOD('_Engine'!CO16,10))&IF('_Engine'!CO16>10,"?","")&" AM",INDEX(Settings!$G$7:$G$11,MOD('_Engine'!CO16,10))&IF('_Engine'!CO16>10,"?","")&" AM"&CHAR(10)&INDEX(Settings!$G$7:$G$11,MOD('_Engine'!CP16,10))&IF('_Engine'!CP16>10,"?","")&" PM")))))))) -> · | X16: =IF(OR($A16="",X$11=""),"",IF(OR('_Engine'!$B$6>0,INDEX('_Engine'!$AM$11:$AM$60,'_Engine'!$AO16)<>"OK"),"!",IF(INDEX(Team!$H$11:$N$60,'_Engine'!$AO16,WEEKDAY(X$11,2))<>"Work","—",IF(COUNTIF(Settings!$F$18:$F$67,X$11)>0,"BH",IF('_Engine'!CQ16+'_Engine'!CR16=0,"·",IF('_Engine'!CQ16='_Engine'!CR16,INDEX(Settings!$G$7:$G$11,MOD('_Engine'!CQ16,10))&IF('_Engine'!CQ16>10,"?",""),IF('_Engine'!CQ16=0,INDEX(Settings!$G$7:$G$11,MOD('_Engine'!CR16,10))&IF('_Engine'!CR16>10,"?","")&" PM",IF('_Engine'!CR16=0,INDEX(Settings!$G$7:$G$11,MOD('_Engine'!CQ16,10))&IF('_Engine'!CQ16>10,"?","")&" AM",INDEX(Settings!$G$7:$G$11,MOD('_Engine'!CQ16,10))&IF('_Engine'!CQ16>10,"?","")&" AM"&CHAR(10)&INDEX(Settings!$G$7:$G$11,MOD('_Engine'!CR16,10))&IF('_Engine'!CR16>10,"?","")&" PM")))))))) -> · | Y16: =IF(OR($A16="",Y$11=""),"",IF(OR('_Engine'!$B$6>0,INDEX('_Engine'!$AM$11:$AM$60,'_Engine'!$AO16)<>"OK"),"!",IF(INDEX(Team!$H$11:$N$60,'_Engine'!$AO16,WEEKDAY(Y$11,2))<>"Work","—",IF(COUNTIF(Settings!$F$18:$F$67,Y$11)>0,"BH",IF('_Engine'!CS16+'_Engine'!CT16=0,"·",IF('_Engine'!CS16='_Engine'!CT16,INDEX(Settings!$G$7:$G$11,MOD('_Engine'!CS16,10))&IF('_Engine'!CS16>10,"?",""),IF('_Engine'!CS16=0,INDEX(Settings!$G$7:$G$11,MOD('_Engine'!CT16,10))&IF('_Engine'!CT16>10,"?","")&" PM",IF('_Engine'!CT16=0,INDEX(Settings!$G$7:$G$11,MOD('_Engine'!CS16,10))&IF('_Engine'!CS16>10,"?","")&" AM",INDEX(Settings!$G$7:$G$11,MOD('_Engine'!CS16,10))&IF('_Engine'!CS16>10,"?","")&" AM"&CHAR(10)&INDEX(Settings!$G$7:$G$11,MOD('_Engine'!CT16,10))&IF('_Engine'!CT16>10,"?","")&" PM")))))))) -> · | Z16: =IF(OR($A16="",Z$11=""),"",IF(OR('_Engine'!$B$6>0,INDEX('_Engine'!$AM$11:$AM$60,'_Engine'!$AO16)<>"OK"),"!",IF(INDEX(Team!$H$11:$N$60,'_Engine'!$AO16,WEEKDAY(Z$11,2))<>"Work","—",IF(COUNTIF(Settings!$F$18:$F$67,Z$11)>0,"BH",IF('_Engine'!CU16+'_Engine'!CV16=0,"·",IF('_Engine'!CU16='_Engine'!CV16,INDEX(Settings!$G$7:$G$11,MOD('_Engine'!CU16,10))&IF('_Engine'!CU16>10,"?",""),IF('_Engine'!CU16=0,INDEX(Settings!$G$7:$G$11,MOD('_Engine'!CV16,10))&IF('_Engine'!CV16>10,"?","")&" PM",IF('_Engine'!CV16=0,INDEX(Settings!$G$7:$G$11,MOD('_Engine'!CU16,10))&IF('_Engine'!CU16>10,"?","")&" AM",INDEX(Settings!$G$7:$G$11,MOD('_Engine'!CU16,10))&IF('_Engine'!CU16>10,"?","")&" AM"&CHAR(10)&INDEX(Settings!$G$7:$G$11,MOD('_Engine'!CV16,10))&IF('_Engine'!CV16>10,"?","")&" PM")))))))) -> BH | AA16: =IF(OR($A16="",AA$11=""),"",IF(OR('_Engine'!$B$6>0,INDEX('_Engine'!$AM$11:$AM$60,'_Engine'!$AO16)<>"OK"),"!",IF(INDEX(Team!$H$11:$N$60,'_Engine'!$AO16,WEEKDAY(AA$11,2))<>"Work","—",IF(COUNTIF(Settings!$F$18:$F$67,AA$11)>0,"BH",IF('_Engine'!CW16+'_Engine'!CX16=0,"·",IF('_Engine'!CW16='_Engine'!CX16,INDEX(Settings!$G$7:$G$11,MOD('_Engine'!CW16,10))&IF('_Engine'!CW16>10,"?",""),IF('_Engine'!CW16=0,INDEX(Settings!$G$7:$G$11,MOD('_Engine'!CX16,10))&IF('_Engine'!CX16>10,"?","")&" PM",IF('_Engine'!CX16=0,INDEX(Settings!$G$7:$G$11,MOD('_Engine'!CW16,10))&IF('_Engine'!CW16>10,"?","")&" AM",INDEX(Settings!$G$7:$G$11,MOD('_Engine'!CW16,10))&IF('_Engine'!CW16>10,"?","")&" AM"&CHAR(10)&INDEX(Settings!$G$7:$G$11,MOD('_Engine'!CX16,10))&IF('_Engine'!CX16>10,"?","")&" PM")))))))) -> — | AB16: =IF(OR($A16="",AB$11=""),"",IF(OR('_Engine'!$B$6>0,INDEX('_Engine'!$AM$11:$AM$60,'_Engine'!$AO16)<>"OK"),"!",IF(INDEX(Team!$H$11:$N$60,'_Engine'!$AO16,WEEKDAY(AB$11,2))<>"Work","—",IF(COUNTIF(Settings!$F$18:$F$67,AB$11)>0,"BH",IF('_Engine'!CY16+'_Engine'!CZ16=0,"·",IF('_Engine'!CY16='_Engine'!CZ16,INDEX(Settings!$G$7:$G$11,MOD('_Engine'!CY16,10))&IF('_Engine'!CY16>10,"?",""),IF('_Engine'!CY16=0,INDEX(Settings!$G$7:$G$11,MOD('_Engine'!CZ16,10))&IF('_Engine'!CZ16>10,"?","")&" PM",IF('_Engine'!CZ16=0,INDEX(Settings!$G$7:$G$11,MOD('_Engine'!CY16,10))&IF('_Engine'!CY16>10,"?","")&" AM",INDEX(Settings!$G$7:$G$11,MOD('_Engine'!CY16,10))&IF('_Engine'!CY16>10,"?","")&" AM"&CHAR(10)&INDEX(Settings!$G$7:$G$11,MOD('_Engine'!CZ16,10))&IF('_Engine'!CZ16>10,"?","")&" PM")))))))) -> — | AC16: =IF(OR($A16="",AC$11=""),"",IF(OR('_Engine'!$B$6>0,INDEX('_Engine'!$AM$11:$AM$60,'_Engine'!$AO16)<>"OK"),"!",IF(INDEX(Team!$H$11:$N$60,'_Engine'!$AO16,WEEKDAY(AC$11,2))<>"Work","—",IF(COUNTIF(Settings!$F$18:$F$67,AC$11)>0,"BH",IF('_Engine'!DA16+'_Engine'!DB16=0,"·",IF('_Engine'!DA16='_Engine'!DB16,INDEX(Settings!$G$7:$G$11,MOD('_Engine'!DA16,10))&IF('_Engine'!DA16>10,"?",""),IF('_Engine'!DA16=0,INDEX(Settings!$G$7:$G$11,MOD('_Engine'!DB16,10))&IF('_Engine'!DB16>10,"?","")&" PM",IF('_Engine'!DB16=0,INDEX(Settings!$G$7:$G$11,MOD('_Engine'!DA16,10))&IF('_Engine'!DA16>10,"?","")&" AM",INDEX(Settings!$G$7:$G$11,MOD('_Engine'!DA16,10))&IF('_Engine'!DA16>10,"?","")&" AM"&CHAR(10)&INDEX(Settings!$G$7:$G$11,MOD('_Engine'!DB16,10))&IF('_Engine'!DB16>10,"?","")&" PM")))))))) -> H? | AD16: =IF(OR($A16="",AD$11=""),"",IF(OR('_Engine'!$B$6>0,INDEX('_Engine'!$AM$11:$AM$60,'_Engine'!$AO16)<>"OK"),"!",IF(INDEX(Team!$H$11:$N$60,'_Engine'!$AO16,WEEKDAY(AD$11,2))<>"Work","—",IF(COUNTIF(Settings!$F$18:$F$67,AD$11)>0,"BH",IF('_Engine'!DC16+'_Engine'!DD16=0,"·",IF('_Engine'!DC16='_Engine'!DD16,INDEX(Settings!$G$7:$G$11,MOD('_Engine'!DC16,10))&IF('_Engine'!DC16>10,"?",""),IF('_Engine'!DC16=0,INDEX(Settings!$G$7:$G$11,MOD('_Engine'!DD16,10))&IF('_Engine'!DD16>10,"?","")&" PM",IF('_Engine'!DD16=0,INDEX(Settings!$G$7:$G$11,MOD('_Engine'!DC16,10))&IF('_Engine'!DC16>10,"?","")&" AM",INDEX(Settings!$G$7:$G$11,MOD('_Engine'!DC16,10))&IF('_Engine'!DC16>10,"?","")&" AM"&CHAR(10)&INDEX(Settings!$G$7:$G$11,MOD('_Engine'!DD16,10))&IF('_Engine'!DD16>10,"?","")&" PM")))))))) -> H? | AE16: =IF(OR($A16="",AE$11=""),"",IF(OR('_Engine'!$B$6>0,INDEX('_Engine'!$AM$11:$AM$60,'_Engine'!$AO16)<>"OK"),"!",IF(INDEX(Team!$H$11:$N$60,'_Engine'!$AO16,WEEKDAY(AE$11,2))<>"Work","—",IF(COUNTIF(Settings!$F$18:$F$67,AE$11)>0,"BH",IF('_Engine'!DE16+'_Engine'!DF16=0,"·",IF('_Engine'!DE16='_Engine'!DF16,INDEX(Settings!$G$7:$G$11,MOD('_Engine'!DE16,10))&IF('_Engine'!DE16>10,"?",""),IF('_Engine'!DE16=0,INDEX(Settings!$G$7:$G$11,MOD('_Engine'!DF16,10))&IF('_Engine'!DF16>10,"?","")&" PM",IF('_Engine'!DF16=0,INDEX(Settings!$G$7:$G$11,MOD('_Engine'!DE16,10))&IF('_Engine'!DE16>10,"?","")&" AM",INDEX(Settings!$G$7:$G$11,MOD('_Engine'!DE16,10))&IF('_Engine'!DE16>10,"?","")&" AM"&CHAR(10)&INDEX(Settings!$G$7:$G$11,MOD('_Engine'!DF16,10))&IF('_Engine'!DF16>10,"?","")&" PM")))))))) -> H? | AF16: =IF(OR($A16="",AF$11=""),"",IF(OR('_Engine'!$B$6>0,INDEX('_Engine'!$AM$11:$AM$60,'_Engine'!$AO16)<>"OK"),"!",IF(INDEX(Team!$H$11:$N$60,'_Engine'!$AO16,WEEKDAY(AF$11,2))<>"Work","—",IF(COUNTIF(Settings!$F$18:$F$67,AF$11)>0,"BH",IF('_Engine'!DG16+'_Engine'!DH16=0,"·",IF('_Engine'!DG16='_Engine'!DH16,INDEX(Settings!$G$7:$G$11,MOD('_Engine'!DG16,10))&IF('_Engine'!DG16>10,"?",""),IF('_Engine'!DG16=0,INDEX(Settings!$G$7:$G$11,MOD('_Engine'!DH16,10))&IF('_Engine'!DH16>10,"?","")&" PM",IF('_Engine'!DH16=0,INDEX(Settings!$G$7:$G$11,MOD('_Engine'!DG16,10))&IF('_Engine'!DG16>10,"?","")&" AM",INDEX(Settings!$G$7:$G$11,MOD('_Engine'!DG16,10))&IF('_Engine'!DG16>10,"?","")&" AM"&CHAR(10)&INDEX(Settings!$G$7:$G$11,MOD('_Engine'!DH16,10))&IF('_Engine'!DH16>10,"?","")&" PM")))))))) -> H? | AG16: =IF(OR($A16="",AG$11=""),"",IF(OR('_Engine'!$B$6>0,INDEX('_Engine'!$AM$11:$AM$60,'_Engine'!$AO16)<>"OK"),"!",IF(INDEX(Team!$H$11:$N$60,'_Engine'!$AO16,WEEKDAY(AG$11,2))<>"Work","—",IF(COUNTIF(Settings!$F$18:$F$67,AG$11)>0,"BH",IF('_Engine'!DI16+'_Engine'!DJ16=0,"·",IF('_Engine'!DI16='_Engine'!DJ16,INDEX(Settings!$G$7:$G$11,MOD('_Engine'!DI16,10))&IF('_Engine'!DI16>10,"?",""),IF('_Engine'!DI16=0,INDEX(Settings!$G$7:$G$11,MOD('_Engine'!DJ16,10))&IF('_Engine'!DJ16>10,"?","")&" PM",IF('_Engine'!DJ16=0,INDEX(Settings!$G$7:$G$11,MOD('_Engine'!DI16,10))&IF('_Engine'!DI16>10,"?","")&" AM",INDEX(Settings!$G$7:$G$11,MOD('_Engine'!DI16,10))&IF('_Engine'!DI16>10,"?","")&" AM"&CHAR(10)&INDEX(Settings!$G$7:$G$11,MOD('_Engine'!DJ16,10))&IF('_Engine'!DJ16>10,"?","")&" PM")))))))) -> H? | AH16: =IF(OR($A16="",AH$11=""),"",IF(OR('_Engine'!$B$6>0,INDEX('_Engine'!$AM$11:$AM$60,'_Engine'!$AO16)<>"OK"),"!",IF(INDEX(Team!$H$11:$N$60,'_Engine'!$AO16,WEEKDAY(AH$11,2))<>"Work","—",IF(COUNTIF(Settings!$F$18:$F$67,AH$11)>0,"BH",IF('_Engine'!DK16+'_Engine'!DL16=0,"·",IF('_Engine'!DK16='_Engine'!DL16,INDEX(Settings!$G$7:$G$11,MOD('_Engine'!DK16,10))&IF('_Engine'!DK16>10,"?",""),IF('_Engine'!DK16=0,INDEX(Settings!$G$7:$G$11,MOD('_Engine'!DL16,10))&IF('_Engine'!DL16>10,"?","")&" PM",IF('_Engine'!DL16=0,INDEX(Settings!$G$7:$G$11,MOD('_Engine'!DK16,10))&IF('_Engine'!DK16>10,"?","")&" AM",INDEX(Settings!$G$7:$G$11,MOD('_Engine'!DK16,10))&IF('_Engine'!DK16>10,"?","")&" AM"&CHAR(10)&INDEX(Settings!$G$7:$G$11,MOD('_Engine'!DL16,10))&IF('_Engine'!DL16>10,"?","")&" PM")))))))) -> —
A17: =IF('_Engine'!AO17=0,"",IF(INDEX(Team!$B$11:$B$60,'_Engine'!AO17)="","[Unnamed]",INDEX(Team!$B$11:$B$60,'_Engine'!AO17))) -> Riley Chen | B17: =IF('_Engine'!AO17=0,"",INDEX('_Engine'!$AN$11:$AN$60,'_Engine'!AO17)) -> 19.5 | C17: =IF('_Engine'!AO17=0,"",INDEX(Team!$C$11:$C$60,'_Engine'!AO17)) -> Operations | D17: =IF(OR($A17="",D$11=""),"",IF(OR('_Engine'!$B$6>0,INDEX('_Engine'!$AM$11:$AM$60,'_Engine'!$AO17)<>"OK"),"!",IF(INDEX(Team!$H$11:$N$60,'_Engine'!$AO17,WEEKDAY(D$11,2))<>"Work","—",IF(COUNTIF(Settings!$F$18:$F$67,D$11)>0,"BH",IF('_Engine'!BC17+'_Engine'!BD17=0,"·",IF('_Engine'!BC17='_Engine'!BD17,INDEX(Settings!$G$7:$G$11,MOD('_Engine'!BC17,10))&IF('_Engine'!BC17>10,"?",""),IF('_Engine'!BC17=0,INDEX(Settings!$G$7:$G$11,MOD('_Engine'!BD17,10))&IF('_Engine'!BD17>10,"?","")&" PM",IF('_Engine'!BD17=0,INDEX(Settings!$G$7:$G$11,MOD('_Engine'!BC17,10))&IF('_Engine'!BC17>10,"?","")&" AM",INDEX(Settings!$G$7:$G$11,MOD('_Engine'!BC17,10))&IF('_Engine'!BC17>10,"?","")&" AM"&CHAR(10)&INDEX(Settings!$G$7:$G$11,MOD('_Engine'!BD17,10))&IF('_Engine'!BD17>10,"?","")&" PM")))))))) -> · | E17: =IF(OR($A17="",E$11=""),"",IF(OR('_Engine'!$B$6>0,INDEX('_Engine'!$AM$11:$AM$60,'_Engine'!$AO17)<>"OK"),"!",IF(INDEX(Team!$H$11:$N$60,'_Engine'!$AO17,WEEKDAY(E$11,2))<>"Work","—",IF(COUNTIF(Settings!$F$18:$F$67,E$11)>0,"BH",IF('_Engine'!BE17+'_Engine'!BF17=0,"·",IF('_Engine'!BE17='_Engine'!BF17,INDEX(Settings!$G$7:$G$11,MOD('_Engine'!BE17,10))&IF('_Engine'!BE17>10,"?",""),IF('_Engine'!BE17=0,INDEX(Settings!$G$7:$G$11,MOD('_Engine'!BF17,10))&IF('_Engine'!BF17>10,"?","")&" PM",IF('_Engine'!BF17=0,INDEX(Settings!$G$7:$G$11,MOD('_Engine'!BE17,10))&IF('_Engine'!BE17>10,"?","")&" AM",INDEX(Settings!$G$7:$G$11,MOD('_Engine'!BE17,10))&IF('_Engine'!BE17>10,"?","")&" AM"&CHAR(10)&INDEX(Settings!$G$7:$G$11,MOD('_Engine'!BF17,10))&IF('_Engine'!BF17>10,"?","")&" PM")))))))) -> — | F17: =IF(OR($A17="",F$11=""),"",IF(OR('_Engine'!$B$6>0,INDEX('_Engine'!$AM$11:$AM$60,'_Engine'!$AO17)<>"OK"),"!",IF(INDEX(Team!$H$11:$N$60,'_Engine'!$AO17,WEEKDAY(F$11,2))<>"Work","—",IF(COUNTIF(Settings!$F$18:$F$67,F$11)>0,"BH",IF('_Engine'!BG17+'_Engine'!BH17=0,"·",IF('_Engine'!BG17='_Engine'!BH17,INDEX(Settings!$G$7:$G$11,MOD('_Engine'!BG17,10))&IF('_Engine'!BG17>10,"?",""),IF('_Engine'!BG17=0,INDEX(Settings!$G$7:$G$11,MOD('_Engine'!BH17,10))&IF('_Engine'!BH17>10,"?","")&" PM",IF('_Engine'!BH17=0,INDEX(Settings!$G$7:$G$11,MOD('_Engine'!BG17,10))&IF('_Engine'!BG17>10,"?","")&" AM",INDEX(Settings!$G$7:$G$11,MOD('_Engine'!BG17,10))&IF('_Engine'!BG17>10,"?","")&" AM"&CHAR(10)&INDEX(Settings!$G$7:$G$11,MOD('_Engine'!BH17,10))&IF('_Engine'!BH17>10,"?","")&" PM")))))))) -> — | G17: =IF(OR($A17="",G$11=""),"",IF(OR('_Engine'!$B$6>0,INDEX('_Engine'!$AM$11:$AM$60,'_Engine'!$AO17)<>"OK"),"!",IF(INDEX(Team!$H$11:$N$60,'_Engine'!$AO17,WEEKDAY(G$11,2))<>"Work","—",IF(COUNTIF(Settings!$F$18:$F$67,G$11)>0,"BH",IF('_Engine'!BI17+'_Engine'!BJ17=0,"·",IF('_Engine'!BI17='_Engine'!BJ17,INDEX(Settings!$G$7:$G$11,MOD('_Engine'!BI17,10))&IF('_Engine'!BI17>10,"?",""),IF('_Engine'!BI17=0,INDEX(Settings!$G$7:$G$11,MOD('_Engine'!BJ17,10))&IF('_Engine'!BJ17>10,"?","")&" PM",IF('_Engine'!BJ17=0,INDEX(Settings!$G$7:$G$11,MOD('_Engine'!BI17,10))&IF('_Engine'!BI17>10,"?","")&" AM",INDEX(Settings!$G$7:$G$11,MOD('_Engine'!BI17,10))&IF('_Engine'!BI17>10,"?","")&" AM"&CHAR(10)&INDEX(Settings!$G$7:$G$11,MOD('_Engine'!BJ17,10))&IF('_Engine'!BJ17>10,"?","")&" PM")))))))) -> — | H17: =IF(OR($A17="",H$11=""),"",IF(OR('_Engine'!$B$6>0,INDEX('_Engine'!$AM$11:$AM$60,'_Engine'!$AO17)<>"OK"),"!",IF(INDEX(Team!$H$11:$N$60,'_Engine'!$AO17,WEEKDAY(H$11,2))<>"Work","—",IF(COUNTIF(Settings!$F$18:$F$67,H$11)>0,"BH",IF('_Engine'!BK17+'_Engine'!BL17=0,"·",IF('_Engine'!BK17='_Engine'!BL17,INDEX(Settings!$G$7:$G$11,MOD('_Engine'!BK17,10))&IF('_Engine'!BK17>10,"?",""),IF('_Engine'!BK17=0,INDEX(Settings!$G$7:$G$11,MOD('_Engine'!BL17,10))&IF('_Engine'!BL17>10,"?","")&" PM",IF('_Engine'!BL17=0,INDEX(Settings!$G$7:$G$11,MOD('_Engine'!BK17,10))&IF('_Engine'!BK17>10,"?","")&" AM",INDEX(Settings!$G$7:$G$11,MOD('_Engine'!BK17,10))&IF('_Engine'!BK17>10,"?","")&" AM"&CHAR(10)&INDEX(Settings!$G$7:$G$11,MOD('_Engine'!BL17,10))&IF('_Engine'!BL17>10,"?","")&" PM")))))))) -> · | I17: =IF(OR($A17="",I$11=""),"",IF(OR('_Engine'!$B$6>0,INDEX('_Engine'!$AM$11:$AM$60,'_Engine'!$AO17)<>"OK"),"!",IF(INDEX(Team!$H$11:$N$60,'_Engine'!$AO17,WEEKDAY(I$11,2))<>"Work","—",IF(COUNTIF(Settings!$F$18:$F$67,I$11)>0,"BH",IF('_Engine'!BM17+'_Engine'!BN17=0,"·",IF('_Engine'!BM17='_Engine'!BN17,INDEX(Settings!$G$7:$G$11,MOD('_Engine'!BM17,10))&IF('_Engine'!BM17>10,"?",""),IF('_Engine'!BM17=0,INDEX(Settings!$G$7:$G$11,MOD('_Engine'!BN17,10))&IF('_Engine'!BN17>10,"?","")&" PM",IF('_Engine'!BN17=0,INDEX(Settings!$G$7:$G$11,MOD('_Engine'!BM17,10))&IF('_Engine'!BM17>10,"?","")&" AM",INDEX(Settings!$G$7:$G$11,MOD('_Engine'!BM17,10))&IF('_Engine'!BM17>10,"?","")&" AM"&CHAR(10)&INDEX(Settings!$G$7:$G$11,MOD('_Engine'!BN17,10))&IF('_Engine'!BN17>10,"?","")&" PM")))))))) -> · | J17: =IF(OR($A17="",J$11=""),"",IF(OR('_Engine'!$B$6>0,INDEX('_Engine'!$AM$11:$AM$60,'_Engine'!$AO17)<>"OK"),"!",IF(INDEX(Team!$H$11:$N$60,'_Engine'!$AO17,WEEKDAY(J$11,2))<>"Work","—",IF(COUNTIF(Settings!$F$18:$F$67,J$11)>0,"BH",IF('_Engine'!BO17+'_Engine'!BP17=0,"·",IF('_Engine'!BO17='_Engine'!BP17,INDEX(Settings!$G$7:$G$11,MOD('_Engine'!BO17,10))&IF('_Engine'!BO17>10,"?",""),IF('_Engine'!BO17=0,INDEX(Settings!$G$7:$G$11,MOD('_Engine'!BP17,10))&IF('_Engine'!BP17>10,"?","")&" PM",IF('_Engine'!BP17=0,INDEX(Settings!$G$7:$G$11,MOD('_Engine'!BO17,10))&IF('_Engine'!BO17>10,"?","")&" AM",INDEX(Settings!$G$7:$G$11,MOD('_Engine'!BO17,10))&IF('_Engine'!BO17>10,"?","")&" AM"&CHAR(10)&INDEX(Settings!$G$7:$G$11,MOD('_Engine'!BP17,10))&IF('_Engine'!BP17>10,"?","")&" PM")))))))) -> · | K17: =IF(OR($A17="",K$11=""),"",IF(OR('_Engine'!$B$6>0,INDEX('_Engine'!$AM$11:$AM$60,'_Engine'!$AO17)<>"OK"),"!",IF(INDEX(Team!$H$11:$N$60,'_Engine'!$AO17,WEEKDAY(K$11,2))<>"Work","—",IF(COUNTIF(Settings!$F$18:$F$67,K$11)>0,"BH",IF('_Engine'!BQ17+'_Engine'!BR17=0,"·",IF('_Engine'!BQ17='_Engine'!BR17,INDEX(Settings!$G$7:$G$11,MOD('_Engine'!BQ17,10))&IF('_Engine'!BQ17>10,"?",""),IF('_Engine'!BQ17=0,INDEX(Settings!$G$7:$G$11,MOD('_Engine'!BR17,10))&IF('_Engine'!BR17>10,"?","")&" PM",IF('_Engine'!BR17=0,INDEX(Settings!$G$7:$G$11,MOD('_Engine'!BQ17,10))&IF('_Engine'!BQ17>10,"?","")&" AM",INDEX(Settings!$G$7:$G$11,MOD('_Engine'!BQ17,10))&IF('_Engine'!BQ17>10,"?","")&" AM"&CHAR(10)&INDEX(Settings!$G$7:$G$11,MOD('_Engine'!BR17,10))&IF('_Engine'!BR17>10,"?","")&" PM")))))))) -> U | L17: =IF(OR($A17="",L$11=""),"",IF(OR('_Engine'!$B$6>0,INDEX('_Engine'!$AM$11:$AM$60,'_Engine'!$AO17)<>"OK"),"!",IF(INDEX(Team!$H$11:$N$60,'_Engine'!$AO17,WEEKDAY(L$11,2))<>"Work","—",IF(COUNTIF(Settings!$F$18:$F$67,L$11)>0,"BH",IF('_Engine'!BS17+'_Engine'!BT17=0,"·",IF('_Engine'!BS17='_Engine'!BT17,INDEX(Settings!$G$7:$G$11,MOD('_Engine'!BS17,10))&IF('_Engine'!BS17>10,"?",""),IF('_Engine'!BS17=0,INDEX(Settings!$G$7:$G$11,MOD('_Engine'!BT17,10))&IF('_Engine'!BT17>10,"?","")&" PM",IF('_Engine'!BT17=0,INDEX(Settings!$G$7:$G$11,MOD('_Engine'!BS17,10))&IF('_Engine'!BS17>10,"?","")&" AM",INDEX(Settings!$G$7:$G$11,MOD('_Engine'!BS17,10))&IF('_Engine'!BS17>10,"?","")&" AM"&CHAR(10)&INDEX(Settings!$G$7:$G$11,MOD('_Engine'!BT17,10))&IF('_Engine'!BT17>10,"?","")&" PM")))))))) -> — | M17: =IF(OR($A17="",M$11=""),"",IF(OR('_Engine'!$B$6>0,INDEX('_Engine'!$AM$11:$AM$60,'_Engine'!$AO17)<>"OK"),"!",IF(INDEX(Team!$H$11:$N$60,'_Engine'!$AO17,WEEKDAY(M$11,2))<>"Work","—",IF(COUNTIF(Settings!$F$18:$F$67,M$11)>0,"BH",IF('_Engine'!BU17+'_Engine'!BV17=0,"·",IF('_Engine'!BU17='_Engine'!BV17,INDEX(Settings!$G$7:$G$11,MOD('_Engine'!BU17,10))&IF('_Engine'!BU17>10,"?",""),IF('_Engine'!BU17=0,INDEX(Settings!$G$7:$G$11,MOD('_Engine'!BV17,10))&IF('_Engine'!BV17>10,"?","")&" PM",IF('_Engine'!BV17=0,INDEX(Settings!$G$7:$G$11,MOD('_Engine'!BU17,10))&IF('_Engine'!BU17>10,"?","")&" AM",INDEX(Settings!$G$7:$G$11,MOD('_Engine'!BU17,10))&IF('_Engine'!BU17>10,"?","")&" AM"&CHAR(10)&INDEX(Settings!$G$7:$G$11,MOD('_Engine'!BV17,10))&IF('_Engine'!BV17>10,"?","")&" PM")))))))) -> — | N17: =IF(OR($A17="",N$11=""),"",IF(OR('_Engine'!$B$6>0,INDEX('_Engine'!$AM$11:$AM$60,'_Engine'!$AO17)<>"OK"),"!",IF(INDEX(Team!$H$11:$N$60,'_Engine'!$AO17,WEEKDAY(N$11,2))<>"Work","—",IF(COUNTIF(Settings!$F$18:$F$67,N$11)>0,"BH",IF('_Engine'!BW17+'_Engine'!BX17=0,"·",IF('_Engine'!BW17='_Engine'!BX17,INDEX(Settings!$G$7:$G$11,MOD('_Engine'!BW17,10))&IF('_Engine'!BW17>10,"?",""),IF('_Engine'!BW17=0,INDEX(Settings!$G$7:$G$11,MOD('_Engine'!BX17,10))&IF('_Engine'!BX17>10,"?","")&" PM",IF('_Engine'!BX17=0,INDEX(Settings!$G$7:$G$11,MOD('_Engine'!BW17,10))&IF('_Engine'!BW17>10,"?","")&" AM",INDEX(Settings!$G$7:$G$11,MOD('_Engine'!BW17,10))&IF('_Engine'!BW17>10,"?","")&" AM"&CHAR(10)&INDEX(Settings!$G$7:$G$11,MOD('_Engine'!BX17,10))&IF('_Engine'!BX17>10,"?","")&" PM")))))))) -> — | O17: =IF(OR($A17="",O$11=""),"",IF(OR('_Engine'!$B$6>0,INDEX('_Engine'!$AM$11:$AM$60,'_Engine'!$AO17)<>"OK"),"!",IF(INDEX(Team!$H$11:$N$60,'_Engine'!$AO17,WEEKDAY(O$11,2))<>"Work","—",IF(COUNTIF(Settings!$F$18:$F$67,O$11)>0,"BH",IF('_Engine'!BY17+'_Engine'!BZ17=0,"·",IF('_Engine'!BY17='_Engine'!BZ17,INDEX(Settings!$G$7:$G$11,MOD('_Engine'!BY17,10))&IF('_Engine'!BY17>10,"?",""),IF('_Engine'!BY17=0,INDEX(Settings!$G$7:$G$11,MOD('_Engine'!BZ17,10))&IF('_Engine'!BZ17>10,"?","")&" PM",IF('_Engine'!BZ17=0,INDEX(Settings!$G$7:$G$11,MOD('_Engine'!BY17,10))&IF('_Engine'!BY17>10,"?","")&" AM",INDEX(Settings!$G$7:$G$11,MOD('_Engine'!BY17,10))&IF('_Engine'!BY17>10,"?","")&" AM"&CHAR(10)&INDEX(Settings!$G$7:$G$11,MOD('_Engine'!BZ17,10))&IF('_Engine'!BZ17>10,"?","")&" PM")))))))) -> · | P17: =IF(OR($A17="",P$11=""),"",IF(OR('_Engine'!$B$6>0,INDEX('_Engine'!$AM$11:$AM$60,'_Engine'!$AO17)<>"OK"),"!",IF(INDEX(Team!$H$11:$N$60,'_Engine'!$AO17,WEEKDAY(P$11,2))<>"Work","—",IF(COUNTIF(Settings!$F$18:$F$67,P$11)>0,"BH",IF('_Engine'!CA17+'_Engine'!CB17=0,"·",IF('_Engine'!CA17='_Engine'!CB17,INDEX(Settings!$G$7:$G$11,MOD('_Engine'!CA17,10))&IF('_Engine'!CA17>10,"?",""),IF('_Engine'!CA17=0,INDEX(Settings!$G$7:$G$11,MOD('_Engine'!CB17,10))&IF('_Engine'!CB17>10,"?","")&" PM",IF('_Engine'!CB17=0,INDEX(Settings!$G$7:$G$11,MOD('_Engine'!CA17,10))&IF('_Engine'!CA17>10,"?","")&" AM",INDEX(Settings!$G$7:$G$11,MOD('_Engine'!CA17,10))&IF('_Engine'!CA17>10,"?","")&" AM"&CHAR(10)&INDEX(Settings!$G$7:$G$11,MOD('_Engine'!CB17,10))&IF('_Engine'!CB17>10,"?","")&" PM")))))))) -> · | Q17: =IF(OR($A17="",Q$11=""),"",IF(OR('_Engine'!$B$6>0,INDEX('_Engine'!$AM$11:$AM$60,'_Engine'!$AO17)<>"OK"),"!",IF(INDEX(Team!$H$11:$N$60,'_Engine'!$AO17,WEEKDAY(Q$11,2))<>"Work","—",IF(COUNTIF(Settings!$F$18:$F$67,Q$11)>0,"BH",IF('_Engine'!CC17+'_Engine'!CD17=0,"·",IF('_Engine'!CC17='_Engine'!CD17,INDEX(Settings!$G$7:$G$11,MOD('_Engine'!CC17,10))&IF('_Engine'!CC17>10,"?",""),IF('_Engine'!CC17=0,INDEX(Settings!$G$7:$G$11,MOD('_Engine'!CD17,10))&IF('_Engine'!CD17>10,"?","")&" PM",IF('_Engine'!CD17=0,INDEX(Settings!$G$7:$G$11,MOD('_Engine'!CC17,10))&IF('_Engine'!CC17>10,"?","")&" AM",INDEX(Settings!$G$7:$G$11,MOD('_Engine'!CC17,10))&IF('_Engine'!CC17>10,"?","")&" AM"&CHAR(10)&INDEX(Settings!$G$7:$G$11,MOD('_Engine'!CD17,10))&IF('_Engine'!CD17>10,"?","")&" PM")))))))) -> T | R17: =IF(OR($A17="",R$11=""),"",IF(OR('_Engine'!$B$6>0,INDEX('_Engine'!$AM$11:$AM$60,'_Engine'!$AO17)<>"OK"),"!",IF(INDEX(Team!$H$11:$N$60,'_Engine'!$AO17,WEEKDAY(R$11,2))<>"Work","—",IF(COUNTIF(Settings!$F$18:$F$67,R$11)>0,"BH",IF('_Engine'!CE17+'_Engine'!CF17=0,"·",IF('_Engine'!CE17='_Engine'!CF17,INDEX(Settings!$G$7:$G$11,MOD('_Engine'!CE17,10))&IF('_Engine'!CE17>10,"?",""),IF('_Engine'!CE17=0,INDEX(Settings!$G$7:$G$11,MOD('_Engine'!CF17,10))&IF('_Engine'!CF17>10,"?","")&" PM",IF('_Engine'!CF17=0,INDEX(Settings!$G$7:$G$11,MOD('_Engine'!CE17,10))&IF('_Engine'!CE17>10,"?","")&" AM",INDEX(Settings!$G$7:$G$11,MOD('_Engine'!CE17,10))&IF('_Engine'!CE17>10,"?","")&" AM"&CHAR(10)&INDEX(Settings!$G$7:$G$11,MOD('_Engine'!CF17,10))&IF('_Engine'!CF17>10,"?","")&" PM")))))))) -> · | S17: =IF(OR($A17="",S$11=""),"",IF(OR('_Engine'!$B$6>0,INDEX('_Engine'!$AM$11:$AM$60,'_Engine'!$AO17)<>"OK"),"!",IF(INDEX(Team!$H$11:$N$60,'_Engine'!$AO17,WEEKDAY(S$11,2))<>"Work","—",IF(COUNTIF(Settings!$F$18:$F$67,S$11)>0,"BH",IF('_Engine'!CG17+'_Engine'!CH17=0,"·",IF('_Engine'!CG17='_Engine'!CH17,INDEX(Settings!$G$7:$G$11,MOD('_Engine'!CG17,10))&IF('_Engine'!CG17>10,"?",""),IF('_Engine'!CG17=0,INDEX(Settings!$G$7:$G$11,MOD('_Engine'!CH17,10))&IF('_Engine'!CH17>10,"?","")&" PM",IF('_Engine'!CH17=0,INDEX(Settings!$G$7:$G$11,MOD('_Engine'!CG17,10))&IF('_Engine'!CG17>10,"?","")&" AM",INDEX(Settings!$G$7:$G$11,MOD('_Engine'!CG17,10))&IF('_Engine'!CG17>10,"?","")&" AM"&CHAR(10)&INDEX(Settings!$G$7:$G$11,MOD('_Engine'!CH17,10))&IF('_Engine'!CH17>10,"?","")&" PM")))))))) -> — | T17: =IF(OR($A17="",T$11=""),"",IF(OR('_Engine'!$B$6>0,INDEX('_Engine'!$AM$11:$AM$60,'_Engine'!$AO17)<>"OK"),"!",IF(INDEX(Team!$H$11:$N$60,'_Engine'!$AO17,WEEKDAY(T$11,2))<>"Work","—",IF(COUNTIF(Settings!$F$18:$F$67,T$11)>0,"BH",IF('_Engine'!CI17+'_Engine'!CJ17=0,"·",IF('_Engine'!CI17='_Engine'!CJ17,INDEX(Settings!$G$7:$G$11,MOD('_Engine'!CI17,10))&IF('_Engine'!CI17>10,"?",""),IF('_Engine'!CI17=0,INDEX(Settings!$G$7:$G$11,MOD('_Engine'!CJ17,10))&IF('_Engine'!CJ17>10,"?","")&" PM",IF('_Engine'!CJ17=0,INDEX(Settings!$G$7:$G$11,MOD('_Engine'!CI17,10))&IF('_Engine'!CI17>10,"?","")&" AM",INDEX(Settings!$G$7:$G$11,MOD('_Engine'!CI17,10))&IF('_Engine'!CI17>10,"?","")&" AM"&CHAR(10)&INDEX(Settings!$G$7:$G$11,MOD('_Engine'!CJ17,10))&IF('_Engine'!CJ17>10,"?","")&" PM")))))))) -> — | U17: =IF(OR($A17="",U$11=""),"",IF(OR('_Engine'!$B$6>0,INDEX('_Engine'!$AM$11:$AM$60,'_Engine'!$AO17)<>"OK"),"!",IF(INDEX(Team!$H$11:$N$60,'_Engine'!$AO17,WEEKDAY(U$11,2))<>"Work","—",IF(COUNTIF(Settings!$F$18:$F$67,U$11)>0,"BH",IF('_Engine'!CK17+'_Engine'!CL17=0,"·",IF('_Engine'!CK17='_Engine'!CL17,INDEX(Settings!$G$7:$G$11,MOD('_Engine'!CK17,10))&IF('_Engine'!CK17>10,"?",""),IF('_Engine'!CK17=0,INDEX(Settings!$G$7:$G$11,MOD('_Engine'!CL17,10))&IF('_Engine'!CL17>10,"?","")&" PM",IF('_Engine'!CL17=0,INDEX(Settings!$G$7:$G$11,MOD('_Engine'!CK17,10))&IF('_Engine'!CK17>10,"?","")&" AM",INDEX(Settings!$G$7:$G$11,MOD('_Engine'!CK17,10))&IF('_Engine'!CK17>10,"?","")&" AM"&CHAR(10)&INDEX(Settings!$G$7:$G$11,MOD('_Engine'!CL17,10))&IF('_Engine'!CL17>10,"?","")&" PM")))))))) -> — | V17: =IF(OR($A17="",V$11=""),"",IF(OR('_Engine'!$B$6>0,INDEX('_Engine'!$AM$11:$AM$60,'_Engine'!$AO17)<>"OK"),"!",IF(INDEX(Team!$H$11:$N$60,'_Engine'!$AO17,WEEKDAY(V$11,2))<>"Work","—",IF(COUNTIF(Settings!$F$18:$F$67,V$11)>0,"BH",IF('_Engine'!CM17+'_Engine'!CN17=0,"·",IF('_Engine'!CM17='_Engine'!CN17,INDEX(Settings!$G$7:$G$11,MOD('_Engine'!CM17,10))&IF('_Engine'!CM17>10,"?",""),IF('_Engine'!CM17=0,INDEX(Settings!$G$7:$G$11,MOD('_Engine'!CN17,10))&IF('_Engine'!CN17>10,"?","")&" PM",IF('_Engine'!CN17=0,INDEX(Settings!$G$7:$G$11,MOD('_Engine'!CM17,10))&IF('_Engine'!CM17>10,"?","")&" AM",INDEX(Settings!$G$7:$G$11,MOD('_Engine'!CM17,10))&IF('_Engine'!CM17>10,"?","")&" AM"&CHAR(10)&INDEX(Settings!$G$7:$G$11,MOD('_Engine'!CN17,10))&IF('_Engine'!CN17>10,"?","")&" PM")))))))) -> · | W17: =IF(OR($A17="",W$11=""),"",IF(OR('_Engine'!$B$6>0,INDEX('_Engine'!$AM$11:$AM$60,'_Engine'!$AO17)<>"OK"),"!",IF(INDEX(Team!$H$11:$N$60,'_Engine'!$AO17,WEEKDAY(W$11,2))<>"Work","—",IF(COUNTIF(Settings!$F$18:$F$67,W$11)>0,"BH",IF('_Engine'!CO17+'_Engine'!CP17=0,"·",IF('_Engine'!CO17='_Engine'!CP17,INDEX(Settings!$G$7:$G$11,MOD('_Engine'!CO17,10))&IF('_Engine'!CO17>10,"?",""),IF('_Engine'!CO17=0,INDEX(Settings!$G$7:$G$11,MOD('_Engine'!CP17,10))&IF('_Engine'!CP17>10,"?","")&" PM",IF('_Engine'!CP17=0,INDEX(Settings!$G$7:$G$11,MOD('_Engine'!CO17,10))&IF('_Engine'!CO17>10,"?","")&" AM",INDEX(Settings!$G$7:$G$11,MOD('_Engine'!CO17,10))&IF('_Engine'!CO17>10,"?","")&" AM"&CHAR(10)&INDEX(Settings!$G$7:$G$11,MOD('_Engine'!CP17,10))&IF('_Engine'!CP17>10,"?","")&" PM")))))))) -> O | X17: =IF(OR($A17="",X$11=""),"",IF(OR('_Engine'!$B$6>0,INDEX('_Engine'!$AM$11:$AM$60,'_Engine'!$AO17)<>"OK"),"!",IF(INDEX(Team!$H$11:$N$60,'_Engine'!$AO17,WEEKDAY(X$11,2))<>"Work","—",IF(COUNTIF(Settings!$F$18:$F$67,X$11)>0,"BH",IF('_Engine'!CQ17+'_Engine'!CR17=0,"·",IF('_Engine'!CQ17='_Engine'!CR17,INDEX(Settings!$G$7:$G$11,MOD('_Engine'!CQ17,10))&IF('_Engine'!CQ17>10,"?",""),IF('_Engine'!CQ17=0,INDEX(Settings!$G$7:$G$11,MOD('_Engine'!CR17,10))&IF('_Engine'!CR17>10,"?","")&" PM",IF('_Engine'!CR17=0,INDEX(Settings!$G$7:$G$11,MOD('_Engine'!CQ17,10))&IF('_Engine'!CQ17>10,"?","")&" AM",INDEX(Settings!$G$7:$G$11,MOD('_Engine'!CQ17,10))&IF('_Engine'!CQ17>10,"?","")&" AM"&CHAR(10)&INDEX(Settings!$G$7:$G$11,MOD('_Engine'!CR17,10))&IF('_Engine'!CR17>10,"?","")&" PM")))))))) -> · | Y17: =IF(OR($A17="",Y$11=""),"",IF(OR('_Engine'!$B$6>0,INDEX('_Engine'!$AM$11:$AM$60,'_Engine'!$AO17)<>"OK"),"!",IF(INDEX(Team!$H$11:$N$60,'_Engine'!$AO17,WEEKDAY(Y$11,2))<>"Work","—",IF(COUNTIF(Settings!$F$18:$F$67,Y$11)>0,"BH",IF('_Engine'!CS17+'_Engine'!CT17=0,"·",IF('_Engine'!CS17='_Engine'!CT17,INDEX(Settings!$G$7:$G$11,MOD('_Engine'!CS17,10))&IF('_Engine'!CS17>10,"?",""),IF('_Engine'!CS17=0,INDEX(Settings!$G$7:$G$11,MOD('_Engine'!CT17,10))&IF('_Engine'!CT17>10,"?","")&" PM",IF('_Engine'!CT17=0,INDEX(Settings!$G$7:$G$11,MOD('_Engine'!CS17,10))&IF('_Engine'!CS17>10,"?","")&" AM",INDEX(Settings!$G$7:$G$11,MOD('_Engine'!CS17,10))&IF('_Engine'!CS17>10,"?","")&" AM"&CHAR(10)&INDEX(Settings!$G$7:$G$11,MOD('_Engine'!CT17,10))&IF('_Engine'!CT17>10,"?","")&" PM")))))))) -> · | Z17: =IF(OR($A17="",Z$11=""),"",IF(OR('_Engine'!$B$6>0,INDEX('_Engine'!$AM$11:$AM$60,'_Engine'!$AO17)<>"OK"),"!",IF(INDEX(Team!$H$11:$N$60,'_Engine'!$AO17,WEEKDAY(Z$11,2))<>"Work","—",IF(COUNTIF(Settings!$F$18:$F$67,Z$11)>0,"BH",IF('_Engine'!CU17+'_Engine'!CV17=0,"·",IF('_Engine'!CU17='_Engine'!CV17,INDEX(Settings!$G$7:$G$11,MOD('_Engine'!CU17,10))&IF('_Engine'!CU17>10,"?",""),IF('_Engine'!CU17=0,INDEX(Settings!$G$7:$G$11,MOD('_Engine'!CV17,10))&IF('_Engine'!CV17>10,"?","")&" PM",IF('_Engine'!CV17=0,INDEX(Settings!$G$7:$G$11,MOD('_Engine'!CU17,10))&IF('_Engine'!CU17>10,"?","")&" AM",INDEX(Settings!$G$7:$G$11,MOD('_Engine'!CU17,10))&IF('_Engine'!CU17>10,"?","")&" AM"&CHAR(10)&INDEX(Settings!$G$7:$G$11,MOD('_Engine'!CV17,10))&IF('_Engine'!CV17>10,"?","")&" PM")))))))) -> — | AA17: =IF(OR($A17="",AA$11=""),"",IF(OR('_Engine'!$B$6>0,INDEX('_Engine'!$AM$11:$AM$60,'_Engine'!$AO17)<>"OK"),"!",IF(INDEX(Team!$H$11:$N$60,'_Engine'!$AO17,WEEKDAY(AA$11,2))<>"Work","—",IF(COUNTIF(Settings!$F$18:$F$67,AA$11)>0,"BH",IF('_Engine'!CW17+'_Engine'!CX17=0,"·",IF('_Engine'!CW17='_Engine'!CX17,INDEX(Settings!$G$7:$G$11,MOD('_Engine'!CW17,10))&IF('_Engine'!CW17>10,"?",""),IF('_Engine'!CW17=0,INDEX(Settings!$G$7:$G$11,MOD('_Engine'!CX17,10))&IF('_Engine'!CX17>10,"?","")&" PM",IF('_Engine'!CX17=0,INDEX(Settings!$G$7:$G$11,MOD('_Engine'!CW17,10))&IF('_Engine'!CW17>10,"?","")&" AM",INDEX(Settings!$G$7:$G$11,MOD('_Engine'!CW17,10))&IF('_Engine'!CW17>10,"?","")&" AM"&CHAR(10)&INDEX(Settings!$G$7:$G$11,MOD('_Engine'!CX17,10))&IF('_Engine'!CX17>10,"?","")&" PM")))))))) -> — | AB17: =IF(OR($A17="",AB$11=""),"",IF(OR('_Engine'!$B$6>0,INDEX('_Engine'!$AM$11:$AM$60,'_Engine'!$AO17)<>"OK"),"!",IF(INDEX(Team!$H$11:$N$60,'_Engine'!$AO17,WEEKDAY(AB$11,2))<>"Work","—",IF(COUNTIF(Settings!$F$18:$F$67,AB$11)>0,"BH",IF('_Engine'!CY17+'_Engine'!CZ17=0,"·",IF('_Engine'!CY17='_Engine'!CZ17,INDEX(Settings!$G$7:$G$11,MOD('_Engine'!CY17,10))&IF('_Engine'!CY17>10,"?",""),IF('_Engine'!CY17=0,INDEX(Settings!$G$7:$G$11,MOD('_Engine'!CZ17,10))&IF('_Engine'!CZ17>10,"?","")&" PM",IF('_Engine'!CZ17=0,INDEX(Settings!$G$7:$G$11,MOD('_Engine'!CY17,10))&IF('_Engine'!CY17>10,"?","")&" AM",INDEX(Settings!$G$7:$G$11,MOD('_Engine'!CY17,10))&IF('_Engine'!CY17>10,"?","")&" AM"&CHAR(10)&INDEX(Settings!$G$7:$G$11,MOD('_Engine'!CZ17,10))&IF('_Engine'!CZ17>10,"?","")&" PM")))))))) -> — | AC17: =IF(OR($A17="",AC$11=""),"",IF(OR('_Engine'!$B$6>0,INDEX('_Engine'!$AM$11:$AM$60,'_Engine'!$AO17)<>"OK"),"!",IF(INDEX(Team!$H$11:$N$60,'_Engine'!$AO17,WEEKDAY(AC$11,2))<>"Work","—",IF(COUNTIF(Settings!$F$18:$F$67,AC$11)>0,"BH",IF('_Engine'!DA17+'_Engine'!DB17=0,"·",IF('_Engine'!DA17='_Engine'!DB17,INDEX(Settings!$G$7:$G$11,MOD('_Engine'!DA17,10))&IF('_Engine'!DA17>10,"?",""),IF('_Engine'!DA17=0,INDEX(Settings!$G$7:$G$11,MOD('_Engine'!DB17,10))&IF('_Engine'!DB17>10,"?","")&" PM",IF('_Engine'!DB17=0,INDEX(Settings!$G$7:$G$11,MOD('_Engine'!DA17,10))&IF('_Engine'!DA17>10,"?","")&" AM",INDEX(Settings!$G$7:$G$11,MOD('_Engine'!DA17,10))&IF('_Engine'!DA17>10,"?","")&" AM"&CHAR(10)&INDEX(Settings!$G$7:$G$11,MOD('_Engine'!DB17,10))&IF('_Engine'!DB17>10,"?","")&" PM")))))))) -> · | AD17: =IF(OR($A17="",AD$11=""),"",IF(OR('_Engine'!$B$6>0,INDEX('_Engine'!$AM$11:$AM$60,'_Engine'!$AO17)<>"OK"),"!",IF(INDEX(Team!$H$11:$N$60,'_Engine'!$AO17,WEEKDAY(AD$11,2))<>"Work","—",IF(COUNTIF(Settings!$F$18:$F$67,AD$11)>0,"BH",IF('_Engine'!DC17+'_Engine'!DD17=0,"·",IF('_Engine'!DC17='_Engine'!DD17,INDEX(Settings!$G$7:$G$11,MOD('_Engine'!DC17,10))&IF('_Engine'!DC17>10,"?",""),IF('_Engine'!DC17=0,INDEX(Settings!$G$7:$G$11,MOD('_Engine'!DD17,10))&IF('_Engine'!DD17>10,"?","")&" PM",IF('_Engine'!DD17=0,INDEX(Settings!$G$7:$G$11,MOD('_Engine'!DC17,10))&IF('_Engine'!DC17>10,"?","")&" AM",INDEX(Settings!$G$7:$G$11,MOD('_Engine'!DC17,10))&IF('_Engine'!DC17>10,"?","")&" AM"&CHAR(10)&INDEX(Settings!$G$7:$G$11,MOD('_Engine'!DD17,10))&IF('_Engine'!DD17>10,"?","")&" PM")))))))) -> · | AE17: =IF(OR($A17="",AE$11=""),"",IF(OR('_Engine'!$B$6>0,INDEX('_Engine'!$AM$11:$AM$60,'_Engine'!$AO17)<>"OK"),"!",IF(INDEX(Team!$H$11:$N$60,'_Engine'!$AO17,WEEKDAY(AE$11,2))<>"Work","—",IF(COUNTIF(Settings!$F$18:$F$67,AE$11)>0,"BH",IF('_Engine'!DE17+'_Engine'!DF17=0,"·",IF('_Engine'!DE17='_Engine'!DF17,INDEX(Settings!$G$7:$G$11,MOD('_Engine'!DE17,10))&IF('_Engine'!DE17>10,"?",""),IF('_Engine'!DE17=0,INDEX(Settings!$G$7:$G$11,MOD('_Engine'!DF17,10))&IF('_Engine'!DF17>10,"?","")&" PM",IF('_Engine'!DF17=0,INDEX(Settings!$G$7:$G$11,MOD('_Engine'!DE17,10))&IF('_Engine'!DE17>10,"?","")&" AM",INDEX(Settings!$G$7:$G$11,MOD('_Engine'!DE17,10))&IF('_Engine'!DE17>10,"?","")&" AM"&CHAR(10)&INDEX(Settings!$G$7:$G$11,MOD('_Engine'!DF17,10))&IF('_Engine'!DF17>10,"?","")&" PM")))))))) -> · | AF17: =IF(OR($A17="",AF$11=""),"",IF(OR('_Engine'!$B$6>0,INDEX('_Engine'!$AM$11:$AM$60,'_Engine'!$AO17)<>"OK"),"!",IF(INDEX(Team!$H$11:$N$60,'_Engine'!$AO17,WEEKDAY(AF$11,2))<>"Work","—",IF(COUNTIF(Settings!$F$18:$F$67,AF$11)>0,"BH",IF('_Engine'!DG17+'_Engine'!DH17=0,"·",IF('_Engine'!DG17='_Engine'!DH17,INDEX(Settings!$G$7:$G$11,MOD('_Engine'!DG17,10))&IF('_Engine'!DG17>10,"?",""),IF('_Engine'!DG17=0,INDEX(Settings!$G$7:$G$11,MOD('_Engine'!DH17,10))&IF('_Engine'!DH17>10,"?","")&" PM",IF('_Engine'!DH17=0,INDEX(Settings!$G$7:$G$11,MOD('_Engine'!DG17,10))&IF('_Engine'!DG17>10,"?","")&" AM",INDEX(Settings!$G$7:$G$11,MOD('_Engine'!DG17,10))&IF('_Engine'!DG17>10,"?","")&" AM"&CHAR(10)&INDEX(Settings!$G$7:$G$11,MOD('_Engine'!DH17,10))&IF('_Engine'!DH17>10,"?","")&" PM")))))))) -> H AM H? PM | AG17: =IF(OR($A17="",AG$11=""),"",IF(OR('_Engine'!$B$6>0,INDEX('_Engine'!$AM$11:$AM$60,'_Engine'!$AO17)<>"OK"),"!",IF(INDEX(Team!$H$11:$N$60,'_Engine'!$AO17,WEEKDAY(AG$11,2))<>"Work","—",IF(COUNTIF(Settings!$F$18:$F$67,AG$11)>0,"BH",IF('_Engine'!DI17+'_Engine'!DJ17=0,"·",IF('_Engine'!DI17='_Engine'!DJ17,INDEX(Settings!$G$7:$G$11,MOD('_Engine'!DI17,10))&IF('_Engine'!DI17>10,"?",""),IF('_Engine'!DI17=0,INDEX(Settings!$G$7:$G$11,MOD('_Engine'!DJ17,10))&IF('_Engine'!DJ17>10,"?","")&" PM",IF('_Engine'!DJ17=0,INDEX(Settings!$G$7:$G$11,MOD('_Engine'!DI17,10))&IF('_Engine'!DI17>10,"?","")&" AM",INDEX(Settings!$G$7:$G$11,MOD('_Engine'!DI17,10))&IF('_Engine'!DI17>10,"?","")&" AM"&CHAR(10)&INDEX(Settings!$G$7:$G$11,MOD('_Engine'!DJ17,10))&IF('_Engine'!DJ17>10,"?","")&" PM")))))))) -> — | AH17: =IF(OR($A17="",AH$11=""),"",IF(OR('_Engine'!$B$6>0,INDEX('_Engine'!$AM$11:$AM$60,'_Engine'!$AO17)<>"OK"),"!",IF(INDEX(Team!$H$11:$N$60,'_Engine'!$AO17,WEEKDAY(AH$11,2))<>"Work","—",IF(COUNTIF(Settings!$F$18:$F$67,AH$11)>0,"BH",IF('_Engine'!DK17+'_Engine'!DL17=0,"·",IF('_Engine'!DK17='_Engine'!DL17,INDEX(Settings!$G$7:$G$11,MOD('_Engine'!DK17,10))&IF('_Engine'!DK17>10,"?",""),IF('_Engine'!DK17=0,INDEX(Settings!$G$7:$G$11,MOD('_Engine'!DL17,10))&IF('_Engine'!DL17>10,"?","")&" PM",IF('_Engine'!DL17=0,INDEX(Settings!$G$7:$G$11,MOD('_Engine'!DK17,10))&IF('_Engine'!DK17>10,"?","")&" AM",INDEX(Settings!$G$7:$G$11,MOD('_Engine'!DK17,10))&IF('_Engine'!DK17>10,"?","")&" AM"&CHAR(10)&INDEX(Settings!$G$7:$G$11,MOD('_Engine'!DL17,10))&IF('_Engine'!DL17>10,"?","")&" PM")))))))) -> —
A18: =IF('_Engine'!AO18=0,"",IF(INDEX(Team!$B$11:$B$60,'_Engine'!AO18)="","[Unnamed]",INDEX(Team!$B$11:$B$60,'_Engine'!AO18))) | B18: =IF('_Engine'!AO18=0,"",INDEX('_Engine'!$AN$11:$AN$60,'_Engine'!AO18)) | C18: =IF('_Engine'!AO18=0,"",INDEX(Team!$C$11:$C$60,'_Engine'!AO18)) | D18: =IF(OR($A18="",D$11=""),"",IF(OR('_Engine'!$B$6>0,INDEX('_Engine'!$AM$11:$AM$60,'_Engine'!$AO18)<>"OK"),"!",IF(INDEX(Team!$H$11:$N$60,'_Engine'!$AO18,WEEKDAY(D$11,2))<>"Work","—",IF(COUNTIF(Settings!$F$18:$F$67,D$11)>0,"BH",IF('_Engine'!BC18+'_Engine'!BD18=0,"·",IF('_Engine'!BC18='_Engine'!BD18,INDEX(Settings!$G$7:$G$11,MOD('_Engine'!BC18,10))&IF('_Engine'!BC18>10,"?",""),IF('_Engine'!BC18=0,INDEX(Settings!$G$7:$G$11,MOD('_Engine'!BD18,10))&IF('_Engine'!BD18>10,"?","")&" PM",IF('_Engine'!BD18=0,INDEX(Settings!$G$7:$G$11,MOD('_Engine'!BC18,10))&IF('_Engine'!BC18>10,"?","")&" AM",INDEX(Settings!$G$7:$G$11,MOD('_Engine'!BC18,10))&IF('_Engine'!BC18>10,"?","")&" AM"&CHAR(10)&INDEX(Settings!$G$7:$G$11,MOD('_Engine'!BD18,10))&IF('_Engine'!BD18>10,"?","")&" PM")))))))) | E18: =IF(OR($A18="",E$11=""),"",IF(OR('_Engine'!$B$6>0,INDEX('_Engine'!$AM$11:$AM$60,'_Engine'!$AO18)<>"OK"),"!",IF(INDEX(Team!$H$11:$N$60,'_Engine'!$AO18,WEEKDAY(E$11,2))<>"Work","—",IF(COUNTIF(Settings!$F$18:$F$67,E$11)>0,"BH",IF('_Engine'!BE18+'_Engine'!BF18=0,"·",IF('_Engine'!BE18='_Engine'!BF18,INDEX(Settings!$G$7:$G$11,MOD('_Engine'!BE18,10))&IF('_Engine'!BE18>10,"?",""),IF('_Engine'!BE18=0,INDEX(Settings!$G$7:$G$11,MOD('_Engine'!BF18,10))&IF('_Engine'!BF18>10,"?","")&" PM",IF('_Engine'!BF18=0,INDEX(Settings!$G$7:$G$11,MOD('_Engine'!BE18,10))&IF('_Engine'!BE18>10,"?","")&" AM",INDEX(Settings!$G$7:$G$11,MOD('_Engine'!BE18,10))&IF('_Engine'!BE18>10,"?","")&" AM"&CHAR(10)&INDEX(Settings!$G$7:$G$11,MOD('_Engine'!BF18,10))&IF('_Engine'!BF18>10,"?","")&" PM")))))))) | F18: =IF(OR($A18="",F$11=""),"",IF(OR('_Engine'!$B$6>0,INDEX('_Engine'!$AM$11:$AM$60,'_Engine'!$AO18)<>"OK"),"!",IF(INDEX(Team!$H$11:$N$60,'_Engine'!$AO18,WEEKDAY(F$11,2))<>"Work","—",IF(COUNTIF(Settings!$F$18:$F$67,F$11)>0,"BH",IF('_Engine'!BG18+'_Engine'!BH18=0,"·",IF('_Engine'!BG18='_Engine'!BH18,INDEX(Settings!$G$7:$G$11,MOD('_Engine'!BG18,10))&IF('_Engine'!BG18>10,"?",""),IF('_Engine'!BG18=0,INDEX(Settings!$G$7:$G$11,MOD('_Engine'!BH18,10))&IF('_Engine'!BH18>10,"?","")&" PM",IF('_Engine'!BH18=0,INDEX(Settings!$G$7:$G$11,MOD('_Engine'!BG18,10))&IF('_Engine'!BG18>10,"?","")&" AM",INDEX(Settings!$G$7:$G$11,MOD('_Engine'!BG18,10))&IF('_Engine'!BG18>10,"?","")&" AM"&CHAR(10)&INDEX(Settings!$G$7:$G$11,MOD('_Engine'!BH18,10))&IF('_Engine'!BH18>10,"?","")&" PM")))))))) | G18: =IF(OR($A18="",G$11=""),"",IF(OR('_Engine'!$B$6>0,INDEX('_Engine'!$AM$11:$AM$60,'_Engine'!$AO18)<>"OK"),"!",IF(INDEX(Team!$H$11:$N$60,'_Engine'!$AO18,WEEKDAY(G$11,2))<>"Work","—",IF(COUNTIF(Settings!$F$18:$F$67,G$11)>0,"BH",IF('_Engine'!BI18+'_Engine'!BJ18=0,"·",IF('_Engine'!BI18='_Engine'!BJ18,INDEX(Settings!$G$7:$G$11,MOD('_Engine'!BI18,10))&IF('_Engine'!BI18>10,"?",""),IF('_Engine'!BI18=0,INDEX(Settings!$G$7:$G$11,MOD('_Engine'!BJ18,10))&IF('_Engine'!BJ18>10,"?","")&" PM",IF('_Engine'!BJ18=0,INDEX(Settings!$G$7:$G$11,MOD('_Engine'!BI18,10))&IF('_Engine'!BI18>10,"?","")&" AM",INDEX(Settings!$G$7:$G$11,MOD('_Engine'!BI18,10))&IF('_Engine'!BI18>10,"?","")&" AM"&CHAR(10)&INDEX(Settings!$G$7:$G$11,MOD('_Engine'!BJ18,10))&IF('_Engine'!BJ18>10,"?","")&" PM")))))))) | H18: =IF(OR($A18="",H$11=""),"",IF(OR('_Engine'!$B$6>0,INDEX('_Engine'!$AM$11:$AM$60,'_Engine'!$AO18)<>"OK"),"!",IF(INDEX(Team!$H$11:$N$60,'_Engine'!$AO18,WEEKDAY(H$11,2))<>"Work","—",IF(COUNTIF(Settings!$F$18:$F$67,H$11)>0,"BH",IF('_Engine'!BK18+'_Engine'!BL18=0,"·",IF('_Engine'!BK18='_Engine'!BL18,INDEX(Settings!$G$7:$G$11,MOD('_Engine'!BK18,10))&IF('_Engine'!BK18>10,"?",""),IF('_Engine'!BK18=0,INDEX(Settings!$G$7:$G$11,MOD('_Engine'!BL18,10))&IF('_Engine'!BL18>10,"?","")&" PM",IF('_Engine'!BL18=0,INDEX(Settings!$G$7:$G$11,MOD('_Engine'!BK18,10))&IF('_Engine'!BK18>10,"?","")&" AM",INDEX(Settings!$G$7:$G$11,MOD('_Engine'!BK18,10))&IF('_Engine'!BK18>10,"?","")&" AM"&CHAR(10)&INDEX(Settings!$G$7:$G$11,MOD('_Engine'!BL18,10))&IF('_Engine'!BL18>10,"?","")&" PM")))))))) | I18: =IF(OR($A18="",I$11=""),"",IF(OR('_Engine'!$B$6>0,INDEX('_Engine'!$AM$11:$AM$60,'_Engine'!$AO18)<>"OK"),"!",IF(INDEX(Team!$H$11:$N$60,'_Engine'!$AO18,WEEKDAY(I$11,2))<>"Work","—",IF(COUNTIF(Settings!$F$18:$F$67,I$11)>0,"BH",IF('_Engine'!BM18+'_Engine'!BN18=0,"·",IF('_Engine'!BM18='_Engine'!BN18,INDEX(Settings!$G$7:$G$11,MOD('_Engine'!BM18,10))&IF('_Engine'!BM18>10,"?",""),IF('_Engine'!BM18=0,INDEX(Settings!$G$7:$G$11,MOD('_Engine'!BN18,10))&IF('_Engine'!BN18>10,"?","")&" PM",IF('_Engine'!BN18=0,INDEX(Settings!$G$7:$G$11,MOD('_Engine'!BM18,10))&IF('_Engine'!BM18>10,"?","")&" AM",INDEX(Settings!$G$7:$G$11,MOD('_Engine'!BM18,10))&IF('_Engine'!BM18>10,"?","")&" AM"&CHAR(10)&INDEX(Settings!$G$7:$G$11,MOD('_Engine'!BN18,10))&IF('_Engine'!BN18>10,"?","")&" PM")))))))) | J18: =IF(OR($A18="",J$11=""),"",IF(OR('_Engine'!$B$6>0,INDEX('_Engine'!$AM$11:$AM$60,'_Engine'!$AO18)<>"OK"),"!",IF(INDEX(Team!$H$11:$N$60,'_Engine'!$AO18,WEEKDAY(J$11,2))<>"Work","—",IF(COUNTIF(Settings!$F$18:$F$67,J$11)>0,"BH",IF('_Engine'!BO18+'_Engine'!BP18=0,"·",IF('_Engine'!BO18='_Engine'!BP18,INDEX(Settings!$G$7:$G$11,MOD('_Engine'!BO18,10))&IF('_Engine'!BO18>10,"?",""),IF('_Engine'!BO18=0,INDEX(Settings!$G$7:$G$11,MOD('_Engine'!BP18,10))&IF('_Engine'!BP18>10,"?","")&" PM",IF('_Engine'!BP18=0,INDEX(Settings!$G$7:$G$11,MOD('_Engine'!BO18,10))&IF('_Engine'!BO18>10,"?","")&" AM",INDEX(Settings!$G$7:$G$11,MOD('_Engine'!BO18,10))&IF('_Engine'!BO18>10,"?","")&" AM"&CHAR(10)&INDEX(Settings!$G$7:$G$11,MOD('_Engine'!BP18,10))&IF('_Engine'!BP18>10,"?","")&" PM")))))))) | K18: =IF(OR($A18="",K$11=""),"",IF(OR('_Engine'!$B$6>0,INDEX('_Engine'!$AM$11:$AM$60,'_Engine'!$AO18)<>"OK"),"!",IF(INDEX(Team!$H$11:$N$60,'_Engine'!$AO18,WEEKDAY(K$11,2))<>"Work","—",IF(COUNTIF(Settings!$F$18:$F$67,K$11)>0,"BH",IF('_Engine'!BQ18+'_Engine'!BR18=0,"·",IF('_Engine'!BQ18='_Engine'!BR18,INDEX(Settings!$G$7:$G$11,MOD('_Engine'!BQ18,10))&IF('_Engine'!BQ18>10,"?",""),IF('_Engine'!BQ18=0,INDEX(Settings!$G$7:$G$11,MOD('_Engine'!BR18,10))&IF('_Engine'!BR18>10,"?","")&" PM",IF('_Engine'!BR18=0,INDEX(Settings!$G$7:$G$11,MOD('_Engine'!BQ18,10))&IF('_Engine'!BQ18>10,"?","")&" AM",INDEX(Settings!$G$7:$G$11,MOD('_Engine'!BQ18,10))&IF('_Engine'!BQ18>10,"?","")&" AM"&CHAR(10)&INDEX(Settings!$G$7:$G$11,MOD('_Engine'!BR18,10))&IF('_Engine'!BR18>10,"?","")&" PM")))))))) | L18: =IF(OR($A18="",L$11=""),"",IF(OR('_Engine'!$B$6>0,INDEX('_Engine'!$AM$11:$AM$60,'_Engine'!$AO18)<>"OK"),"!",IF(INDEX(Team!$H$11:$N$60,'_Engine'!$AO18,WEEKDAY(L$11,2))<>"Work","—",IF(COUNTIF(Settings!$F$18:$F$67,L$11)>0,"BH",IF('_Engine'!BS18+'_Engine'!BT18=0,"·",IF('_Engine'!BS18='_Engine'!BT18,INDEX(Settings!$G$7:$G$11,MOD('_Engine'!BS18,10))&IF('_Engine'!BS18>10,"?",""),IF('_Engine'!BS18=0,INDEX(Settings!$G$7:$G$11,MOD('_Engine'!BT18,10))&IF('_Engine'!BT18>10,"?","")&" PM",IF('_Engine'!BT18=0,INDEX(Settings!$G$7:$G$11,MOD('_Engine'!BS18,10))&IF('_Engine'!BS18>10,"?","")&" AM",INDEX(Settings!$G$7:$G$11,MOD('_Engine'!BS18,10))&IF('_Engine'!BS18>10,"?","")&" AM"&CHAR(10)&INDEX(Settings!$G$7:$G$11,MOD('_Engine'!BT18,10))&IF('_Engine'!BT18>10,"?","")&" PM")))))))) | M18: =IF(OR($A18="",M$11=""),"",IF(OR('_Engine'!$B$6>0,INDEX('_Engine'!$AM$11:$AM$60,'_Engine'!$AO18)<>"OK"),"!",IF(INDEX(Team!$H$11:$N$60,'_Engine'!$AO18,WEEKDAY(M$11,2))<>"Work","—",IF(COUNTIF(Settings!$F$18:$F$67,M$11)>0,"BH",IF('_Engine'!BU18+'_Engine'!BV18=0,"·",IF('_Engine'!BU18='_Engine'!BV18,INDEX(Settings!$G$7:$G$11,MOD('_Engine'!BU18,10))&IF('_Engine'!BU18>10,"?",""),IF('_Engine'!BU18=0,INDEX(Settings!$G$7:$G$11,MOD('_Engine'!BV18,10))&IF('_Engine'!BV18>10,"?","")&" PM",IF('_Engine'!BV18=0,INDEX(Settings!$G$7:$G$11,MOD('_Engine'!BU18,10))&IF('_Engine'!BU18>10,"?","")&" AM",INDEX(Settings!$G$7:$G$11,MOD('_Engine'!BU18,10))&IF('_Engine'!BU18>10,"?","")&" AM"&CHAR(10)&INDEX(Settings!$G$7:$G$11,MOD('_Engine'!BV18,10))&IF('_Engine'!BV18>10,"?","")&" PM")))))))) | N18: =IF(OR($A18="",N$11=""),"",IF(OR('_Engine'!$B$6>0,INDEX('_Engine'!$AM$11:$AM$60,'_Engine'!$AO18)<>"OK"),"!",IF(INDEX(Team!$H$11:$N$60,'_Engine'!$AO18,WEEKDAY(N$11,2))<>"Work","—",IF(COUNTIF(Settings!$F$18:$F$67,N$11)>0,"BH",IF('_Engine'!BW18+'_Engine'!BX18=0,"·",IF('_Engine'!BW18='_Engine'!BX18,INDEX(Settings!$G$7:$G$11,MOD('_Engine'!BW18,10))&IF('_Engine'!BW18>10,"?",""),IF('_Engine'!BW18=0,INDEX(Settings!$G$7:$G$11,MOD('_Engine'!BX18,10))&IF('_Engine'!BX18>10,"?","")&" PM",IF('_Engine'!BX18=0,INDEX(Settings!$G$7:$G$11,MOD('_Engine'!BW18,10))&IF('_Engine'!BW18>10,"?","")&" AM",INDEX(Settings!$G$7:$G$11,MOD('_Engine'!BW18,10))&IF('_Engine'!BW18>10,"?","")&" AM"&CHAR(10)&INDEX(Settings!$G$7:$G$11,MOD('_Engine'!BX18,10))&IF('_Engine'!BX18>10,"?","")&" PM")))))))) | O18: =IF(OR($A18="",O$11=""),"",IF(OR('_Engine'!$B$6>0,INDEX('_Engine'!$AM$11:$AM$60,'_Engine'!$AO18)<>"OK"),"!",IF(INDEX(Team!$H$11:$N$60,'_Engine'!$AO18,WEEKDAY(O$11,2))<>"Work","—",IF(COUNTIF(Settings!$F$18:$F$67,O$11)>0,"BH",IF('_Engine'!BY18+'_Engine'!BZ18=0,"·",IF('_Engine'!BY18='_Engine'!BZ18,INDEX(Settings!$G$7:$G$11,MOD('_Engine'!BY18,10))&IF('_Engine'!BY18>10,"?",""),IF('_Engine'!BY18=0,INDEX(Settings!$G$7:$G$11,MOD('_Engine'!BZ18,10))&IF('_Engine'!BZ18>10,"?","")&" PM",IF('_Engine'!BZ18=0,INDEX(Settings!$G$7:$G$11,MOD('_Engine'!BY18,10))&IF('_Engine'!BY18>10,"?","")&" AM",INDEX(Settings!$G$7:$G$11,MOD('_Engine'!BY18,10))&IF('_Engine'!BY18>10,"?","")&" AM"&CHAR(10)&INDEX(Settings!$G$7:$G$11,MOD('_Engine'!BZ18,10))&IF('_Engine'!BZ18>10,"?","")&" PM")))))))) | P18: =IF(OR($A18="",P$11=""),"",IF(OR('_Engine'!$B$6>0,INDEX('_Engine'!$AM$11:$AM$60,'_Engine'!$AO18)<>"OK"),"!",IF(INDEX(Team!$H$11:$N$60,'_Engine'!$AO18,WEEKDAY(P$11,2))<>"Work","—",IF(COUNTIF(Settings!$F$18:$F$67,P$11)>0,"BH",IF('_Engine'!CA18+'_Engine'!CB18=0,"·",IF('_Engine'!CA18='_Engine'!CB18,INDEX(Settings!$G$7:$G$11,MOD('_Engine'!CA18,10))&IF('_Engine'!CA18>10,"?",""),IF('_Engine'!CA18=0,INDEX(Settings!$G$7:$G$11,MOD('_Engine'!CB18,10))&IF('_Engine'!CB18>10,"?","")&" PM",IF('_Engine'!CB18=0,INDEX(Settings!$G$7:$G$11,MOD('_Engine'!CA18,10))&IF('_Engine'!CA18>10,"?","")&" AM",INDEX(Settings!$G$7:$G$11,MOD('_Engine'!CA18,10))&IF('_Engine'!CA18>10,"?","")&" AM"&CHAR(10)&INDEX(Settings!$G$7:$G$11,MOD('_Engine'!CB18,10))&IF('_Engine'!CB18>10,"?","")&" PM")))))))) | Q18: =IF(OR($A18="",Q$11=""),"",IF(OR('_Engine'!$B$6>0,INDEX('_Engine'!$AM$11:$AM$60,'_Engine'!$AO18)<>"OK"),"!",IF(INDEX(Team!$H$11:$N$60,'_Engine'!$AO18,WEEKDAY(Q$11,2))<>"Work","—",IF(COUNTIF(Settings!$F$18:$F$67,Q$11)>0,"BH",IF('_Engine'!CC18+'_Engine'!CD18=0,"·",IF('_Engine'!CC18='_Engine'!CD18,INDEX(Settings!$G$7:$G$11,MOD('_Engine'!CC18,10))&IF('_Engine'!CC18>10,"?",""),IF('_Engine'!CC18=0,INDEX(Settings!$G$7:$G$11,MOD('_Engine'!CD18,10))&IF('_Engine'!CD18>10,"?","")&" PM",IF('_Engine'!CD18=0,INDEX(Settings!$G$7:$G$11,MOD('_Engine'!CC18,10))&IF('_Engine'!CC18>10,"?","")&" AM",INDEX(Settings!$G$7:$G$11,MOD('_Engine'!CC18,10))&IF('_Engine'!CC18>10,"?","")&" AM"&CHAR(10)&INDEX(Settings!$G$7:$G$11,MOD('_Engine'!CD18,10))&IF('_Engine'!CD18>10,"?","")&" PM")))))))) | R18: =IF(OR($A18="",R$11=""),"",IF(OR('_Engine'!$B$6>0,INDEX('_Engine'!$AM$11:$AM$60,'_Engine'!$AO18)<>"OK"),"!",IF(INDEX(Team!$H$11:$N$60,'_Engine'!$AO18,WEEKDAY(R$11,2))<>"Work","—",IF(COUNTIF(Settings!$F$18:$F$67,R$11)>0,"BH",IF('_Engine'!CE18+'_Engine'!CF18=0,"·",IF('_Engine'!CE18='_Engine'!CF18,INDEX(Settings!$G$7:$G$11,MOD('_Engine'!CE18,10))&IF('_Engine'!CE18>10,"?",""),IF('_Engine'!CE18=0,INDEX(Settings!$G$7:$G$11,MOD('_Engine'!CF18,10))&IF('_Engine'!CF18>10,"?","")&" PM",IF('_Engine'!CF18=0,INDEX(Settings!$G$7:$G$11,MOD('_Engine'!CE18,10))&IF('_Engine'!CE18>10,"?","")&" AM",INDEX(Settings!$G$7:$G$11,MOD('_Engine'!CE18,10))&IF('_Engine'!CE18>10,"?","")&" AM"&CHAR(10)&INDEX(Settings!$G$7:$G$11,MOD('_Engine'!CF18,10))&IF('_Engine'!CF18>10,"?","")&" PM")))))))) | S18: =IF(OR($A18="",S$11=""),"",IF(OR('_Engine'!$B$6>0,INDEX('_Engine'!$AM$11:$AM$60,'_Engine'!$AO18)<>"OK"),"!",IF(INDEX(Team!$H$11:$N$60,'_Engine'!$AO18,WEEKDAY(S$11,2))<>"Work","—",IF(COUNTIF(Settings!$F$18:$F$67,S$11)>0,"BH",IF('_Engine'!CG18+'_Engine'!CH18=0,"·",IF('_Engine'!CG18='_Engine'!CH18,INDEX(Settings!$G$7:$G$11,MOD('_Engine'!CG18,10))&IF('_Engine'!CG18>10,"?",""),IF('_Engine'!CG18=0,INDEX(Settings!$G$7:$G$11,MOD('_Engine'!CH18,10))&IF('_Engine'!CH18>10,"?","")&" PM",IF('_Engine'!CH18=0,INDEX(Settings!$G$7:$G$11,MOD('_Engine'!CG18,10))&IF('_Engine'!CG18>10,"?","")&" AM",INDEX(Settings!$G$7:$G$11,MOD('_Engine'!CG18,10))&IF('_Engine'!CG18>10,"?","")&" AM"&CHAR(10)&INDEX(Settings!$G$7:$G$11,MOD('_Engine'!CH18,10))&IF('_Engine'!CH18>10,"?","")&" PM")))))))) | T18: =IF(OR($A18="",T$11=""),"",IF(OR('_Engine'!$B$6>0,INDEX('_Engine'!$AM$11:$AM$60,'_Engine'!$AO18)<>"OK"),"!",IF(INDEX(Team!$H$11:$N$60,'_Engine'!$AO18,WEEKDAY(T$11,2))<>"Work","—",IF(COUNTIF(Settings!$F$18:$F$67,T$11)>0,"BH",IF('_Engine'!CI18+'_Engine'!CJ18=0,"·",IF('_Engine'!CI18='_Engine'!CJ18,INDEX(Settings!$G$7:$G$11,MOD('_Engine'!CI18,10))&IF('_Engine'!CI18>10,"?",""),IF('_Engine'!CI18=0,INDEX(Settings!$G$7:$G$11,MOD('_Engine'!CJ18,10))&IF('_Engine'!CJ18>10,"?","")&" PM",IF('_Engine'!CJ18=0,INDEX(Settings!$G$7:$G$11,MOD('_Engine'!CI18,10))&IF('_Engine'!CI18>10,"?","")&" AM",INDEX(Settings!$G$7:$G$11,MOD('_Engine'!CI18,10))&IF('_Engine'!CI18>10,"?","")&" AM"&CHAR(10)&INDEX(Settings!$G$7:$G$11,MOD('_Engine'!CJ18,10))&IF('_Engine'!CJ18>10,"?","")&" PM")))))))) | U18: =IF(OR($A18="",U$11=""),"",IF(OR('_Engine'!$B$6>0,INDEX('_Engine'!$AM$11:$AM$60,'_Engine'!$AO18)<>"OK"),"!",IF(INDEX(Team!$H$11:$N$60,'_Engine'!$AO18,WEEKDAY(U$11,2))<>"Work","—",IF(COUNTIF(Settings!$F$18:$F$67,U$11)>0,"BH",IF('_Engine'!CK18+'_Engine'!CL18=0,"·",IF('_Engine'!CK18='_Engine'!CL18,INDEX(Settings!$G$7:$G$11,MOD('_Engine'!CK18,10))&IF('_Engine'!CK18>10,"?",""),IF('_Engine'!CK18=0,INDEX(Settings!$G$7:$G$11,MOD('_Engine'!CL18,10))&IF('_Engine'!CL18>10,"?","")&" PM",IF('_Engine'!CL18=0,INDEX(Settings!$G$7:$G$11,MOD('_Engine'!CK18,10))&IF('_Engine'!CK18>10,"?","")&" AM",INDEX(Settings!$G$7:$G$11,MOD('_Engine'!CK18,10))&IF('_Engine'!CK18>10,"?","")&" AM"&CHAR(10)&INDEX(Settings!$G$7:$G$11,MOD('_Engine'!CL18,10))&IF('_Engine'!CL18>10,"?","")&" PM")))))))) | V18: =IF(OR($A18="",V$11=""),"",IF(OR('_Engine'!$B$6>0,INDEX('_Engine'!$AM$11:$AM$60,'_Engine'!$AO18)<>"OK"),"!",IF(INDEX(Team!$H$11:$N$60,'_Engine'!$AO18,WEEKDAY(V$11,2))<>"Work","—",IF(COUNTIF(Settings!$F$18:$F$67,V$11)>0,"BH",IF('_Engine'!CM18+'_Engine'!CN18=0,"·",IF('_Engine'!CM18='_Engine'!CN18,INDEX(Settings!$G$7:$G$11,MOD('_Engine'!CM18,10))&IF('_Engine'!CM18>10,"?",""),IF('_Engine'!CM18=0,INDEX(Settings!$G$7:$G$11,MOD('_Engine'!CN18,10))&IF('_Engine'!CN18>10,"?","")&" PM",IF('_Engine'!CN18=0,INDEX(Settings!$G$7:$G$11,MOD('_Engine'!CM18,10))&IF('_Engine'!CM18>10,"?","")&" AM",INDEX(Settings!$G$7:$G$11,MOD('_Engine'!CM18,10))&IF('_Engine'!CM18>10,"?","")&" AM"&CHAR(10)&INDEX(Settings!$G$7:$G$11,MOD('_Engine'!CN18,10))&IF('_Engine'!CN18>10,"?","")&" PM")))))))) | W18: =IF(OR($A18="",W$11=""),"",IF(OR('_Engine'!$B$6>0,INDEX('_Engine'!$AM$11:$AM$60,'_Engine'!$AO18)<>"OK"),"!",IF(INDEX(Team!$H$11:$N$60,'_Engine'!$AO18,WEEKDAY(W$11,2))<>"Work","—",IF(COUNTIF(Settings!$F$18:$F$67,W$11)>0,"BH",IF('_Engine'!CO18+'_Engine'!CP18=0,"·",IF('_Engine'!CO18='_Engine'!CP18,INDEX(Settings!$G$7:$G$11,MOD('_Engine'!CO18,10))&IF('_Engine'!CO18>10,"?",""),IF('_Engine'!CO18=0,INDEX(Settings!$G$7:$G$11,MOD('_Engine'!CP18,10))&IF('_Engine'!CP18>10,"?","")&" PM",IF('_Engine'!CP18=0,INDEX(Settings!$G$7:$G$11,MOD('_Engine'!CO18,10))&IF('_Engine'!CO18>10,"?","")&" AM",INDEX(Settings!$G$7:$G$11,MOD('_Engine'!CO18,10))&IF('_Engine'!CO18>10,"?","")&" AM"&CHAR(10)&INDEX(Settings!$G$7:$G$11,MOD('_Engine'!CP18,10))&IF('_Engine'!CP18>10,"?","")&" PM")))))))) | X18: =IF(OR($A18="",X$11=""),"",IF(OR('_Engine'!$B$6>0,INDEX('_Engine'!$AM$11:$AM$60,'_Engine'!$AO18)<>"OK"),"!",IF(INDEX(Team!$H$11:$N$60,'_Engine'!$AO18,WEEKDAY(X$11,2))<>"Work","—",IF(COUNTIF(Settings!$F$18:$F$67,X$11)>0,"BH",IF('_Engine'!CQ18+'_Engine'!CR18=0,"·",IF('_Engine'!CQ18='_Engine'!CR18,INDEX(Settings!$G$7:$G$11,MOD('_Engine'!CQ18,10))&IF('_Engine'!CQ18>10,"?",""),IF('_Engine'!CQ18=0,INDEX(Settings!$G$7:$G$11,MOD('_Engine'!CR18,10))&IF('_Engine'!CR18>10,"?","")&" PM",IF('_Engine'!CR18=0,INDEX(Settings!$G$7:$G$11,MOD('_Engine'!CQ18,10))&IF('_Engine'!CQ18>10,"?","")&" AM",INDEX(Settings!$G$7:$G$11,MOD('_Engine'!CQ18,10))&IF('_Engine'!CQ18>10,"?","")&" AM"&CHAR(10)&INDEX(Settings!$G$7:$G$11,MOD('_Engine'!CR18,10))&IF('_Engine'!CR18>10,"?","")&" PM")))))))) | Y18: =IF(OR($A18="",Y$11=""),"",IF(OR('_Engine'!$B$6>0,INDEX('_Engine'!$AM$11:$AM$60,'_Engine'!$AO18)<>"OK"),"!",IF(INDEX(Team!$H$11:$N$60,'_Engine'!$AO18,WEEKDAY(Y$11,2))<>"Work","—",IF(COUNTIF(Settings!$F$18:$F$67,Y$11)>0,"BH",IF('_Engine'!CS18+'_Engine'!CT18=0,"·",IF('_Engine'!CS18='_Engine'!CT18,INDEX(Settings!$G$7:$G$11,MOD('_Engine'!CS18,10))&IF('_Engine'!CS18>10,"?",""),IF('_Engine'!CS18=0,INDEX(Settings!$G$7:$G$11,MOD('_Engine'!CT18,10))&IF('_Engine'!CT18>10,"?","")&" PM",IF('_Engine'!CT18=0,INDEX(Settings!$G$7:$G$11,MOD('_Engine'!CS18,10))&IF('_Engine'!CS18>10,"?","")&" AM",INDEX(Settings!$G$7:$G$11,MOD('_Engine'!CS18,10))&IF('_Engine'!CS18>10,"?","")&" AM"&CHAR(10)&INDEX(Settings!$G$7:$G$11,MOD('_Engine'!CT18,10))&IF('_Engine'!CT18>10,"?","")&" PM")))))))) | Z18: =IF(OR($A18="",Z$11=""),"",IF(OR('_Engine'!$B$6>0,INDEX('_Engine'!$AM$11:$AM$60,'_Engine'!$AO18)<>"OK"),"!",IF(INDEX(Team!$H$11:$N$60,'_Engine'!$AO18,WEEKDAY(Z$11,2))<>"Work","—",IF(COUNTIF(Settings!$F$18:$F$67,Z$11)>0,"BH",IF('_Engine'!CU18+'_Engine'!CV18=0,"·",IF('_Engine'!CU18='_Engine'!CV18,INDEX(Settings!$G$7:$G$11,MOD('_Engine'!CU18,10))&IF('_Engine'!CU18>10,"?",""),IF('_Engine'!CU18=0,INDEX(Settings!$G$7:$G$11,MOD('_Engine'!CV18,10))&IF('_Engine'!CV18>10,"?","")&" PM",IF('_Engine'!CV18=0,INDEX(Settings!$G$7:$G$11,MOD('_Engine'!CU18,10))&IF('_Engine'!CU18>10,"?","")&" AM",INDEX(Settings!$G$7:$G$11,MOD('_Engine'!CU18,10))&IF('_Engine'!CU18>10,"?","")&" AM"&CHAR(10)&INDEX(Settings!$G$7:$G$11,MOD('_Engine'!CV18,10))&IF('_Engine'!CV18>10,"?","")&" PM")))))))) | AA18: =IF(OR($A18="",AA$11=""),"",IF(OR('_Engine'!$B$6>0,INDEX('_Engine'!$AM$11:$AM$60,'_Engine'!$AO18)<>"OK"),"!",IF(INDEX(Team!$H$11:$N$60,'_Engine'!$AO18,WEEKDAY(AA$11,2))<>"Work","—",IF(COUNTIF(Settings!$F$18:$F$67,AA$11)>0,"BH",IF('_Engine'!CW18+'_Engine'!CX18=0,"·",IF('_Engine'!CW18='_Engine'!CX18,INDEX(Settings!$G$7:$G$11,MOD('_Engine'!CW18,10))&IF('_Engine'!CW18>10,"?",""),IF('_Engine'!CW18=0,INDEX(Settings!$G$7:$G$11,MOD('_Engine'!CX18,10))&IF('_Engine'!CX18>10,"?","")&" PM",IF('_Engine'!CX18=0,INDEX(Settings!$G$7:$G$11,MOD('_Engine'!CW18,10))&IF('_Engine'!CW18>10,"?","")&" AM",INDEX(Settings!$G$7:$G$11,MOD('_Engine'!CW18,10))&IF('_Engine'!CW18>10,"?","")&" AM"&CHAR(10)&INDEX(Settings!$G$7:$G$11,MOD('_Engine'!CX18,10))&IF('_Engine'!CX18>10,"?","")&" PM")))))))) | AB18: =IF(OR($A18="",AB$11=""),"",IF(OR('_Engine'!$B$6>0,INDEX('_Engine'!$AM$11:$AM$60,'_Engine'!$AO18)<>"OK"),"!",IF(INDEX(Team!$H$11:$N$60,'_Engine'!$AO18,WEEKDAY(AB$11,2))<>"Work","—",IF(COUNTIF(Settings!$F$18:$F$67,AB$11)>0,"BH",IF('_Engine'!CY18+'_Engine'!CZ18=0,"·",IF('_Engine'!CY18='_Engine'!CZ18,INDEX(Settings!$G$7:$G$11,MOD('_Engine'!CY18,10))&IF('_Engine'!CY18>10,"?",""),IF('_Engine'!CY18=0,INDEX(Settings!$G$7:$G$11,MOD('_Engine'!CZ18,10))&IF('_Engine'!CZ18>10,"?","")&" PM",IF('_Engine'!CZ18=0,INDEX(Settings!$G$7:$G$11,MOD('_Engine'!CY18,10))&IF('_Engine'!CY18>10,"?","")&" AM",INDEX(Settings!$G$7:$G$11,MOD('_Engine'!CY18,10))&IF('_Engine'!CY18>10,"?","")&" AM"&CHAR(10)&INDEX(Settings!$G$7:$G$11,MOD('_Engine'!CZ18,10))&IF('_Engine'!CZ18>10,"?","")&" PM")))))))) | AC18: =IF(OR($A18="",AC$11=""),"",IF(OR('_Engine'!$B$6>0,INDEX('_Engine'!$AM$11:$AM$60,'_Engine'!$AO18)<>"OK"),"!",IF(INDEX(Team!$H$11:$N$60,'_Engine'!$AO18,WEEKDAY(AC$11,2))<>"Work","—",IF(COUNTIF(Settings!$F$18:$F$67,AC$11)>0,"BH",IF('_Engine'!DA18+'_Engine'!DB18=0,"·",IF('_Engine'!DA18='_Engine'!DB18,INDEX(Settings!$G$7:$G$11,MOD('_Engine'!DA18,10))&IF('_Engine'!DA18>10,"?",""),IF('_Engine'!DA18=0,INDEX(Settings!$G$7:$G$11,MOD('_Engine'!DB18,10))&IF('_Engine'!DB18>10,"?","")&" PM",IF('_Engine'!DB18=0,INDEX(Settings!$G$7:$G$11,MOD('_Engine'!DA18,10))&IF('_Engine'!DA18>10,"?","")&" AM",INDEX(Settings!$G$7:$G$11,MOD('_Engine'!DA18,10))&IF('_Engine'!DA18>10,"?","")&" AM"&CHAR(10)&INDEX(Settings!$G$7:$G$11,MOD('_Engine'!DB18,10))&IF('_Engine'!DB18>10,"?","")&" PM")))))))) | AD18: =IF(OR($A18="",AD$11=""),"",IF(OR('_Engine'!$B$6>0,INDEX('_Engine'!$AM$11:$AM$60,'_Engine'!$AO18)<>"OK"),"!",IF(INDEX(Team!$H$11:$N$60,'_Engine'!$AO18,WEEKDAY(AD$11,2))<>"Work","—",IF(COUNTIF(Settings!$F$18:$F$67,AD$11)>0,"BH",IF('_Engine'!DC18+'_Engine'!DD18=0,"·",IF('_Engine'!DC18='_Engine'!DD18,INDEX(Settings!$G$7:$G$11,MOD('_Engine'!DC18,10))&IF('_Engine'!DC18>10,"?",""),IF('_Engine'!DC18=0,INDEX(Settings!$G$7:$G$11,MOD('_Engine'!DD18,10))&IF('_Engine'!DD18>10,"?","")&" PM",IF('_Engine'!DD18=0,INDEX(Settings!$G$7:$G$11,MOD('_Engine'!DC18,10))&IF('_Engine'!DC18>10,"?","")&" AM",INDEX(Settings!$G$7:$G$11,MOD('_Engine'!DC18,10))&IF('_Engine'!DC18>10,"?","")&" AM"&CHAR(10)&INDEX(Settings!$G$7:$G$11,MOD('_Engine'!DD18,10))&IF('_Engine'!DD18>10,"?","")&" PM")))))))) | AE18: =IF(OR($A18="",AE$11=""),"",IF(OR('_Engine'!$B$6>0,INDEX('_Engine'!$AM$11:$AM$60,'_Engine'!$AO18)<>"OK"),"!",IF(INDEX(Team!$H$11:$N$60,'_Engine'!$AO18,WEEKDAY(AE$11,2))<>"Work","—",IF(COUNTIF(Settings!$F$18:$F$67,AE$11)>0,"BH",IF('_Engine'!DE18+'_Engine'!DF18=0,"·",IF('_Engine'!DE18='_Engine'!DF18,INDEX(Settings!$G$7:$G$11,MOD('_Engine'!DE18,10))&IF('_Engine'!DE18>10,"?",""),IF('_Engine'!DE18=0,INDEX(Settings!$G$7:$G$11,MOD('_Engine'!DF18,10))&IF('_Engine'!DF18>10,"?","")&" PM",IF('_Engine'!DF18=0,INDEX(Settings!$G$7:$G$11,MOD('_Engine'!DE18,10))&IF('_Engine'!DE18>10,"?","")&" AM",INDEX(Settings!$G$7:$G$11,MOD('_Engine'!DE18,10))&IF('_Engine'!DE18>10,"?","")&" AM"&CHAR(10)&INDEX(Settings!$G$7:$G$11,MOD('_Engine'!DF18,10))&IF('_Engine'!DF18>10,"?","")&" PM")))))))) | AF18: =IF(OR($A18="",AF$11=""),"",IF(OR('_Engine'!$B$6>0,INDEX('_Engine'!$AM$11:$AM$60,'_Engine'!$AO18)<>"OK"),"!",IF(INDEX(Team!$H$11:$N$60,'_Engine'!$AO18,WEEKDAY(AF$11,2))<>"Work","—",IF(COUNTIF(Settings!$F$18:$F$67,AF$11)>0,"BH",IF('_Engine'!DG18+'_Engine'!DH18=0,"·",IF('_Engine'!DG18='_Engine'!DH18,INDEX(Settings!$G$7:$G$11,MOD('_Engine'!DG18,10))&IF('_Engine'!DG18>10,"?",""),IF('_Engine'!DG18=0,INDEX(Settings!$G$7:$G$11,MOD('_Engine'!DH18,10))&IF('_Engine'!DH18>10,"?","")&" PM",IF('_Engine'!DH18=0,INDEX(Settings!$G$7:$G$11,MOD('_Engine'!DG18,10))&IF('_Engine'!DG18>10,"?","")&" AM",INDEX(Settings!$G$7:$G$11,MOD('_Engine'!DG18,10))&IF('_Engine'!DG18>10,"?","")&" AM"&CHAR(10)&INDEX(Settings!$G$7:$G$11,MOD('_Engine'!DH18,10))&IF('_Engine'!DH18>10,"?","")&" PM")))))))) | AG18: =IF(OR($A18="",AG$11=""),"",IF(OR('_Engine'!$B$6>0,INDEX('_Engine'!$AM$11:$AM$60,'_Engine'!$AO18)<>"OK"),"!",IF(INDEX(Team!$H$11:$N$60,'_Engine'!$AO18,WEEKDAY(AG$11,2))<>"Work","—",IF(COUNTIF(Settings!$F$18:$F$67,AG$11)>0,"BH",IF('_Engine'!DI18+'_Engine'!DJ18=0,"·",IF('_Engine'!DI18='_Engine'!DJ18,INDEX(Settings!$G$7:$G$11,MOD('_Engine'!DI18,10))&IF('_Engine'!DI18>10,"?",""),IF('_Engine'!DI18=0,INDEX(Settings!$G$7:$G$11,MOD('_Engine'!DJ18,10))&IF('_Engine'!DJ18>10,"?","")&" PM",IF('_Engine'!DJ18=0,INDEX(Settings!$G$7:$G$11,MOD('_Engine'!DI18,10))&IF('_Engine'!DI18>10,"?","")&" AM",INDEX(Settings!$G$7:$G$11,MOD('_Engine'!DI18,10))&IF('_Engine'!DI18>10,"?","")&" AM"&CHAR(10)&INDEX(Settings!$G$7:$G$11,MOD('_Engine'!DJ18,10))&IF('_Engine'!DJ18>10,"?","")&" PM")))))))) | AH18: =IF(OR($A18="",AH$11=""),"",IF(OR('_Engine'!$B$6>0,INDEX('_Engine'!$AM$11:$AM$60,'_Engine'!$AO18)<>"OK"),"!",IF(INDEX(Team!$H$11:$N$60,'_Engine'!$AO18,WEEKDAY(AH$11,2))<>"Work","—",IF(COUNTIF(Settings!$F$18:$F$67,AH$11)>0,"BH",IF('_Engine'!DK18+'_Engine'!DL18=0,"·",IF('_Engine'!DK18='_Engine'!DL18,INDEX(Settings!$G$7:$G$11,MOD('_Engine'!DK18,10))&IF('_Engine'!DK18>10,"?",""),IF('_Engine'!DK18=0,INDEX(Settings!$G$7:$G$11,MOD('_Engine'!DL18,10))&IF('_Engine'!DL18>10,"?","")&" PM",IF('_Engine'!DL18=0,INDEX(Settings!$G$7:$G$11,MOD('_Engine'!DK18,10))&IF('_Engine'!DK18>10,"?","")&" AM",INDEX(Settings!$G$7:$G$11,MOD('_Engine'!DK18,10))&IF('_Engine'!DK18>10,"?","")&" AM"&CHAR(10)&INDEX(Settings!$G$7:$G$11,MOD('_Engine'!DL18,10))&IF('_Engine'!DL18>10,"?","")&" PM"))))))))
